Workbook

Sheet Case details
A4: Energy Memo: GLA Consultation
A6: Case details
A7: Date of first review: | B7: 45181
A8: Case Name: | B8: Tottenham Hotspur Stadium
A9: Case Number: | B9: 2023/0586
A10: Case Officer: | B10: Martin Jones
A11: London Borough: | B11: Haringey
A12: Application Type (Outline/Hybrid/Detailed): | B12: S73 Application
A13: Applicant: | B13: Tottenham Hotspur Property Company Limited
A14: Energy Consultant: | B14: Buro Happold
A15: Document Title: | B15: Energy Strategy Addendum
A16: Document Date: | B16: 45140
A18: Development proposals
A19: Use | B19: Floorspace/Number of units
A20: Residential | B20: TBC | C20: units
A21: Hotel | B21: TBC | C21: m²

Sheet Energy Comments
A4: Compliance Schedule - To be completed by the GLA Energy Officer
B6: Policy | C6: Policy Sub-Area | D6: Required Data (In line with EAG) | E6: Status | F6: Policy Compliance | G6: GLA Comment Reference
B7: SI 1 - Improving Air Quality (relating only to air quality impacts of energy systems; separate air quality officer consultation required) | C7: Measures/design features to reduce exposure to air pollution | D7: Measures to minimise NOx emissions from energy systems | E7: N/A | F7: Compliant | G7: =IFERROR(#REF!,"")
B9: SI 2 - Minimising Greenhouse Gas Emissions (excluding SI-2-F- WLC; separate WLC consultation required) | C9: Be Lean emissions reduction | D9: Details of energy efficiency measures | E9: Received but items still outstanding | F9: Potential Compliance-Pending Information | G9: =IFERROR(A61,"")&","&IFERROR(A62,"") -> 3,4
D10: Alignment with Cooling and Overheating | E10: Received but items still outstanding | G10: =IFERROR(A65,"")&","&IFERROR(A66,"") -> 6,7
D11: Be Lean 10% and/or 15% reduction achieved | E11: Received but items still outstanding | G11: =IFERROR(A61,"")&","&IFERROR(A62,"") -> 3,4
D12: EUI and space heating demands provided | E12: Not yet received - applicant to submit and provide reference ---> | G12: =IFERROR(A78,"") -> 14
C13: Be Clean | D13: SI 3 - Energy Infrastructure data provided (see below) | E13: Received but items still outstanding | G13: =IFERROR(A68,"")&","&IFERROR(A69,"") -> 8,9
C14: Be Green Renewable generation maximisation | D14: Roof Layout detailing maximised PV proposal | E14: Received but items still outstanding | G14: =IFERROR(A71,"") -> 10
D15: PV array metrics provided | E15: Not yet received - applicant to submit and provide reference ---> | G15: =IFERROR(A71,"") -> 10
D16: Heat Pump arrangement confirmed | E16: N/A | G16: =IFERROR(A72,"") -> 11
C17: Total carbon reduction on-site | D17: Confirmation of carbon emission factors used | E17: Received; SAP 10.2 proposed and nothing further required
D18: GLA carbon emission reporting spreadsheet v2.0 | E18: Not yet received - applicant to submit and provide reference ---> | G18: =IFERROR(A59,"") -> 2
D19: Supporting Modelling Outputs (BRUKLs/DER Worksheets) | E19: Received but items still outstanding | G19: =IFERROR(A82,"") -> 17
D20: On-site minimum met | E20: Received but items still outstanding | G20: =IFERROR(A80,"") -> 15
C21: Carbon offset payment confirmed | D21: Draft S106 wording of carbon offset (from borough) | E21: Not yet received - applicant to submit and provide reference ---> | G21: =IFERROR(A81,"") -> 16
C22: Be Seen commitment provided | D22: Written confirmation/understanding of data requirements | E22: Not yet received - applicant to submit and provide reference ---> | G22: =IFERROR(A76,"") -> 13
D23: Confirmation of Planning Stage 1 submission | E23: Not yet received - applicant to submit and provide reference ---> | G23: =IFERROR(A76,"") -> 13
B25: SI 3 - Energy Infrastructure | C25: Aligned with heating hierarchy | D25: Applicant/Heat Network Stakeholder correspondence | E25: Received but items still outstanding | F25: Potential Compliance-Pending Information | G25: =IFERROR(A68,"") -> 8
D26: Heating system details provided | E26: Received but items still outstanding | G26: =IFERROR(A69,"") -> 9
C27: Acceptable Design | D27: Futureproofed DHN connection drawings | E27: Received but items still outstanding | G27: =IFERROR(A69,"") -> 9
D28: Site heat network drawings | E28: Not yet received - applicant to submit and provide reference ---> | G28: =IFERROR(A69,"") -> 9
D29: Details of management measures proposed | E29: Not yet received - applicant to submit and provide reference ---> | G29: =IFERROR(A63,"") -> 5
B31: SI 4 - Managing Heat Risk | C31: Aligned with cooling hierarchy | D31: Completed GHA overheating tool | E31: Not yet received - applicant to submit and provide reference ---> | F31: Potential Compliance-Pending Information | G31: =IFERROR(A83,"") -> 18
D32: CIBSE dynamic overheating analysis | E32: Received but items still outstanding | G32: =IFERROR(A65,"")&","&IFERROR(A66,"") -> 6,7
D33: Confirmation that cooling criteria have been met | E33: Received but items still outstanding | G33: =IFERROR(A66,"") -> 7
B35: Application Metrics | C35: Outline Value (if applicable) | D35: Detailed Stage 1 Value | E35: Detailed Final Value
B36: Domestic carbon emissions | D36: ='CO2 performance'!D11 -> 0.8
B37: Non-domestic carbon emissions | D37: ='CO2 performance'!D21 -> 0.03655914
B38: Carbon offset payment amount | D38: 168211
B39: kWp renewable generation capacity | D39: TBC
B40: kWh annual renewable energy generation | D40: TBC
B41: Sqm of proposed PV array | D41: TBC
B42: Calculated SCOP of heat pumps | D42: N/A
B43: Heat fraction provided by heat pumps | D43: 95% (waste heat)
B44: Flow/Return temperatures proposed | D44: TBC
B45: Distribution loss assumption | D45: TBC
B46: Energy Use Intensity | D46: TBC
B47: Space Heating Demand | D47: TBC
B48: Whole Life Carbon Assessment | D48: Received and Under Separate Consultation
...

Sheet CO2 performance
E1: Unhide Column F-I if Hybrid Application
A4: Domestic (detailed) | F4: Domestic (outline/detailed)
A5: =IF('Energy Comments'!E17='Energy Comments'!B137,"SAP 2012",IF('Energy Comments'!E17='Energy Comments'!B140,"SAP 2012",IF(OR('Energy Comments'!E17='Energy Comments'!B135,'Energy Comments'!B138='Energy Comments'!E17),"SAP 10.2","SAP 10"))) -> SAP 10.2 | B5: Total residual regulated CO2 emissions | C5: Regulated CO2 emissions reductions | F5: =A5 -> SAP 10.2 | G5: Total residual regulated CO2 emissions | H5: Regulated CO2 emissions reductions
B6: (tonnes per annum) | C6: (tonnes per annum) | D6: (per cent) | G6: (tonnes per annum) | H6: (tonnes per annum) | I6: (per cent)
A7: Baseline i.e. 2021 Building Regulations | B7: 71 | F7: Baseline i.e. 2013 Building Regulations
A8: Energy Efficiency | B8: 54.9 | C8: =B7-B8 -> 16.1 | D8: =C8/$B$7 -> 0.22676056 | F8: Energy Efficiency | H8: =G7-G8 -> 0 | I8: =H8/$G$7 -> #DIV/0!
A9: CHP | B9: 12.7 | C9: =B8-B9 -> 42.2 | D9: =C9/$B$7 -> 0.5943662 | F9: CHP | H9: =G8-G9 -> 0 | I9: =H9/$G$7 -> #DIV/0!
A10: Renewable energy | B10: 14.2 | C10: =B9-B10 -> -1.5 | D10: =C10/$B$7 -> -0.021126761 | F10: Renewable energy | H10: =G9-G10 -> 0 | I10: =H10/$G$7 -> #DIV/0!
A11: Total | C11: =SUM(C8:C10) -> 56.8 | D11: =C11/$B$7 -> 0.8 | F11: Total | H11: =SUM(H8:H10) -> 0 | I11: =H11/$G$7 -> #DIV/0!
A14: Non-domestic (detailed) | F14: Non-domestic (outline/detailed)
A15: =IF('Energy Comments'!E17='Energy Comments'!B137,"SAP 2012",IF('Energy Comments'!E17='Energy Comments'!B140,"SAP 2012",IF(OR('Energy Comments'!E17='Energy Comments'!B135,'Energy Comments'!B138='Energy Comments'!E17),"SAP 10.2","SAP 10"))) -> SAP 10.2 | B15: Total residual regulated CO2 emissions | C15: Regulated CO2 emissions reductions | F15: =A15 -> SAP 10.2 | G15: Total residual regulated CO2 emissions | H15: Regulated CO2 emissions reductions
B16: (tonnes per annum) | C16: (tonnes per annum) | D16: (per cent) | G16: (tonnes per annum) | H16: (tonnes per annum) | I16: (per cent)
A17: Baseline i.e. 2021 Building Regulations | B17: 46.5 | F17: Baseline i.e. 2013 Building Regulations
A18: Energy Efficiency | B18: 43.7 | C18: =B17-B18 -> 2.8 | D18: =C18/$B$17 -> 0.060215054 | F18: Energy Efficiency | H18: =G17-G18 -> 0 | I18: =H18/$H$17 -> #DIV/0!
A19: CHP | B19: 43.7 | C19: =B18-B19 -> 0 | D19: =C19/$B$17 -> 0 | F19: CHP | H19: =G18-G19 -> 0 | I19: =H19/$H$17 -> #DIV/0!
A20: Renewable energy | B20: 44.8 | C20: =B19-B20 -> -1.1 | D20: =C20/$B$17 -> -0.023655914 | F20: Renewable energy | H20: =G19-G20 -> 0 | I20: =H20/$H$17 -> #DIV/0!
A21: Total | C21: =SUM(C18:C20) -> 1.7 | D21: =C21/$B$17 -> 0.03655914 | F21: Total | H21: =SUM(H18:H20) -> 0 | I21: =H21/$H$17 -> #DIV/0!
A24: Carbon offsetting (detailed) | F24: Carbon offsetting (outline/detailed)
B25: Shortfall (tonnes per annum) | C25: Shortfall (£) | G25: Shortfall (tonnes per annum) | H25: Shortfall (£)
A26: Domestic | B26: =B10 -> 14.2 | C26: =B26*95*30 -> 40470 | F26: Domestic | G26: =G10 -> 0 | H26: =G26*95*30 -> 0
A27: Non-domestic | B27: =B20 -> 44.8 | C27: =B27*95*30 -> 127680 | F27: Non-domestic | G27: =G20 -> 0 | H27: =G27*95*30 -> 0
A28: Total | B28: =SUM(B26:B27) -> 59 | C28: =SUM(C26:C27) -> 168150 | F28: Total | G28: =SUM(G26:G27) -> 0 | H28: =SUM(H26:H27) -> 0
