Workbook

Sheet Witness
A3: Project: | B3: 808-812 Tottenham high road | G3: Ref.:
A5: System: | B5: MEV 101 | G5: Sheet: | H5: 1 | I5: of | J5: 4
A8: System Witness Certificate
A10: The system detailed within has been witnessed to the Clients representative,
A11: the test data is a true record of the system performance achieved
A14: Witnessed By:
A17: Company:
A20: Date:
A24: Test Completed By: | D24: F. Di Bonito
A27: Services Contractor: | D27: Airflow services
A30: Date: | D30: 46034
A34: Comments:
D43: 9-11 Wellesley Avenue, Richings Park, Iver, SL0 9AX - T: 01753 654934 - E: info@balcomm.co.uk - W: www.balcomm.co.uk

Sheet Report (A)
D1: Report Sheet
A3: Project: | B3: =IF(ISBLANK(Witness!B3:F3),"",(Witness!B3:F3)) -> 808-812 Tottenham high road | G3: Ref.: | H3: =IF(ISBLANK(Witness!H3:J3),"",(Witness!H3:J3))
A5: System: | B5: =IF(ISBLANK(Witness!B5:F5),"",(Witness!B5:F5)) -> MEV 101 | G5: Sheet: | H5: 2 | I5: of | J5: =IF(ISBLANK(Witness!J5),"",(Witness!J5)) -> 4
A8: Report
A9: I was instructed to attend site on behalf of Airflow Design to commission a Nuaire extract fan located on the first floor
A10: W/C lobby. This Nuaire extract fan served 3 punkah louvres and was controlled via the use of a speed pot located internally
A11: to the unit. This speed pot was set to 60%. Due to solid ceiling I was unable to obtain a correction factor therefore I applied
A12: a standard factor of 1. All punkah louveres were balanced via the use of adjusting the punkah louvers until all were within
A13: 100-110% of design volume.
A14: All readings were recorded.
A45: Engineer: | B45: =IF(ISBLANK(Witness!D24),"",(Witness!D24)) -> F. Di Bonito | G45: Date: | H45: =IF(ISBLANK(Witness!D30),"",(Witness!D30)) -> 46034
A47: 9-11 Wellesley Avenue, Richings Park, Iver, SL0 9AX - T: 01753 654934 - E: info@balcomm.co.uk - W: www.balcomm.co.uk

Sheet Schemo (portrait)
M1: System Schematic
A3: Project: | E3: =IF(ISBLANK(Witness!B3),"",(Witness!B3)) -> 808-812 Tottenham high road | AJ3: Ref: | AN3: =IF(ISBLANK(Witness!H3),"",(Witness!H3))
A5: System: | E5: =IF(ISBLANK(Witness!B5),"",(Witness!B5)) -> MEV 101 | AJ5: Sheet: | AN5: 3 | AP5: of | AR5: =IF(ISBLANK(Witness!J5),"",(Witness!J5)) -> 4
S14: Extract discharge
H22: EG 01
Z23: EG 03
L30: EG 02
A51: Engineer: | G51: =IF(ISBLANK(Witness!D24),"",(Witness!D24)) -> F. Di Bonito | AJ51: Date: | AM51: =IF(ISBLANK(Witness!D30),"",(Witness!D30)) -> 46034
A53: 9-11 Wellesley Avenue, Richings Park, Iver, SL0 9AX - T: 01753 654934 - E: info@balcomm.co.uk - W: www.balcomm.co.uk

Sheet Extract
C1: Grille Balance Test Record
A3: Project: | B3: =IF(ISBLANK(Witness!B3:F3),"",(Witness!B3:F3)) -> 808-812 Tottenham high road | G3: Ref.: | H3: =IF(ISBLANK(Witness!H3:J3),"",(Witness!H3:J3))
A5: System: | B5: =IF(ISBLANK(Witness!B5:F5),"",(Witness!B5:F5)) -> MEV 101 | G5: Sheet: | H5: 4 | I5: of | J5: =IF(ISBLANK(Witness!J5),"",(Witness!J5)) -> 4
A7: Design Information | F7: Measured
A8: Grille No. | B8: Grille or Hood Size (mm) | C8: Area m² | D8: Design Volume m³/s | E8: Design Velocity m/s | F8: Final Velocity m/s | G8: Measured Volume m³/s | H8: Correction Factor | I8: Actual Volume m³/s | J8: Design %
E11: =IF(ISBLANK(C11),"",D11/C11) | G11: =IF(ISBLANK(F11),"",F11*C11) | H11: =IF(ISBLANK(F11),"",(J16)) | I11: =IF(ISBLANK(F11),"",G11*H11) | J11: =IF(ISBLANK(F11),"",(I11/D11)*100)
A12: Extract
A14: EG 01 | B14: 100 | C14: 0.0078 | D14: 0.008 | E14: 1.03 | F14: 1.1 | G14: 0.009 | H14: 1 | I14: 0.009 | J14: 107
A16: EG 02 | B16: 100 | C16: 0.0078 | D16: 0.008 | E16: 1.03 | F16: 1.1 | G16: 0.009 | H16: 1 | I16: 0.009 | J16: 107
A18: EG 03 | B18: 100 | C18: 0.0078 | D18: 0.015 | E18: 1.92 | F18: 2.1 | G18: 0.016 | H18: 1 | I18: 0.016 | J18: 109
E20: =IF(ISBLANK(C20),"",D20/C20) | G20: =IF(ISBLANK(F20),"",F20*C20) | H20: =IF(ISBLANK(F20),"",(J25)) | I20: =IF(ISBLANK(F20),"",G20*H20) | J20: =IF(ISBLANK(F20),"",(I20/D20)*100)
E21: =IF(ISBLANK(C21),"",D21/C21) | G21: =IF(ISBLANK(F21),"",F21*C21) | H21: =IF(ISBLANK(F21),"",(J26)) | I21: =IF(ISBLANK(F21),"",G21*H21) | J21: =IF(ISBLANK(F21),"",(I21/D21)*100)
E24: =IF(ISBLANK(C24),"",D24/C24) | G24: =IF(ISBLANK(F24),"",F24*C24) | H24: =IF(ISBLANK(F24),"",(J29)) | I24: =IF(ISBLANK(F24),"",G24*H24) | J24: =IF(ISBLANK(F24),"",(I24/D24)*100)
E25: =IF(ISBLANK(C25),"",D25/C25) | G25: =IF(ISBLANK(F25),"",F25*C25) | H25: =IF(ISBLANK(F25),"",(J30)) | I25: =IF(ISBLANK(F25),"",G25*H25) | J25: =IF(ISBLANK(F25),"",(I25/D25)*100)
E26: =IF(ISBLANK(C26),"",D26/C26) | G26: =IF(ISBLANK(F26),"",F26*C26) | H26: =IF(ISBLANK(F26),"",(J31)) | I26: =IF(ISBLANK(F26),"",G26*H26) | J26: =IF(ISBLANK(F26),"",(I26/D26)*100)
E27: =IF(ISBLANK(C27),"",D27/C27) | G27: =IF(ISBLANK(F27),"",F27*C27) | H27: =IF(ISBLANK(F27),"",(J32)) | I27: =IF(ISBLANK(F27),"",G27*H27) | J27: =IF(ISBLANK(F27),"",(I27/D27)*100)
E28: =IF(ISBLANK(C28),"",D28/C28) | G28: =IF(ISBLANK(F28),"",F28*C28) | H28: =IF(ISBLANK(F28),"",(J33)) | I28: =IF(ISBLANK(F28),"",G28*H28) | J28: =IF(ISBLANK(F28),"",(I28/D28)*100)
E29: =IF(ISBLANK(C29),"",D29/C29) | G29: =IF(ISBLANK(F29),"",F29*C29) | H29: =IF(ISBLANK(F29),"",(J34)) | I29: =IF(ISBLANK(F29),"",G29*H29) | J29: =IF(ISBLANK(F29),"",(I29/D29)*100)
E32: =IF(ISBLANK(C32),"",D32/C32) | G32: =IF(ISBLANK(F32),"",F32*C32) | H32: =IF(ISBLANK(F32),"",(J37)) | I32: =IF(ISBLANK(F32),"",G32*H32) | J32: =IF(ISBLANK(F32),"",(I32/D32)*100)
E33: =IF(ISBLANK(C33),"",D33/C33) | G33: =IF(ISBLANK(F33),"",F33*C33) | H33: =IF(ISBLANK(F33),"",(J38)) | I33: =IF(ISBLANK(F33),"",G33*H33) | J33: =IF(ISBLANK(F33),"",(I33/D33)*100)
E34: =IF(ISBLANK(C34),"",D34/C34) | G34: =IF(ISBLANK(F34),"",F34*C34) | H34: =IF(ISBLANK(F34),"",(J39)) | I34: =IF(ISBLANK(F34),"",G34*H34) | J34: =IF(ISBLANK(F34),"",(I34/D34)*100)
E35: =IF(ISBLANK(C35),"",D35/C35) | G35: =IF(ISBLANK(F35),"",F35*C35) | H35: =IF(ISBLANK(F35),"",(J40)) | I35: =IF(ISBLANK(F35),"",G35*H35) | J35: =IF(ISBLANK(F35),"",(I35/D35)*100)
... E37: =IF(ISBLANK(C37),"",D37/C37) | G37: =IF(ISBLANK(F37),"",F37*C37) | H37: =IF(ISBLANK(F37),"",(J42)) | I37: =IF(ISBLANK(F37),"",G37*H37) | J37: =IF(ISBLANK(F37),"",(I37/D37)*100)
A39: The measuring hood correction factor is derived by dividing the duct | H39: Duct Total m³/s:
A40: Pitot traverse volume by the total of the grille indicated volume | H40: Hood/Grille Total:
H41: Correction Factor: | J41: =IF(ISBLANK(J39),"",SUM(J39/J40))
A43: Comments:
A51: Engineer: | B51: =IF(ISBLANK(Witness!D24),"",(Witness!D24)) -> F. Di Bonito | G51: Date: | H51: =IF(ISBLANK(Witness!D30),"",(Witness!D30)) -> 46034
A53: 9-11 Wellesley Avenue, Richings Park, Iver, SL0 9AX - T: 01753 654934 - E: info@balcomm.co.uk - W: www.balcomm.co.uk
