Workbook
Name Centile_0: _xlfn.ANCHORARRAY(Plots!$G$37)
Name Centile_100: _xlfn.ANCHORARRAY(Plots!$G$33)
Name Centile_25: _xlfn.ANCHORARRAY(Plots!$G$36)
Name Centile_50: _xlfn.ANCHORARRAY(Plots!$G$35)
Name Centile_75: _xlfn.ANCHORARRAY(Plots!$G$34)
Name Plot_Labels: _xlfn.ANCHORARRAY(Plots!$G$12)
Name Reference: _xlfn.ANCHORARRAY(Plots!$G$18)

Sheet Cover
A1: Calculation Cover Sheet
D2: 45019
A3: Office of Origin:
A5: Project:
A7: Client :
A9: Project Number:
A11: Discipline: | B11: Environmental - | C11: •
B12: Electrical - | D12: Acoustics - | G12: Lift -
B13: Mechanical - | D13: Fire - | G13: Public Health -
A15: Title:
A18: Series:
A20: Calculation No:
A22: Status:
A24: Description:
A30: Author:
A31: Reviewed by:
A32: Number of Pages:
A33: Creation Date:
A34: Revision:
A36: Revision Information:
A37: Index | B37: Description | G37: Revision | H37: Revision | J37: Date
G38: Author | H38: Reviewer
A49: Reference Models
A50: Name | B50: Description | E50: Filing point | J50: Author | K50: Revision | L50: Date
A55: Notes:
A64: Filing Point:

Sheet Version
B2: Created by: | C2: Patrick Sharpe | D2: 45019
B3: Checked by: | F3: Version | G3: Summary of changes | H3: Version Author | I3: Date | J3: Version Reviewer | K3: Date
F4: 1.0 | G4: Spreadsheet adapted from TM59 Version 1.5 | H4: Patrick Sharpe | I4: 46003 | J4: -
F5: 1.1 | G5: Plot dynamic range fixed. Rounding included in overall percentages. Plot option included with reference line on tick marks. | H5: Patrick Sharpe | I5: 46034

Sheet Instructions
B2: Summary
B3: This worksheet is intended to assist in the interpretation and presentation of IES data produced as part of a TM52 overheating analysis. Reporting of multiple iterations of tests is supported.
B4: Instructions
B5: 1. Paste ModelIT Tabular Data into cell A1 of the ModelIT Tabular Data sheet.
B6: 2. Select relevant room groups in the ID sheet.
B7: 2. Copy the template sheet to the end of the document, and rename after the test iteration.
B8: 3. Paste data from IES into the relevant locations in the sheet created in step 2.
B9: 4. In output sheet 1, add the new sheet name in the input box.
B10: 5. All results sheets will be automatically populated, which can now be copied out for presentation purposes.

Sheet ID sheet
A1: Assessed Spaces | N1: Sorting options | O1: Grouping Schemes | P1: Room Groups in selected scheme | Q1: Room Groups | R1: Category | S1: Assessed Room Groups | T1: Category | U1: Space ID | V1: Space name | W1: Room Group | X1: Sorted | AA1: Group length | AB1: Assesed Logic
A2: Space ID | B2: Room name | C2: Grouping scheme | D2: Category | F2: Duplicate check | H2: Summary | J2: TM52 Grouping Scheme | K2: SPACE TYPE (Grouping Scheme) (Real) | N2: Space Name | O2: {=_xlfn._xlws.SORT(_xlfn._xlws.FILTER(TRANSPOSE(INDIRECT("'ModelIT Tabular Data'!A1:"&ADDRESS(1,COUNTA('ModelIT Tabular Data'!1:1)))),NOT(ISERR(SEARCH("(Grouping Scheme)",TRANSPOSE(INDIRECT("'ModelIT Tabular Data'!A1:"&ADDRESS(1,COUNTA('ModelIT Tabular Data'!1:1)))))))))} -> DHW Zones (Grouping Scheme) (Real) | P2: {=_xlfn._xlws.SORT(_xlfn.UNIQUE(INDIRECT("'ModelIT Tabular Data'!"&ADDRESS(2,MATCH(K2,'ModelIT Tabular Data'!1:1,0))&":"&ADDRESS(COUNTA('ModelIT Tabular Data'!A:A),MATCH(K2,'ModelIT Tabular Data'!1:1,0)))))} -> FAB LABS | Q2: {=_xlfn.TOCOL(J7:L16)} -> 0 | R2: {=MOD(_xlfn.SEQUENCE(ROWS(_xlfn.ANCHORARRAY(Q2)),,0),3)+1} -> 1 | S2: {=_xlfn._xlws.FILTER(_xlfn.ANCHORARRAY(Q2),_xlfn.ANCHORARRAY(Q2)>0)} -> FAB LABS | T2: {=_xlfn._xlws.FILTER(_xlfn.ANCHORARRAY(R2),_xlfn.ANCHORARRAY(Q2)>0)} -> 2 | U2: {=INDIRECT("'ModelIT Tabular Data'!"&ADDRESS(2,MATCH("Space ID",'ModelIT Tabular Data'!1:1,0))&":"&ADDRESS(COUNTA('ModelIT Tabular Data'!A:A),MATCH("Space ID",'ModelIT Tabular Data'!1:1,0)))} -> L000002F | V2: {=INDIRECT("'ModelIT Tabular Data'!"&ADDRESS(2,MATCH("Space Name (Real)",'ModelIT Tabular Data'!1:1,0))&":"&ADDRESS(COUNTA('ModelIT Tabular Data'!A:A),MATCH("Space Name (Real)",'ModelIT Tabular Data'!1:1,0)))} -> L00 FAB LAB 01 | W2: {=INDIRECT("'ModelIT Tabular Data'!"&ADDRESS(2,MATCH(K2,'ModelIT Tabular Data'!1:1,0))&":"&ADDRESS(COUNTA('ModelIT Tabular Data'!A:A),MATCH(K2,'ModelIT Tabular Data'!1:1,0)))} -> FAB LABS | X2: {=IF(EXACT(K3,N3),_xlfn.SORTBY(_xlfn.SORTBY(_xlfn.ANCHORARRAY(U2),_xlfn.ANCHORARRAY(V2)),VLOOKUP(_xlfn.SORTBY(_xlfn.ANCHORARRAY(U2),_xlfn.ANCHORARRAY(V2)),U:W,3,FALSE)),_xlfn.SORTBY(_xlfn.ANCHORARRAY(U2),_xlfn.ANCHORARRAY(V2)))} -> L000002F | Y2: {=VLOOKUP(_xlfn.ANCHORARRAY(X2),U:W,2,FALSE)} -> L00 FAB LAB 01 | Z2: {=VLOOKUP(_xlfn.ANCHORARRAY(X2),U:W,3,FALSE)} -> FAB LABS | AA2: {=_xlfn.SEQUENCE(ROWS(K7:K16),,,0)} -> 1 | AB2: {=MMULT(IF(EXACT(TRANSPOSE(_xlfn.ANCHORARRAY(S2)),_xlfn.ANCHORARRAY(Z2)),1,0),_xlfn.SEQUENCE(ROWS(_xlfn.ANCHORARRAY(S2)),,1,0))} -> 1
A3: {=_xlfn._xlws.FILTER(_xlfn.ANCHORARRAY(X2),_xlfn.ANCHORARRAY(AB2))} -> L000002F | B3: {=VLOOKUP(_xlfn.ANCHORARRAY(A3),U:W,2,FALSE)} -> L00 FAB LAB 01 | C3: {=VLOOKUP(_xlfn.ANCHORARRAY(A3),U:W,3,FALSE)} -> FAB LABS | D3: {=VLOOKUP(_xlfn.ANCHORARRAY(C3),S:T,2,FALSE)} -> 2 | F3: =IF(COUNTA(_xlfn.ANCHORARRAY(B3))=COUNTA(_xlfn.UNIQUE(_xlfn.ANCHORARRAY(B3))),"Unique names","Duplicate names!!!") -> Unique names | H3: This sheet is the location where the TM52 grouping schemes are selected. | J3: Sort By | K3: Room Group | N3: Room Group | O3: Ground Floor - Varying Char-Dimensions (Grouping Scheme) (Real) | Q3: FAB LABS | R3: 2 | U3: L000003F | V3: L00 FAB LAB 02 | W3: FAB LABS | X3: L000003F | Y3: L00 FAB LAB 02 | Z3: FAB LABS | AA3: 1 | AB3: 1
A4: L000003F | B4: L00 FAB LAB 02 | C4: FAB LABS | D4: 2 | O4: INCLUDE IN PART L? (Grouping Scheme) (Real) | Q4: 0 | R4: 3 | U4: L0000041 | V4: L00 FAB LAB 03 | W4: FAB LABS | X4: L0000041 | Y4: L00 FAB LAB 03 | Z4: FAB LABS | AA4: 1 | AB4: 1
A5: L0000041 | B5: L00 FAB LAB 03 | C5: FAB LABS | D5: 2 | F5: Name Check | J5: TM52 Room Groups | O5: LEVEL (Grouping Scheme) (Real) | Q5: 0 | R5: 1 | U5: L000002B | V5: L01 FAB LAB 06 | W5: FAB LABS | X5: L000000F | Y5: L00 FAB LAB 04 | Z5: FAB LABS | AA5: 1 | AB5: 1
A6: L000000F | B6: L00 FAB LAB 04 | C6: FAB LABS | D6: 2 | F6: {=IF(OR(EXACT(LEFT(_xlfn.UNIQUE(B:B),1)," "),EXACT(RIGHT(_xlfn.UNIQUE(B:B),1)," ")),"Leading or trailing spaces detected - please change names in model","No problems")} -> No problems | H6: This sheet allows some simplified sorting, which determines the order results appear in the tables in the output sheets. | J6: Category I | K6: Category II | L6: Category III | O6: LIGHTING CONTROLS (Grouping Scheme) (Real) | Q6: 0 | R6: 2 | U6: L0000044 | V6: L01 FAB LAB 07 | W6: FAB LABS | X6: L000000E | Y6: L01 FAB LAB 05 | Z6: FAB LABS | AA6: 1 | AB6: 1
A7: L000000E | B7: L01 FAB LAB 05 | C7: FAB LABS | D7: 2 | K7: FAB LABS | O7: Shading Schemes (Grouping Scheme) (Real) | Q7: 0 | R7: 3 | U7: L0000045 | V7: L01 FAB LAB 08 | W7: FAB LABS | X7: L000002B | Y7: L01 FAB LAB 06 | Z7: FAB LABS | AA7: 1 | AB7: 1
A8: L000002B | B8: L01 FAB LAB 06 | C8: FAB LABS | D8: 2 | O8: SPACE TYPE (Grouping Scheme) (Real) | Q8: 0 | R8: 1 | U8: L000000F | V8: L00 FAB LAB 04 | W8: FAB LABS | X8: L0000044 | Y8: L01 FAB LAB 07 | Z8: FAB LABS | AA8: 1 | AB8: 1
A9: L0000044 | B9: L01 FAB LAB 07 | C9: FAB LABS | D9: 2 | O9: Storeys (Grouping Scheme) (Real) | Q9: 0 | R9: 2 | U9: L0000009 | V9: L01 FAB LAB 09 | W9: FAB LABS | X9: L0000045 | Y9: L01 FAB LAB 08 | Z9: FAB LABS | AA9: 1 | AB9: 1
A10: L0000045 | B10: L01 FAB LAB 08 | C10: FAB LABS | D10: 2 | H10: Instructions | O10: SYSTEMS (Grouping Scheme) (Real) | Q10: 0 | R10: 3 | U10: L000000E | V10: L01 FAB LAB 05 | W10: FAB LABS | X10: L0000009 | Y10: L01 FAB LAB 09 | Z10: FAB LABS | AA10: 1 | AB10: 1
A11: L0000009 | B11: L01 FAB LAB 09 | C11: FAB LABS | D11: 2 | F11: {=IF(ISERR(_xlfn.UNIQUE(_xlfn.VSTACK(_xlfn.UNIQUE('ModelIT Tabular Data'!C:C,,TRUE),_xlfn.UNIQUE('ModelIT Tabular Data'!C:C,,FALSE)),,TRUE)),"",_xlfn.VSTACK("Duplicate room names:",_xlfn.UNIQUE(_xlfn.VSTACK(_xlfn.UNIQUE('ModelIT Tabular Data'!C:C,,TRUE),_xlfn.UNIQUE('ModelIT Tabular Data'!C:C,,FALSE)),,TRUE)))} -> Duplicate room names: | H11: 1. Ensure the ModelIT Tabular data is pasted into the ModelIT Tabular data tab. | Q11: 0 | R11: 1 | AA11: 1
F12: 0 | Q12: 0 | R12: 2
H13: 2. Select the TM52 grouping scheme applied in IES from the dropdown menu in cell K2. | Q13: 0 | R13: 3
Q14: 0 | R14: 1
Q15: 0 | R15: 2
H16: 3. Select the TM52 room groups that correspond to the Category I, Category II, and Category III spaces from the dropdown menus in cells J7:L16. | Q16: 0 | R16: 3
Q17: 0 | R17: 1
Q18: 0 | R18: 2
Q19: 0 | R19: 3
Q20: 0 | R20: 1
H21: 4. Choose the space sorting mode from the dropdown menu in cell K3. | Q21: 0 | R21: 2
Q22: 0 | R22: 3
H23: 5. Check whether there are any duplicate names using cell F3. or trailing spaces using cell F6. | Q23: 0 | R23: 1
Q24: 0 | R24: 2
Q25: 0 | R25: 3
H26: Notes | Q26: 0 | R26: 1
H27: 1. The space IDs, room names, and grouping schemes input here must be the same for all iterations analysed in the workbook. | Q27: 0 | R27: 2
Q28: 0 | R28: 3
Q29: 0 | R29: 1
Q30: 0 | R30: 2
H31: 2. If the space IDs change as a result of needing to remodel spaces, the updated space IDs will need to be manually updated wherever relevant in the output sheets. | Q31: 0 | R31: 3
H36: 3. All room names in the table must be unique - with no duplicate values.

Sheet ModelIT Tabular Data
A1: Space ID | B1: Space # (Real) | C1: Space Name (Real) | D1: Space Type (Real) | E1: Space Sub Type (Real) | F1: Storey # (Real) | G1: Visible? (Real) | H1: Colour (Real) | I1: Layer (Real) | J1: Inner Volume (Real) | K1: Min. Height (m) (Real) | L1: Max. Height (m) (Real) | M1: Volume (m³) (Real) | N1: Floor Area (m²) (Real) | O1: Floor Perimeter (m) (Real) | P1: Floor Lettable Area (%) (Real) | Q1: Floor Circulation Area (%) (Real) | R1: Ext. Wall Area (m²) (Real) | S1: Ext. Opening Area (m²) (Real) | T1: Include in building floor area? (Real) | U1: Ext. Window Area (m²) (Real) | V1: Ext. Window Orifice Area (m²) (Real) | W1: Ext. Window Orifice (% Floor Area) (Real) | X1: Ext. Door Area (m²) (Real) | Y1: Ext. Door Orifice Area (m²) (Real) | Z1: Ext. Door Orifice (% Floor Area) (Real) | AA1: Ext. Opening Orifice Area (m²) (Real) | AB1: Ext. Opening Orifice (% Floor Area) (Real) | AC1: Storeys (Grouping Scheme) (Real) | AD1: DHW Zones (Grouping Scheme) (Real) | AE1: Shading Schemes (Grouping Scheme) (Real) | AF1: Ground Floor - Varying Char-Dimensions (Grouping Scheme) (Real) | AG1: LEVEL (Grouping Scheme) (Real) | AH1: SPACE TYPE (Grouping Scheme) (Real) | AI1: SYSTEMS (Grouping Scheme) (Real) | AJ1: INCLUDE IN PART L? (Grouping Scheme) (Real) | AK1: LIGHTING CONTROLS (Grouping Scheme) (Real) | AL1: # Bodies (Real) | AM1: # Components (Real) | AN1: # Doors (Real) | AO1: # Holes (Real) | AP1: # Windows (Real) | AQ1: # Openings (Real) | AR1: # Ext. Doors (Real) | AS1: # Ext. Holes (Real) | AT1: # Ext. Windows (Real) | AU1: # Ext. Openings (Real) | AV1: General Template (Real) | AW1: Thermal Template (Real)
A2: L000002F | B2: 4 | C2: L00 FAB LAB 01 | D2: Building Space | E2: Room | F2: 0 | G2: Yes | H2: Blue | I2: Layer 01 | J2: Off | K2: 0 | L2: 3.1 | M2: 115.32 | N2: 37.2 | O2: 24.4 | P2: 100 <from template> | Q2: 0 <from template> | R2: 19.22 | S2: 11.609 | T2: Yes <from template> | U2: 8.691 | V2: 0 | W2: 0 | X2: 2.918 | Y2: 0.521 | Z2: 1.4 | AA2: 0.521 | AB2: 1.4 | AC2: All rooms | AD2: Non-ApHVAC spaces | AE2: Not in shading scheme | AF2: Building A - Perimeter | AG2: L00 | AH2: FAB LABS | AI2: NONE | AJ2: NO | AK2: Auto ON/OFF Daylight Dimming | AL2: 1 | AM2: 0 | AN2: 6 | AO2: 0 | AP2: 4 | AQ2: 10 | AR2: 6 | AS2: 0 | AT2: 4 | AU2: 10 | AV2: default | AW2: STOREX - FAB LAB (overheating)
A3: L000003F | B3: 5 | C3: L00 FAB LAB 02 | D3: Building Space | E3: Room | F3: 0 | G3: Yes | H3: Blue | I3: Layer 01 | J3: Off | K3: 0 | L3: 3.1 | M3: 111.6 | N3: 36 | O3: 24 | P3: 100 <from template> | Q3: 0 <from template> | R3: 18.6 | S3: 11.609 | T3: Yes <from template> | U3: 8.691 | V3: 0 | W3: 0 | X3: 2.918 | Y3: 0.521 | Z3: 1.446 | AA3: 0.521 | AB3: 1.446 | AC3: All rooms | AD3: Non-ApHVAC spaces | AE3: Not in shading scheme | AF3: Building A - Perimeter | AG3: L00 | AH3: FAB LABS | AI3: NONE | AJ3: NO | AK3: Auto ON/OFF Daylight Dimming | AL3: 1 | AM3: 0 | AN3: 6 | AO3: 0 | AP3: 4 | AQ3: 10 | AR3: 6 | AS3: 0 | AT3: 4 | AU3: 10 | AV3: default | AW3: STOREX - FAB LAB (overheating)
A4: L0000041 | B4: 6 | C4: L00 FAB LAB 03 | D4: Building Space | E4: Room | F4: 0 | G4: Yes | H4: Blue | I4: Layer 01 | J4: Off | K4: 0 | L4: 3.1 | M4: 107.88 | N4: 34.8 | O4: 23.6 | P4: 100 <from template> | Q4: 0 <from template> | R4: 17.98 | S4: 11.609 | T4: Yes <from template> | U4: 8.691 | V4: 0 | W4: 0 | X4: 2.918 | Y4: 0.521 | Z4: 1.496 | AA4: 0.521 | AB4: 1.496 | AC4: All rooms | AD4: Non-ApHVAC spaces | AE4: Not in shading scheme | AF4: Building A - Perimeter | AG4: L00 | AH4: FAB LABS | AI4: NONE | AJ4: NO | AK4: Auto ON/OFF Daylight Dimming | AL4: 1 | AM4: 0 | AN4: 6 | AO4: 0 | AP4: 4 | AQ4: 10 | AR4: 6 | AS4: 0 | AT4: 4 | AU4: 10 | AV4: default | AW4: STOREX - FAB LAB (overheating)
A5: L000002B | B5: 14 | C5: L01 FAB LAB 06 | D5: Building Space | E5: Room | F5: 2 | G5: Yes | H5: Blue | I5: Layer 01 | J5: Off | K5: 3.1 | L5: 6.025 | M5: 108.81 | N5: 37.2 | O5: 24.4 | P5: 100 <from template> | Q5: 0 <from template> | R5: 18.135 | S5: 9.269 | T5: Yes <from template> | U5: 6.351 | V5: 0 | W5: 0 | X5: 2.918 | Y5: 0.521 | Z5: 1.4 | AA5: 0.521 | AB5: 1.4 | AC5: All rooms | AD5: Non-ApHVAC spaces | AE5: Not in shading scheme | AF5: Building A - Perimeter | AG5: L01 | AH5: FAB LABS | AI5: NONE | AJ5: NO | AK5: Auto ON/OFF Daylight Dimming | AL5: 1 | AM5: 0 | AN5: 6 | AO5: 0 | AP5: 3 | AQ5: 9 | AR5: 6 | AS5: 0 | AT5: 3 | AU5: 9 | AV5: default | AW5: STOREX - FAB LAB (overheating)
A6: L0000044 | B6: 15 | C6: L01 FAB LAB 07 | D6: Building Space | E6: Room | F6: 2 | G6: Yes | H6: Blue | I6: Layer 01 | J6: Off | K6: 3.1 | L6: 6.025 | M6: 105.3 | N6: 36 | O6: 24 | P6: 100 <from template> | Q6: 0 <from template> | R6: 17.55 | S6: 9.269 | T6: Yes <from template> | U6: 6.351 | V6: 0 | W6: 0 | X6: 2.918 | Y6: 0.521 | Z6: 1.446 | AA6: 0.521 | AB6: 1.446 | AC6: All rooms | AD6: Non-ApHVAC spaces | AE6: Not in shading scheme | AF6: Building A - Perimeter | AG6: L01 | AH6: FAB LABS | AI6: NONE | AJ6: NO | AK6: Auto ON/OFF Daylight Dimming | AL6: 1 | AM6: 0 | AN6: 6 | AO6: 0 | AP6: 3 | AQ6: 9 | AR6: 6 | AS6: 0 | AT6: 3 | AU6: 9 | AV6: default | AW6: STOREX - FAB LAB (overheating)
A7: L0000045 | B7: 16 | C7: L01 FAB LAB 08 | D7: Building Space | E7: Room | F7: 2 | G7: Yes | H7: Blue | I7: Layer 01 | J7: Off | K7: 3.1 | L7: 6.025 | M7: 101.79 | N7: 34.8 | O7: 23.6 | P7: 100 <from template> | Q7: 0 <from template> | R7: 16.965 | S7: 9.269 | T7: Yes <from template> | U7: 6.351 | V7: 0 | W7: 0 | X7: 2.918 | Y7: 0.521 | Z7: 1.496 | AA7: 0.521 | AB7: 1.496 | AC7: All rooms | AD7: Non-ApHVAC spaces | AE7: Not in shading scheme | AF7: Building A - Perimeter | AG7: L01 | AH7: FAB LABS | AI7: NONE | AJ7: NO | AK7: Auto ON/OFF Daylight Dimming | AL7: 1 | AM7: 0 | AN7: 6 | AO7: 0 | AP7: 3 | AQ7: 9 | AR7: 6 | AS7: 0 | AT7: 3 | AU7: 9 | AV7: default | AW7: STOREX - FAB LAB (overheating)
A8: L000000F | B8: 40 | C8: L00 FAB LAB 04 | D8: Building Space | E8: Room | F8: 0 | G8: Yes | H8: Blue | I8: Layer 01 | J8: Off | K8: 0 | L8: 3.1 | M8: 91.14 | N8: 29.4 | O8: 21.8 | P8: 100 <from template> | Q8: 0 <from template> | R8: 15.19 | S8: 10.016 | T8: Yes <from template> | U8: 8.556 | V8: 0 | W8: 0 | X8: 1.459 | Y8: 0.26 | Z8: 0.886 | AA8: 0.26 | AB8: 0.886 | AC8: All rooms | AD8: Non-ApHVAC spaces | AE8: Not in shading scheme | AF8: Building A - Perimeter | AG8: L00 | AH8: FAB LABS | AI8: NONE | AJ8: NO | AK8: Auto ON/OFF Daylight Dimming | AL8: 1 | AM8: 0 | AN8: 3 | AO8: 0 | AP8: 4 | AQ8: 7 | AR8: 3 | AS8: 0 | AT8: 4 | AU8: 7 | AV8: default | AW8: STOREX - FAB LAB (overheating)
A9: L0000009 | B9: 43 | C9: L01 FAB LAB 09 | D9: Building Space | E9: Room | F9: 2 | G9: Yes | H9: Blue | I9: Layer 01 | J9: Off | K9: 3.1 | L9: 6.025 | M9: 85.995 | N9: 29.4 | O9: 21.8 | P9: 100 <from template> | Q9: 0 <from template> | R9: 14.332 | S9: 7.706 | T9: Yes <from template> | U9: 6.247 | V9: 0 | W9: 0 | X9: 1.459 | Y9: 0.26 | Z9: 0.886 | AA9: 0.26 | AB9: 0.886 | AC9: All rooms | AD9: Non-ApHVAC spaces | AE9: Not in shading scheme | AF9: Building A - Perimeter | AG9: L01 | AH9: FAB LABS | AI9: NONE | AJ9: NO | AK9: Auto ON/OFF Daylight Dimming | AL9: 1 | AM9: 0 | AN9: 3 | AO9: 0 | AP9: 3 | AQ9: 6 | AR9: 3 | AS9: 0 | AT9: 3 | AU9: 6 | AV9: default | AW9: STOREX - FAB LAB (overheating)
A10: L000000E | B10: 46 | C10: L01 FAB LAB 05 | D10: Building Space | E10: Room | F10: 2 | G10: Yes | H10: Blue | I10: Layer 01 | J10: Off | K10: 3.1 | L10: 6.025 | M10: 190.183 | N10: 65.02 | O10: 33.61 | P10: 100 <from template> | Q10: 0 <from template> | R10: 67.024 | S10: 9.269 | T10: Yes <from template> | U10: 6.351 | V10: 0 | W10: 0 | X10: 2.918 | Y10: 0.521 | Z10: 0.801 | AA10: 0.521 | AB10: 0.801 | AC10: All rooms | AD10: Non-ApHVAC spaces | AE10: Not in shading scheme | AF10: Building A - Perimeter | AG10: L01 | AH10: FAB LABS | AI10: NONE | AJ10: NO | AK10: Auto ON/OFF Daylight Dimming | AL10: 1 | AM10: 0 | AN10: 6 | AO10: 0 | AP10: 3 | AQ10: 9 | AR10: 6 | AS10: 0 | AT10: 3 | AU10: 9 | AV10: default | AW10: STOREX - FAB LAB (overheating)

Sheet Output Sheet 1
F1: =F2 -> DSY1 2020 | V1: =V2 -> DSY2 2020 | AL1: =AL2 -> DSY3 2020 | BB1: =BB2 -> DSY1 2050 | BR1: =BR2 -> DSY2 2050 | CH1: =CH2 -> DSY3 2050
B2: Summary | E2: Sheet name: | F2: DSY1 2020 | N2: NV compliance (%) | O2: =ROUNDDOWN(COUNTIF(_xlfn.ANCHORARRAY(N7),"PASS")/COUNTA(_xlfn.ANCHORARRAY(N7)),2) -> 1 | Q2: IES TM52 room group output sheet | U2: Sheet name: | V2: DSY2 2020 | AD2: NV compliance (%) | AE2: =ROUNDDOWN(COUNTIF(_xlfn.ANCHORARRAY(AD7),"PASS")/COUNTA(_xlfn.ANCHORARRAY(AD7)),2) -> 1 | AG2: IES TM52 room group output sheet | AK2: Sheet name: | AL2: DSY3 2020 | AT2: NV compliance (%) | AU2: =ROUNDDOWN(COUNTIF(_xlfn.ANCHORARRAY(AT7),"PASS")/COUNTA(_xlfn.ANCHORARRAY(AT7)),2) -> 1 | AW2: IES TM52 room group output sheet | BA2: Sheet name: | BB2: DSY1 2050 | BJ2: NV compliance (%) | BK2: =ROUNDDOWN(COUNTIF(_xlfn.ANCHORARRAY(BJ7),"PASS")/COUNTA(_xlfn.ANCHORARRAY(BJ7)),2) -> 1 | BM2: IES TM52 room group output sheet | BQ2: Sheet name: | BR2: DSY2 2050 | BZ2: NV compliance (%) | CA2: =ROUNDDOWN(COUNTIF(_xlfn.ANCHORARRAY(BZ7),"PASS")/COUNTA(_xlfn.ANCHORARRAY(BZ7)),2) -> 1 | CC2: IES TM52 room group output sheet | CG2: Sheet name: | CH2: DSY3 2050 | CP2: NV compliance (%) | CQ2: =ROUNDDOWN(COUNTIF(_xlfn.ANCHORARRAY(CP7),"PASS")/COUNTA(_xlfn.ANCHORARRAY(CP7)),2) -> 1 | CS2: IES TM52 room group output sheet
B3: This sheet provides a detailed summary of the overheating criteria and compliance statistics for each space. | N3: Maximum operative temperature | O3: =MAX(_xlfn.ANCHORARRAY(O7)) -> 31 | AD3: Maximum operative temperature | AE3: =MAX(_xlfn.ANCHORARRAY(AE7)) -> 32.3 | AT3: Maximum operative temperature | AU3: =MAX(_xlfn.ANCHORARRAY(AU7)) -> 31.6 | BJ3: Maximum operative temperature | BK3: =MAX(_xlfn.ANCHORARRAY(BK7)) -> 32.4 | BZ3: Maximum operative temperature | CA3: =MAX(_xlfn.ANCHORARRAY(CA7)) -> 33.3 | CP3: Maximum operative temperature | CQ3: =MAX(_xlfn.ANCHORARRAY(CQ7)) -> 32.7
N4: Maximum outdoor air temperature | O4: {=INDIRECT("'"&F2&"'!H2")} -> 34.6 | AD4: Maximum outdoor air temperature | AE4: {=INDIRECT("'"&V2&"'!H2")} -> 38.6 | AT4: Maximum outdoor air temperature | AU4: {=INDIRECT("'"&AL2&"'!H2")} -> 35 | BJ4: Maximum outdoor air temperature | BK4: {=INDIRECT("'"&BB2&"'!H2")} -> 36.4 | BZ4: Maximum outdoor air temperature | CA4: {=INDIRECT("'"&BR2&"'!H2")} -> 39.9 | CP4: Maximum outdoor air temperature | CQ4: {=INDIRECT("'"&CH2&"'!H2")} -> 36.3
H5: Overheating criteria | X5: Overheating criteria | AN5: Overheating criteria | BD5: Overheating criteria | BT5: Overheating criteria | CJ5: Overheating criteria
B6: A room-groups output sheet is generated that can be copied into IES to help visualise the compliance statistics by location on the 3D model. | E6: Space ID | F6: Grouping scheme | G6: Room Name | H6: Criterion 1 (he<3%) | I6: PASS/FAIL | J6: Criterion 2 (We≤6Kh) | K6: PASS/FAIL | L6: Criterion 3 (Tupp≤4K) | M6: PASS/FAIL | N6: TM52 PASS/FAIL | O6: Maximum operative temperature (°C) | Q6: Space ID | R6: TM52 PASS/FAIL NV Criteria (Grouping Scheme) (Real) | S6: =" " | U6: Space ID | V6: Grouping scheme | W6: Room Name | X6: Criterion 1 (he<3%) | Y6: PASS/FAIL | Z6: Criterion 2 (We≤6Kh) | AA6: PASS/FAIL | AB6: Criterion 3 (Tupp≤4K) | AC6: PASS/FAIL | AD6: TM52 PASS/FAIL | AE6: Maximum operative temperature (°C) | AG6: Space ID | AH6: TM52 PASS/FAIL NV Criteria (Grouping Scheme) (Real) | AI6: =" " | AK6: Space ID | AL6: Grouping scheme | AM6: Room Name | AN6: Criterion 1 (he<3%) | AO6: PASS/FAIL | AP6: Criterion 2 (We≤6Kh) | AQ6: PASS/FAIL | AR6: Criterion 3 (Tupp≤4K) | AS6: PASS/FAIL | AT6: TM52 PASS/FAIL | AU6: Maximum operative temperature (°C) | AW6: Space ID | AX6: TM52 PASS/FAIL NV Criteria (Grouping Scheme) (Real) | AY6: =" " | BA6: Space ID | BB6: Grouping scheme | BC6: Room Name | BD6: Criterion 1 (he<3%) | BE6: PASS/FAIL | BF6: Criterion 2 (We≤6Kh) | BG6: PASS/FAIL | BH6: Criterion 3 (Tupp≤4K) | BI6: PASS/FAIL | BJ6: TM52 PASS/FAIL | BK6: Maximum operative temperature (°C) | BM6: Space ID | BN6: TM52 PASS/FAIL NV Criteria (Grouping Scheme) (Real) | BO6: =" " | BQ6: Space ID | BR6: Grouping scheme | BS6: Room Name | BT6: Criterion 1 (he<3%) | BU6: PASS/FAIL | BV6: Criterion 2 (We≤6Kh) | BW6: PASS/FAIL | BX6: Criterion 3 (Tupp≤4K) | BY6: PASS/FAIL | BZ6: TM52 PASS/FAIL | CA6: Maximum operative temperature (°C) | CC6: Space ID | CD6: TM52 PASS/FAIL NV Criteria (Grouping Scheme) (Real) | CE6: =" " | CG6: Space ID | CH6: Grouping scheme | CI6: Room Name | CJ6: Criterion 1 (he<3%) | CK6: PASS/FAIL | CL6: Criterion 2 (We≤6Kh) | CM6: PASS/FAIL | CN6: Criterion 3 (Tupp≤4K) | CO6: PASS/FAIL | CP6: TM52 PASS/FAIL | CQ6: Maximum operative temperature (°C) | CS6: Space ID | CT6: TM52 PASS/FAIL NV Criteria (Grouping Scheme) (Real) | CU6: =" "
E7: {=_xlfn.ANCHORARRAY('ID sheet'!$A$3)} -> L000002F | F7: {=_xlfn.ANCHORARRAY('ID sheet'!$C$3)} -> FAB LABS | G7: {=_xlfn.ANCHORARRAY('ID sheet'!$B$3)} -> L00 FAB LAB 01 | H7: {=VLOOKUP(_xlfn.ANCHORARRAY(G7),INDIRECT("'"&F2&"'!B:G"),3,FALSE)} -> 0 | I7: {=IF(_xlfn.ANCHORARRAY(H7)>=3,"FAIL","PASS")} -> PASS | J7: {=VLOOKUP(_xlfn.ANCHORARRAY(G7),INDIRECT("'"&F2&"'!B:G"),4,FALSE)} -> 0 | K7: {=IF(_xlfn.ANCHORARRAY(J7)>6,"FAIL","PASS")} -> PASS | L7: {=VLOOKUP(_xlfn.ANCHORARRAY(G7),INDIRECT("'"&F2&"'!B:G"),5,FALSE)} -> 0 | M7: {=IF(_xlfn.ANCHORARRAY(L7)>4,"FAIL","PASS")} -> PASS | N7: {=IF(((_xlfn.ANCHORARRAY(M7)="PASS")+(_xlfn.ANCHORARRAY(K7)="PASS")+(_xlfn.ANCHORARRAY(I7)="PASS"))>1,"PASS","FAIL")} -> PASS | O7: {=VLOOKUP(_xlfn.ANCHORARRAY(G7),INDIRECT("'"&F2&"'!B:G"),6,FALSE)} -> 29.5 | Q7: {=_xlfn.ANCHORARRAY(E7)} -> L000002F | R7: {=_xlfn.VSTACK(_xlfn.ANCHORARRAY(F7)&" "&_xlfn.ANCHORARRAY(N7))} -> FAB LABS PASS | U7: {=_xlfn.ANCHORARRAY('ID sheet'!$A$3)} -> L000002F | V7: {=_xlfn.ANCHORARRAY('ID sheet'!$C$3)} -> FAB LABS | W7: {=_xlfn.ANCHORARRAY('ID sheet'!$B$3)} -> L00 FAB LAB 01 | X7: {=VLOOKUP(_xlfn.ANCHORARRAY(W7),INDIRECT("'"&V2&"'!B:G"),3,FALSE)} -> 0.2 | Y7: {=IF(_xlfn.ANCHORARRAY(X7)>=3,"FAIL","PASS")} -> PASS | Z7: {=VLOOKUP(_xlfn.ANCHORARRAY(W7),INDIRECT("'"&V2&"'!B:G"),4,FALSE)} -> 3 | AA7: {=IF(_xlfn.ANCHORARRAY(Z7)>6,"FAIL","PASS")} -> PASS | AB7: {=VLOOKUP(_xlfn.ANCHORARRAY(W7),INDIRECT("'"&V2&"'!B:G"),5,FALSE)} -> 1 | AC7: {=IF(_xlfn.ANCHORARRAY(AB7)>4,"FAIL","PASS")} -> PASS | AD7: {=IF(((_xlfn.ANCHORARRAY(AC7)="PASS")+(_xlfn.ANCHORARRAY(AA7)="PASS")+(_xlfn.ANCHORARRAY(Y7)="PASS"))>1,"PASS","FAIL")} -> PASS | AE7: {=VLOOKUP(_xlfn.ANCHORARRAY(W7),INDIRECT("'"&V2&"'!B:G"),6,FALSE)} -> 30.7 | AG7: {=_xlfn.ANCHORARRAY(U7)} -> L000002F | AH7: {=_xlfn.VSTACK(_xlfn.ANCHORARRAY(V7)&" "&_xlfn.ANCHORARRAY(AD7))} -> FAB LABS PASS | AK7: {=_xlfn.ANCHORARRAY('ID sheet'!$A$3)} -> L000002F | AL7: {=_xlfn.ANCHORARRAY('ID sheet'!$C$3)} -> FAB LABS | AM7: {=_xlfn.ANCHORARRAY('ID sheet'!$B$3)} -> L00 FAB LAB 01 | AN7: {=VLOOKUP(_xlfn.ANCHORARRAY(AM7),INDIRECT("'"&AL2&"'!B:G"),3,FALSE)} -> 0 | AO7: {=IF(_xlfn.ANCHORARRAY(AN7)>=3,"FAIL","PASS")} -> PASS | AP7: {=VLOOKUP(_xlfn.ANCHORARRAY(AM7),INDIRECT("'"&AL2&"'!B:G"),4,FALSE)} -> 0 | AQ7: {=IF(_xlfn.ANCHORARRAY(AP7)>6,"FAIL","PASS")} -> PASS | AR7: {=VLOOKUP(_xlfn.ANCHORARRAY(AM7),INDIRECT("'"&AL2&"'!B:G"),5,FALSE)} -> 0 | AS7: {=IF(_xlfn.ANCHORARRAY(AR7)>4,"FAIL","PASS")} -> PASS | AT7: {=IF(((_xlfn.ANCHORARRAY(AS7)="PASS")+(_xlfn.ANCHORARRAY(AQ7)="PASS")+(_xlfn.ANCHORARRAY(AO7)="PASS"))>1,"PASS","FAIL")} -> PASS | AU7: {=VLOOKUP(_xlfn.ANCHORARRAY(AM7),INDIRECT("'"&AL2&"'!B:G"),6,FALSE)} -> 30.3 | AW7: {=_xlfn.ANCHORARRAY(AK7)} -> L000002F | AX7: {=_xlfn.VSTACK(_xlfn.ANCHORARRAY(AL7)&" "&_xlfn.ANCHORARRAY(AT7))} -> FAB LABS PASS | BA7: {=_xlfn.ANCHORARRAY('ID sheet'!$A$3)} -> L000002F | BB7: {=_xlfn.ANCHORARRAY('ID sheet'!$C$3)} -> FAB LABS | BC7: {=_xlfn.ANCHORARRAY('ID sheet'!$B$3)} -> L00 FAB LAB 01 | BD7: {=VLOOKUP(_xlfn.ANCHORARRAY(BC7),INDIRECT("'"&BB2&"'!B:G"),3,FALSE)} -> 0.5 | BE7: {=IF(_xlfn.ANCHORARRAY(BD7)>=3,"FAIL","PASS")} -> PASS | BF7: {=VLOOKUP(_xlfn.ANCHORARRAY(BC7),INDIRECT("'"&BB2&"'!B:G"),4,FALSE)} -> 2 | BG7: {=IF(_xlfn.ANCHORARRAY(BF7)>6,"FAIL","PASS")} -> PASS | BH7: {=VLOOKUP(_xlfn.ANCHORARRAY(BC7),INDIRECT("'"&BB2&"'!B:G"),5,FALSE)} -> 1 | BI7: {=IF(_xlfn.ANCHORARRAY(BH7)>4,"FAIL","PASS")} -> PASS | BJ7: {=IF(((_xlfn.ANCHORARRAY(BI7)="PASS")+(_xlfn.ANCHORARRAY(BG7)="PASS")+(_xlfn.ANCHORARRAY(BE7)="PASS"))>1,"PASS","FAIL")} -> PASS | BK7: {=VLOOKUP(_xlfn.ANCHORARRAY(BC7),INDIRECT("'"&BB2&"'!B:G"),6,FALSE)} -> 30.9 | BM7: {=_xlfn.ANCHORARRAY(BA7)} -> L000002F | BN7: {=_xlfn.VSTACK(_xlfn.ANCHORARRAY(BB7)&" "&_xlfn.ANCHORARRAY(BJ7))} -> FAB LABS PASS | BQ7: {=_xlfn.ANCHORARRAY('ID sheet'!$A$3)} -> L000002F | BR7: {=_xlfn.ANCHORARRAY('ID sheet'!$C$3)} -> FAB LABS | BS7: {=_xlfn.ANCHORARRAY('ID sheet'!$B$3)} -> L00 FAB LAB 01 | BT7: {=VLOOKUP(_xlfn.ANCHORARRAY(BS7),INDIRECT("'"&BR2&"'!B:G"),3,FALSE)} -> 0.6 | BU7: {=IF(_xlfn.ANCHORARRAY(BT7)>=3,"FAIL","PASS")} -> PASS | BV7: {=VLOOKUP(_xlfn.ANCHORARRAY(BS7),INDIRECT("'"&BR2&"'!B:G"),4,FALSE)} -> 4 | BW7: {=IF(_xlfn.ANCHORARRAY(BV7)>6,"FAIL","PASS")} -> PASS | BX7: {=VLOOKUP(_xlfn.ANCHORARRAY(BS7),INDIRECT("'"&BR2&"'!B:G"),5,FALSE)} -> 1 | BY7: {=IF(_xlfn.ANCHORARRAY(BX7)>4,"FAIL","PASS")} -> PASS | BZ7: {=IF(((_xlfn.ANCHORARRAY(BY7)="PASS")+(_xlfn.ANCHORARRAY(BW7)="PASS")+(_xlfn.ANCHORARRAY(BU7)="PASS"))>1,"PASS","FAIL")} -> PASS | CA7: {=VLOOKUP(_xlfn.ANCHORARRAY(BS7),INDIRECT("'"&BR2&"'!B:G"),6,FALSE)} -> 31.7 | CC7: {=_xlfn.ANCHORARRAY(BQ7)} -> L000002F | CD7: {=_xlfn.VSTACK(_xlfn.ANCHORARRAY(BR7)&" "&_xlfn.ANCHORARRAY(BZ7))} -> FAB LABS PASS | CG7: {=_xlfn.ANCHORARRAY('ID sheet'!$A$3)} -> L000002F | CH7: {=_xlfn.ANCHORARRAY('ID sheet'!$C$3)} -> FAB LABS | CI7: {=_xlfn.ANCHORARRAY('ID sheet'!$B$3)} -> L00 FAB LAB 01 | CJ7: {=VLOOKUP(_xlfn.ANCHORARRAY(CI7),INDIRECT("'"&CH2&"'!B:G"),3,FALSE)} -> 0.5 | CK7: {=IF(_xlfn.ANCHORARRAY(CJ7)>=3,"FAIL","PASS")} -> PASS | CL7: {=VLOOKUP(_xlfn.ANCHORARRAY(CI7),INDIRECT("'"&CH2&"'!B:G"),4,FALSE)} -> 2 | CM7: {=IF(_xlfn.ANCHORARRAY(CL7)>6,"FAIL","PASS")} -> PASS | CN7: {=VLOOKUP(_xlfn.ANCHORARRAY(CI7),INDIRECT("'"&CH2&"'!B:G"),5,FALSE)} -> 1 | CO7: {=IF(_xlfn.ANCHORARRAY(CN7)>4,"FAIL","PASS")} -> PASS | CP7: {=IF(((_xlfn.ANCHORARRAY(CO7)="PASS")+(_xlfn.ANCHORARRAY(CM7)="PASS")+(_xlfn.ANCHORARRAY(CK7)="PASS"))>1,"PASS","FAIL")} -> PASS | CQ7: {=VLOOKUP(_xlfn.ANCHORARRAY(CI7),INDIRECT("'"&CH2&"'!B:G"),6,FALSE)} -> 31.4 | CS7: {=_xlfn.ANCHORARRAY(CG7)} -> L000002F | CT7: {=_xlfn.VSTACK(_xlfn.ANCHORARRAY(CH7)&" "&_xlfn.ANCHORARRAY(CP7))} -> FAB LABS PASS
E8: L000003F | F8: FAB LABS | G8: L00 FAB LAB 02 | H8: 0 | I8: PASS | J8: 0 | K8: PASS | L8: 0 | M8: PASS | N8: PASS | O8: 29.6 | Q8: L000003F | R8: FAB LABS PASS | U8: L000003F | V8: FAB LABS | W8: L00 FAB LAB 02 | X8: 0.2 | Y8: PASS | Z8: 3 | AA8: PASS | AB8: 1 | AC8: PASS | AD8: PASS | AE8: 30.7 | AG8: L000003F | AH8: FAB LABS PASS | AK8: L000003F | AL8: FAB LABS | AM8: L00 FAB LAB 02 | AN8: 0.1 | AO8: PASS | AP8: 1 | AQ8: PASS | AR8: 1 | AS8: PASS | AT8: PASS | AU8: 30.5 | AW8: L000003F | AX8: FAB LABS PASS | BA8: L000003F | BB8: FAB LABS | BC8: L00 FAB LAB 02 | BD8: 0.7 | BE8: PASS | BF8: 3 | BG8: PASS | BH8: 1 | BI8: PASS | BJ8: PASS | BK8: 31 | BM8: L000003F | BN8: FAB LABS PASS | BQ8: L000003F | BR8: FAB LABS | BS8: L00 FAB LAB 02 | BT8: 0.7 | BU8: PASS | BV8: 4 | BW8: PASS | BX8: 1 | BY8: PASS | BZ8: PASS | CA8: 31.7 | CC8: L000003F | CD8: FAB LABS PASS | CG8: L000003F | CH8: FAB LABS | CI8: L00 FAB LAB 02 | CJ8: 1.4 | CK8: PASS | CL8: 3 | CM8: PASS | CN8: 1 | CO8: PASS | CP8: PASS | CQ8: 31.6 | CS8: L000003F | CT8: FAB LABS PASS
E9: L0000041 | F9: FAB LABS | G9: L00 FAB LAB 03 | H9: 0 | I9: PASS | J9: 0 | K9: PASS | L9: 0 | M9: PASS | N9: PASS | O9: 29.6 | Q9: L0000041 | R9: FAB LABS PASS | U9: L0000041 | V9: FAB LABS | W9: L00 FAB LAB 03 | X9: 0.4 | Y9: PASS | Z9: 3 | AA9: PASS | AB9: 1 | AC9: PASS | AD9: PASS | AE9: 31.3 | AG9: L0000041 | AH9: FAB LABS PASS | AK9: L0000041 | AL9: FAB LABS | AM9: L00 FAB LAB 03 | AN9: 0 | AO9: PASS | AP9: 0 | AQ9: PASS | AR9: 0 | AS9: PASS | AT9: PASS | AU9: 30.5 | AW9: L0000041 | AX9: FAB LABS PASS | BA9: L0000041 | BB9: FAB LABS | BC9: L00 FAB LAB 03 | BD9: 0.5 | BE9: PASS | BF9: 3 | BG9: PASS | BH9: 1 | BI9: PASS | BJ9: PASS | BK9: 31 | BM9: L0000041 | BN9: FAB LABS PASS | BQ9: L0000041 | BR9: FAB LABS | BS9: L00 FAB LAB 03 | BT9: 0.9 | BU9: PASS | BV9: 7 | BW9: FAIL | BX9: 2 | BY9: PASS | BZ9: PASS | CA9: 32.3 | CC9: L0000041 | CD9: FAB LABS PASS | CG9: L0000041 | CH9: FAB LABS | CI9: L00 FAB LAB 03 | CJ9: 0.9 | CK9: PASS | CL9: 3 | CM9: PASS | CN9: 1 | CO9: PASS | CP9: PASS | CQ9: 31.6 | CS9: L0000041 | CT9: FAB LABS PASS
E10: L000000F | F10: FAB LABS | G10: L00 FAB LAB 04 | H10: 0 | I10: PASS | J10: 0 | K10: PASS | L10: 0 | M10: PASS | N10: PASS | O10: 29.7 | Q10: L000000F | R10: FAB LABS PASS | U10: L000000F | V10: FAB LABS | W10: L00 FAB LAB 04 | X10: 0.2 | Y10: PASS | Z10: 3 | AA10: PASS | AB10: 1 | AC10: PASS | AD10: PASS | AE10: 30.8 | AG10: L000000F | AH10: FAB LABS PASS | AK10: L000000F | AL10: FAB LABS | AM10: L00 FAB LAB 04 | AN10: 0 | AO10: PASS | AP10: 0 | AQ10: PASS | AR10: 0 | AS10: PASS | AT10: PASS | AU10: 30.4 | AW10: L000000F | AX10: FAB LABS PASS | BA10: L000000F | BB10: FAB LABS | BC10: L00 FAB LAB 04 | BD10: 0.6 | BE10: PASS | BF10: 3 | BG10: PASS | BH10: 1 | BI10: PASS | BJ10: PASS | BK10: 31.1 | BM10: L000000F | BN10: FAB LABS PASS | BQ10: L000000F | BR10: FAB LABS | BS10: L00 FAB LAB 04 | BT10: 0.7 | BU10: PASS | BV10: 5 | BW10: PASS | BX10: 2 | BY10: PASS | BZ10: PASS | CA10: 31.8 | CC10: L000000F | CD10: FAB LABS PASS | CG10: L000000F | CH10: FAB LABS | CI10: L00 FAB LAB 04 | CJ10: 0.8 | CK10: PASS | CL10: 2 | CM10: PASS | CN10: 1 | CO10: PASS | CP10: PASS | CQ10: 31.5 | CS10: L000000F | CT10: FAB LABS PASS
B11: Instructions | E11: L000000E | F11: FAB LABS | G11: L01 FAB LAB 05 | H11: 0 | I11: PASS | J11: 0 | K11: PASS | L11: 0 | M11: PASS | N11: PASS | O11: 29.2 | Q11: L000000E | R11: FAB LABS PASS | U11: L000000E | V11: FAB LABS | W11: L01 FAB LAB 05 | X11: 0 | Y11: PASS | Z11: 0 | AA11: PASS | AB11: 0 | AC11: PASS | AD11: PASS | AE11: 30.3 | AG11: L000000E | AH11: FAB LABS PASS | AK11: L000000E | AL11: FAB LABS | AM11: L01 FAB LAB 05 | AN11: 0 | AO11: PASS | AP11: 0 | AQ11: PASS | AR11: 0 | AS11: PASS | AT11: PASS | AU11: 29.8 | AW11: L000000E | AX11: FAB LABS PASS | BA11: L000000E | BB11: FAB LABS | BC11: L01 FAB LAB 05 | BD11: 0.1 | BE11: PASS | BF11: 1 | BG11: PASS | BH11: 1 | BI11: PASS | BJ11: PASS | BK11: 30.6 | BM11: L000000E | BN11: FAB LABS PASS | BQ11: L000000E | BR11: FAB LABS | BS11: L01 FAB LAB 05 | BT11: 0.2 | BU11: PASS | BV11: 3 | BW11: PASS | BX11: 1 | BY11: PASS | BZ11: PASS | CA11: 31.3 | CC11: L000000E | CD11: FAB LABS PASS | CG11: L000000E | CH11: FAB LABS | CI11: L01 FAB LAB 05 | CJ11: 0 | CK11: PASS | CL11: 0 | CM11: PASS | CN11: 0 | CO11: PASS | CP11: PASS | CQ11: 30.9 | CS11: L000000E | CT11: FAB LABS PASS
B12: 1. Enter the sheet name corresponding to the sheet where the data is stored into the orange input boxes. | E12: L000002B | F12: FAB LABS | G12: L01 FAB LAB 06 | H12: 0.6 | I12: PASS | J12: 4 | K12: PASS | L12: 2 | M12: PASS | N12: PASS | O12: 30.6 | Q12: L000002B | R12: FAB LABS PASS | U12: L000002B | V12: FAB LABS | W12: L01 FAB LAB 06 | X12: 1.2 | Y12: PASS | Z12: 6 | AA12: PASS | AB12: 2 | AC12: PASS | AD12: PASS | AE12: 32 | AG12: L000002B | AH12: FAB LABS PASS | AK12: L000002B | AL12: FAB LABS | AM12: L01 FAB LAB 06 | AN12: 1 | AO12: PASS | AP12: 2 | AQ12: PASS | AR12: 1 | AS12: PASS | AT12: PASS | AU12: 31.1 | AW12: L000002B | AX12: FAB LABS PASS | BA12: L000002B | BB12: FAB LABS | BC12: L01 FAB LAB 06 | BD12: 1.6 | BE12: PASS | BF12: 6 | BG12: PASS | BH12: 2 | BI12: PASS | BJ12: PASS | BK12: 32 | BM12: L000002B | BN12: FAB LABS PASS | BQ12: L000002B | BR12: FAB LABS | BS12: L01 FAB LAB 06 | BT12: 2 | BU12: PASS | BV12: 9 | BW12: FAIL | BX12: 3 | BY12: PASS | BZ12: PASS | CA12: 33.1 | CC12: L000002B | CD12: FAB LABS PASS | CG12: L000002B | CH12: FAB LABS | CI12: L01 FAB LAB 06 | CJ12: 2.4 | CK12: PASS | CL12: 4 | CM12: PASS | CN12: 2 | CO12: PASS | CP12: PASS | CQ12: 32.2 | CS12: L000002B | CT12: FAB LABS PASS
E13: L0000044 | F13: FAB LABS | G13: L01 FAB LAB 07 | H13: 0.8 | I13: PASS | J13: 5 | K13: PASS | L13: 2 | M13: PASS | N13: PASS | O13: 31 | Q13: L0000044 | R13: FAB LABS PASS | U13: L0000044 | V13: FAB LABS | W13: L01 FAB LAB 07 | X13: 1.2 | Y13: PASS | Z13: 7 | AA13: FAIL | AB13: 2 | AC13: PASS | AD13: PASS | AE13: 32.1 | AG13: L0000044 | AH13: FAB LABS PASS | AK13: L0000044 | AL13: FAB LABS | AM13: L01 FAB LAB 07 | AN13: 1.8 | AO13: PASS | AP13: 4 | AQ13: PASS | AR13: 2 | AS13: PASS | AT13: PASS | AU13: 31.6 | AW13: L0000044 | AX13: FAB LABS PASS | BA13: L0000044 | BB13: FAB LABS | BC13: L01 FAB LAB 07 | BD13: 2.8 | BE13: PASS | BF13: 8 | BG13: FAIL | BH13: 3 | BI13: PASS | BJ13: PASS | BK13: 32.4 | BM13: L0000044 | BN13: FAB LABS PASS | BQ13: L0000044 | BR13: FAB LABS | BS13: L01 FAB LAB 07 | BT13: 2.4 | BU13: PASS | BV13: 11 | BW13: FAIL | BX13: 3 | BY13: PASS | BZ13: PASS | CA13: 33.2 | CC13: L0000044 | CD13: FAB LABS PASS | CG13: L0000044 | CH13: FAB LABS | CI13: L01 FAB LAB 07 | CJ13: 3 | CK13: FAIL | CL13: 6 | CM13: PASS | CN13: 2 | CO13: PASS | CP13: PASS | CQ13: 32.7 | CS13: L0000044 | CT13: FAB LABS PASS
E14: L0000045 | F14: FAB LABS | G14: L01 FAB LAB 08 | H14: 0.5 | I14: PASS | J14: 3 | K14: PASS | L14: 1 | M14: PASS | N14: PASS | O14: 30.5 | Q14: L0000045 | R14: FAB LABS PASS | U14: L0000045 | V14: FAB LABS | W14: L01 FAB LAB 08 | X14: 1.3 | Y14: PASS | Z14: 7 | AA14: FAIL | AB14: 2 | AC14: PASS | AD14: PASS | AE14: 32.3 | AG14: L0000045 | AH14: FAB LABS PASS | AK14: L0000045 | AL14: FAB LABS | AM14: L01 FAB LAB 08 | AN14: 1.2 | AO14: PASS | AP14: 3 | AQ14: PASS | AR14: 1 | AS14: PASS | AT14: PASS | AU14: 31.2 | AW14: L0000045 | AX14: FAB LABS PASS | BA14: L0000045 | BB14: FAB LABS | BC14: L01 FAB LAB 08 | BD14: 1.7 | BE14: PASS | BF14: 7 | BG14: FAIL | BH14: 2 | BI14: PASS | BJ14: PASS | BK14: 31.9 | BM14: L0000045 | BN14: FAB LABS PASS | BQ14: L0000045 | BR14: FAB LABS | BS14: L01 FAB LAB 08 | BT14: 2.3 | BU14: PASS | BV14: 12 | BW14: FAIL | BX14: 3 | BY14: PASS | BZ14: PASS | CA14: 33.3 | CC14: L0000045 | CD14: FAB LABS PASS | CG14: L0000045 | CH14: FAB LABS | CI14: L01 FAB LAB 08 | CJ14: 2.7 | CK14: PASS | CL14: 5 | CM14: PASS | CN14: 2 | CO14: PASS | CP14: PASS | CQ14: 32.3 | CS14: L0000045 | CT14: FAB LABS PASS
B15: 2. To add new iterations, copy all columns between the yellow partitions, and paste at the end of this sheet. Enter the sheet name where the data from the new iteration is stored into the orange input box. | E15: L0000009 | F15: FAB LABS | G15: L01 FAB LAB 09 | H15: 0.8 | I15: PASS | J15: 4 | K15: PASS | L15: 2 | M15: PASS | N15: PASS | O15: 30.8 | Q15: L0000009 | R15: FAB LABS PASS | U15: L0000009 | V15: FAB LABS | W15: L01 FAB LAB 09 | X15: 1.2 | Y15: PASS | Z15: 5 | AA15: PASS | AB15: 2 | AC15: PASS | AD15: PASS | AE15: 31.9 | AG15: L0000009 | AH15: FAB LABS PASS | AK15: L0000009 | AL15: FAB LABS | AM15: L01 FAB LAB 09 | AN15: 1.4 | AO15: PASS | AP15: 2 | AQ15: PASS | AR15: 1 | AS15: PASS | AT15: PASS | AU15: 31.3 | AW15: L0000009 | AX15: FAB LABS PASS | BA15: L0000009 | BB15: FAB LABS | BC15: L01 FAB LAB 09 | BD15: 3.1 | BE15: FAIL | BF15: 6 | BG15: PASS | BH15: 2 | BI15: PASS | BJ15: PASS | BK15: 32.2 | BM15: L0000009 | BN15: FAB LABS PASS | BQ15: L0000009 | BR15: FAB LABS | BS15: L01 FAB LAB 09 | BT15: 2.5 | BU15: PASS | BV15: 8 | BW15: FAIL | BX15: 3 | BY15: PASS | BZ15: PASS | CA15: 32.9 | CC15: L0000009 | CD15: FAB LABS PASS | CG15: L0000009 | CH15: FAB LABS | CI15: L01 FAB LAB 09 | CJ15: 3 | CK15: FAIL | CL15: 5 | CM15: PASS | CN15: 2 | CO15: PASS | CP15: PASS | CQ15: 32.4 | CS15: L0000009 | CT15: FAB LABS PASS
B22: Note
B23: Any sorting of data must be done from the ID sheet, or after copying to a separate file.

Sheet Compliance summary
A2: Grouping scheme summary | C2: Summary | F2: All Assessed Spaces | K2: Assessed Group | O2: Assessed Group
A3: {=_xlfn.UNIQUE(_xlfn.ANCHORARRAY('ID sheet'!C3))} -> FAB LABS | C3: This sheet provides a summary of the compliance statistics for all iterations. | K3: Fab Lab | O3: Tea Prep
E4: Iteration | F4: Criterion 1 compliance rate (%) | G4: Criterion 2 compliance rate (%) | H4: Criterion 3 compliance rate (%) | I4: TM52 compliance rate (%) | J4: Maximum operative temperature (˚C) | K4: Criterion 1 compliance rate (%) | L4: Criterion 2 compliance rate (%) | M4: Criterion 3 compliance rate (%) | N4: TM52 compliance rate (%) | O4: Criterion 1 compliance rate (%) | P4: Criterion 2 compliance rate (%) | Q4: Criterion 3 compliance rate (%) | R4: TM52 compliance rate (%)
E5: {=TRANSPOSE(_xlfn.UNIQUE(_xlfn._xlws.FILTER('Output Sheet 1'!$1:$1,'Output Sheet 1'!$1:$1<>0),TRUE))} -> DSY1 2020 | F5: {=(COUNTIFS(INDIRECT(("'Output Sheet 1'!"&ADDRESS(7,MATCH(_xlfn.ANCHORARRAY($E5),'Output Sheet 1'!$2:$2,0)+3)&"#")),"=PASS"))&"/"&(COUNTIFS(INDIRECT(("'Output Sheet 1'!"&ADDRESS(7,MATCH(_xlfn.ANCHORARRAY($E5),'Output Sheet 1'!$2:$2,0))&"#")),"<>0"))&" ("&100*ROUNDDOWN((COUNTIFS(INDIRECT(("'Output Sheet 1'!"&ADDRESS(7,MATCH(_xlfn.ANCHORARRAY($E5),'Output Sheet 1'!$2:$2,0)+3)&"#")),"=PASS"))/(COUNTIFS(INDIRECT(("'Output Sheet 1'!"&ADDRESS(7,MATCH(_xlfn.ANCHORARRAY($E5),'Output Sheet 1'!$2:$2,0))&"#")),"<>0")),2)&"%)"} -> 9/9 (100%) | G5: {=(COUNTIFS(INDIRECT(("'Output Sheet 1'!"&ADDRESS(7,MATCH(_xlfn.ANCHORARRAY($E5),'Output Sheet 1'!$2:$2,0)+5)&"#")),"=PASS"))&"/"&(COUNTIFS(INDIRECT(("'Output Sheet 1'!"&ADDRESS(7,MATCH(_xlfn.ANCHORARRAY($E5),'Output Sheet 1'!$2:$2,0))&"#")),"<>0"))&" ("&100*ROUNDDOWN((COUNTIFS(INDIRECT(("'Output Sheet 1'!"&ADDRESS(7,MATCH(_xlfn.ANCHORARRAY($E5),'Output Sheet 1'!$2:$2,0)+5)&"#")),"=PASS"))/(COUNTIFS(INDIRECT(("'Output Sheet 1'!"&ADDRESS(7,MATCH(_xlfn.ANCHORARRAY($E5),'Output Sheet 1'!$2:$2,0))&"#")),"<>0")),2)&"%)"} -> 9/9 (100%) | H5: {=(COUNTIFS(INDIRECT(("'Output Sheet 1'!"&ADDRESS(7,MATCH(_xlfn.ANCHORARRAY($E5),'Output Sheet 1'!$2:$2,0)+7)&"#")),"=PASS"))&"/"&(COUNTIFS(INDIRECT(("'Output Sheet 1'!"&ADDRESS(7,MATCH(_xlfn.ANCHORARRAY($E5),'Output Sheet 1'!$2:$2,0))&"#")),"<>0"))&" ("&100*ROUNDDOWN((COUNTIFS(INDIRECT(("'Output Sheet 1'!"&ADDRESS(7,MATCH(_xlfn.ANCHORARRAY($E5),'Output Sheet 1'!$2:$2,0)+7)&"#")),"=PASS"))/(COUNTIFS(INDIRECT(("'Output Sheet 1'!"&ADDRESS(7,MATCH(_xlfn.ANCHORARRAY($E5),'Output Sheet 1'!$2:$2,0))&"#")),"<>0")),2)&"%)"} -> 9/9 (100%) | I5: {=(COUNTIFS(INDIRECT(("'Output Sheet 1'!"&ADDRESS(7,MATCH(_xlfn.ANCHORARRAY($E5),'Output Sheet 1'!$2:$2,0)+8)&"#")),"=PASS"))&"/"&(COUNTIFS(INDIRECT(("'Output Sheet 1'!"&ADDRESS(7,MATCH(_xlfn.ANCHORARRAY($E5),'Output Sheet 1'!$2:$2,0))&"#")),"<>0"))&" ("&100*ROUNDDOWN((COUNTIFS(INDIRECT(("'Output Sheet 1'!"&ADDRESS(7,MATCH(_xlfn.ANCHORARRAY($E5),'Output Sheet 1'!$2:$2,0)+8)&"#")),"=PASS"))/(COUNTIFS(INDIRECT(("'Output Sheet 1'!"&ADDRESS(7,MATCH(_xlfn.ANCHORARRAY($E5),'Output Sheet 1'!$2:$2,0))&"#")),"<>0")),2)&"%)"} -> 9/9 (100%) | J5: {=INDEX('Output Sheet 1'!3:3,1,MATCH(_xlfn.ANCHORARRAY(E5),'Output Sheet 1'!1:1,0)+9)&"˚C"} -> 31˚C | K5: {=(COUNTIFS(INDIRECT(("'Output Sheet 1'!"&ADDRESS(7,MATCH(_xlfn.ANCHORARRAY($E5),'Output Sheet 1'!$2:$2,0)+3)&"#")),"=PASS",INDIRECT(("'Output Sheet 1'!"&ADDRESS(7,MATCH(_xlfn.ANCHORARRAY($E5),'Output Sheet 1'!$2:$2,0))&"#")),K3))&"/"&COUNTIFS(INDIRECT(("'Output Sheet 1'!"&ADDRESS(7,MATCH(_xlfn.ANCHORARRAY($E5),'Output Sheet 1'!$2:$2,0))&"#")),K3)&" ("&(ROUNDDOWN((COUNTIFS(INDIRECT(("'Output Sheet 1'!"&ADDRESS(7,MATCH(_xlfn.ANCHORARRAY($E5),'Output Sheet 1'!$2:$2,0)+3)&"#")),"=PASS",INDIRECT(("'Output Sheet 1'!"&ADDRESS(7,MATCH(_xlfn.ANCHORARRAY($E5),'Output Sheet 1'!$2:$2,0))&"#")),K3))/COUNTIFS(INDIRECT(("'Output Sheet 1'!"&ADDRESS(7,MATCH(_xlfn.ANCHORARRAY($E5),'Output Sheet 1'!$2:$2,0))&"#")),K3),2)*100)&"%)"} -> #DIV/0! | L5: {=(COUNTIFS(INDIRECT(("'Output Sheet 1'!"&ADDRESS(7,MATCH(_xlfn.ANCHORARRAY($E5),'Output Sheet 1'!$2:$2,0)+5)&"#")),"=PASS",INDIRECT(("'Output Sheet 1'!"&ADDRESS(7,MATCH(_xlfn.ANCHORARRAY($E5),'Output Sheet 1'!$2:$2,0))&"#")),K3))&"/"&COUNTIFS(INDIRECT(("'Output Sheet 1'!"&ADDRESS(7,MATCH(_xlfn.ANCHORARRAY($E5),'Output Sheet 1'!$2:$2,0))&"#")),K3)&" ("&ROUNDDOWN((COUNTIFS(INDIRECT(("'Output Sheet 1'!"&ADDRESS(7,MATCH(_xlfn.ANCHORARRAY($E5),'Output Sheet 1'!$2:$2,0)+5)&"#")),"=PASS",INDIRECT(("'Output Sheet 1'!"&ADDRESS(7,MATCH(_xlfn.ANCHORARRAY($E5),'Output Sheet 1'!$2:$2,0))&"#")),K3))/COUNTIFS(INDIRECT(("'Output Sheet 1'!"&ADDRESS(7,MATCH(_xlfn.ANCHORARRAY($E5),'Output Sheet 1'!$2:$2,0))&"#")),K3),2)*100&"%)"} -> #DIV/0! | M5: {=(COUNTIFS(INDIRECT(("'Output Sheet 1'!"&ADDRESS(7,MATCH(_xlfn.ANCHORARRAY($E5),'Output Sheet 1'!$2:$2,0)+7)&"#")),"=PASS",INDIRECT(("'Output Sheet 1'!"&ADDRESS(7,MATCH(_xlfn.ANCHORARRAY($E5),'Output Sheet 1'!$2:$2,0))&"#")),K3))&"/"&COUNTIFS(INDIRECT(("'Output Sheet 1'!"&ADDRESS(7,MATCH(_xlfn.ANCHORARRAY($E5),'Output Sheet 1'!$2:$2,0))&"#")),K3)&" ("&ROUNDDOWN((COUNTIFS(INDIRECT(("'Output Sheet 1'!"&ADDRESS(7,MATCH(_xlfn.ANCHORARRAY($E5),'Output Sheet 1'!$2:$2,0)+7)&"#")),"=PASS",INDIRECT(("'Output Sheet 1'!"&ADDRESS(7,MATCH(_xlfn.ANCHORARRAY($E5),'Output Sheet 1'!$2:$2,0))&"#")),K3))/COUNTIFS(INDIRECT(("'Output Sheet 1'!"&ADDRESS(7,MATCH(_xlfn.ANCHORARRAY($E5),'Output Sheet 1'!$2:$2,0))&"#")),K3),2)*100&"%)"} -> #DIV/0! | N5: {=(COUNTIFS(INDIRECT(("'Output Sheet 1'!"&ADDRESS(7,MATCH(_xlfn.ANCHORARRAY($E5),'Output Sheet 1'!$2:$2,0)+8)&"#")),"=PASS",INDIRECT(("'Output Sheet 1'!"&ADDRESS(7,MATCH(_xlfn.ANCHORARRAY($E5),'Output Sheet 1'!$2:$2,0))&"#")),K3))&"/"&COUNTIFS(INDIRECT(("'Output Sheet 1'!"&ADDRESS(7,MATCH(_xlfn.ANCHORARRAY($E5),'Output Sheet 1'!$2:$2,0))&"#")),K3)&" ("&ROUNDDOWN((COUNTIFS(INDIRECT(("'Output Sheet 1'!"&ADDRESS(7,MATCH(_xlfn.ANCHORARRAY($E5),'Output Sheet 1'!$2:$2,0)+8)&"#")),"=PASS",INDIRECT(("'Output Sheet 1'!"&ADDRESS(7,MATCH(_xlfn.ANCHORARRAY($E5),'Output Sheet 1'!$2:$2,0))&"#")),K3))/COUNTIFS(INDIRECT(("'Output Sheet 1'!"&ADDRESS(7,MATCH(_xlfn.ANCHORARRAY($E5),'Output Sheet 1'!$2:$2,0))&"#")),K3),2)*100&"%)"} -> #DIV/0! | O5: {=(COUNTIFS(INDIRECT(("'Output Sheet 1'!"&ADDRESS(7,MATCH(_xlfn.ANCHORARRAY($E5),'Output Sheet 1'!$2:$2,0)+3)&"#")),"=PASS",INDIRECT(("'Output Sheet 1'!"&ADDRESS(7,MATCH(_xlfn.ANCHORARRAY($E5),'Output Sheet 1'!$2:$2,0))&"#")),O3))&"/"&COUNTIFS(INDIRECT(("'Output Sheet 1'!"&ADDRESS(7,MATCH(_xlfn.ANCHORARRAY($E5),'Output Sheet 1'!$2:$2,0))&"#")),O3)&" ("&(ROUNDDOWN((COUNTIFS(INDIRECT(("'Output Sheet 1'!"&ADDRESS(7,MATCH(_xlfn.ANCHORARRAY($E5),'Output Sheet 1'!$2:$2,0)+3)&"#")),"=PASS",INDIRECT(("'Output Sheet 1'!"&ADDRESS(7,MATCH(_xlfn.ANCHORARRAY($E5),'Output Sheet 1'!$2:$2,0))&"#")),O3))/COUNTIFS(INDIRECT(("'Output Sheet 1'!"&ADDRESS(7,MATCH(_xlfn.ANCHORARRAY($E5),'Output Sheet 1'!$2:$2,0))&"#")),O3),2)*100)&"%)"} -> #DIV/0! | P5: {=(COUNTIFS(INDIRECT(("'Output Sheet 1'!"&ADDRESS(7,MATCH(_xlfn.ANCHORARRAY($E5),'Output Sheet 1'!$2:$2,0)+5)&"#")),"=PASS",INDIRECT(("'Output Sheet 1'!"&ADDRESS(7,MATCH(_xlfn.ANCHORARRAY($E5),'Output Sheet 1'!$2:$2,0))&"#")),O3))&"/"&COUNTIFS(INDIRECT(("'Output Sheet 1'!"&ADDRESS(7,MATCH(_xlfn.ANCHORARRAY($E5),'Output Sheet 1'!$2:$2,0))&"#")),O3)&" ("&ROUNDDOWN((COUNTIFS(INDIRECT(("'Output Sheet 1'!"&ADDRESS(7,MATCH(_xlfn.ANCHORARRAY($E5),'Output Sheet 1'!$2:$2,0)+5)&"#")),"=PASS",INDIRECT(("'Output Sheet 1'!"&ADDRESS(7,MATCH(_xlfn.ANCHORARRAY($E5),'Output Sheet 1'!$2:$2,0))&"#")),O3))/COUNTIFS(INDIRECT(("'Output Sheet 1'!"&ADDRESS(7,MATCH(_xlfn.ANCHORARRAY($E5),'Output Sheet 1'!$2:$2,0))&"#")),O3),2)*100&"%)"} -> #DIV/0! | Q5: {=(COUNTIFS(INDIRECT(("'Output Sheet 1'!"&ADDRESS(7,MATCH(_xlfn.ANCHORARRAY($E5),'Output Sheet 1'!$2:$2,0)+7)&"#")),"=PASS",INDIRECT(("'Output Sheet 1'!"&ADDRESS(7,MATCH(_xlfn.ANCHORARRAY($E5),'Output Sheet 1'!$2:$2,0))&"#")),O3))&"/"&COUNTIFS(INDIRECT(("'Output Sheet 1'!"&ADDRESS(7,MATCH(_xlfn.ANCHORARRAY($E5),'Output Sheet 1'!$2:$2,0))&"#")),O3)&" ("&ROUNDDOWN((COUNTIFS(INDIRECT(("'Output Sheet 1'!"&ADDRESS(7,MATCH(_xlfn.ANCHORARRAY($E5),'Output Sheet 1'!$2:$2,0)+7)&"#")),"=PASS",INDIRECT(("'Output Sheet 1'!"&ADDRESS(7,MATCH(_xlfn.ANCHORARRAY($E5),'Output Sheet 1'!$2:$2,0))&"#")),O3))/COUNTIFS(INDIRECT(("'Output Sheet 1'!"&ADDRESS(7,MATCH(_xlfn.ANCHORARRAY($E5),'Output Sheet 1'!$2:$2,0))&"#")),O3),2)*100&"%)"} -> #DIV/0! | R5: {=(COUNTIFS(INDIRECT(("'Output Sheet 1'!"&ADDRESS(7,MATCH(_xlfn.ANCHORARRAY($E5),'Output Sheet 1'!$2:$2,0)+8)&"#")),"=PASS",INDIRECT(("'Output Sheet 1'!"&ADDRESS(7,MATCH(_xlfn.ANCHORARRAY($E5),'Output Sheet 1'!$2:$2,0))&"#")),O3))&"/"&COUNTIFS(INDIRECT(("'Output Sheet 1'!"&ADDRESS(7,MATCH(_xlfn.ANCHORARRAY($E5),'Output Sheet 1'!$2:$2,0))&"#")),O3)&" ("&ROUNDDOWN((COUNTIFS(INDIRECT(("'Output Sheet 1'!"&ADDRESS(7,MATCH(_xlfn.ANCHORARRAY($E5),'Output Sheet 1'!$2:$2,0)+8)&"#")),"=PASS",INDIRECT(("'Output Sheet 1'!"&ADDRESS(7,MATCH(_xlfn.ANCHORARRAY($E5),'Output Sheet 1'!$2:$2,0))&"#")),O3))/COUNTIFS(INDIRECT(("'Output Sheet 1'!"&ADDRESS(7,MATCH(_xlfn.ANCHORARRAY($E5),'Output Sheet 1'!$2:$2,0))&"#")),O3),2)*100&"%)"} -> #DIV/0!
C6: Compliance statistics are broken down by the grouping scheme defined in the ID sheet. A summary of the room groups is shown to the left for reference. | E6: DSY2 2020 | F6: 9/9 (100%) | G6: 7/9 (77%) | H6: 9/9 (100%) | I6: 9/9 (100%) | J6: 32.3˚C | K6: #DIV/0! | L6: #DIV/0! | M6: #DIV/0! | N6: #DIV/0! | O6: #DIV/0! | P6: #DIV/0! | Q6: #DIV/0! | R6: #DIV/0!
E7: DSY3 2020 | F7: 9/9 (100%) | G7: 9/9 (100%) | H7: 9/9 (100%) | I7: 9/9 (100%) | J7: 31.6˚C | K7: #DIV/0! | L7: #DIV/0! | M7: #DIV/0! | N7: #DIV/0! | O7: #DIV/0! | P7: #DIV/0! | Q7: #DIV/0! | R7: #DIV/0!
E8: DSY1 2050 | F8: 8/9 (88%) | G8: 7/9 (77%) | H8: 9/9 (100%) | I8: 9/9 (100%) | J8: 32.4˚C | K8: #DIV/0! | L8: #DIV/0! | M8: #DIV/0! | N8: #DIV/0! | O8: #DIV/0! | P8: #DIV/0! | Q8: #DIV/0! | R8: #DIV/0!
E9: DSY2 2050 | F9: 9/9 (100%) | G9: 4/9 (44%) | H9: 9/9 (100%) | I9: 9/9 (100%) | J9: 33.3˚C | K9: #DIV/0! | L9: #DIV/0! | M9: #DIV/0! | N9: #DIV/0! | O9: #DIV/0! | P9: #DIV/0! | Q9: #DIV/0! | R9: #DIV/0!
C10: Analysis for a given room group is shown by solid cell boundaries in row 2 | E10: DSY3 2050 | F10: 7/9 (77%) | G10: 9/9 (100%) | H10: 9/9 (100%) | I10: 9/9 (100%) | J10: 32.7˚C | K10: #DIV/0! | L10: #DIV/0! | M10: #DIV/0! | N10: #DIV/0! | O10: #DIV/0! | P10: #DIV/0! | Q10: #DIV/0! | R10: #DIV/0!
C12: Instructions
C13: 1. Enter grouping scheme names into the orange input boxes. These need to match the names shown in the grouping scheme summary.
C17: 2. For any extra room groups, insert the required number of columns and copy the in columns from a room of the same type, shown by colour and borders. Enter new grouping scheme into orange input box.
C23: 3. For data presentation, columns can be deleted or added, and cells can be dragged around - as long as the grouping scheme input boxes and iteration labels are preserved.

Sheet Plots
B1: Iterations list | C1: Data List | D1: Plot Data | E1: Data Column
B2: {=TRANSPOSE(_xlfn.UNIQUE('Output Sheet 1'!1:1,TRUE,TRUE))} -> DSY1 2020 | C2: {=_xlfn.UNIQUE(_xlfn.VSTACK(D1,_xlfn.TRIMRANGE(D:D)),,TRUE)} -> Peak Operative Temperature | D2: Peak Operative Temperature | E2: 9
B3: DSY2 2020 | C3: Criterion I | D3: Criterion I | E3: 2
B4: DSY3 2020 | C4: Criterion II | D4: Criterion II | E4: 4
B5: DSY1 2050 | C5: Criterion III | D5: Criterion III | E5: 6
B6: DSY2 2050 | F6: Plot data | G6: Peak Operative Temperature
B7: DSY3 2050
F8: Iteration Name | G8: DSY1 2020 | H8: DSY2 2020 | I8: DSY3 2020 | J8: DSY1 2050 | K8: DSY2 2050 | L8: DSY3 2050
F9: Plot Label | G9: DSY1 2020 | H9: DSY2 2020 | I9: DSY3 2020 | J9: DSY1 2050 | K9: DSY2 2050 | L9: DSY3 2050
G11: {=_xlfn.DROP(_xlfn.TRIMRANGE(F8:P8),,1)} -> DSY1 2020 | H11: DSY2 2020 | I11: DSY3 2020 | J11: DSY1 2050 | K11: DSY2 2050 | L11: DSY3 2050
G12: {=_xlfn.DROP(_xlfn.TRIMRANGE(F9:P9),,1)} -> DSY1 2020 | H12: DSY2 2020 | I12: DSY3 2020 | J12: DSY1 2050 | K12: DSY2 2050 | L12: DSY3 2050
F13: Peak Outdoor Air Temperature | G13: {=IFERROR(INDIRECT("'Output Sheet 1'!"&ADDRESS(4,MATCH(Plots!G8,'Output Sheet 1'!1:1,0)+9)),0)} -> 34.6 | H13: {=IFERROR(INDIRECT("'Output Sheet 1'!"&ADDRESS(4,MATCH(Plots!H8,'Output Sheet 1'!1:1,0)+9)),0)} -> 38.6 | I13: {=IFERROR(INDIRECT("'Output Sheet 1'!"&ADDRESS(4,MATCH(Plots!I8,'Output Sheet 1'!1:1,0)+9)),0)} -> 35 | J13: {=IFERROR(INDIRECT("'Output Sheet 1'!"&ADDRESS(4,MATCH(Plots!J8,'Output Sheet 1'!1:1,0)+9)),0)} -> 36.4 | K13: {=IFERROR(INDIRECT("'Output Sheet 1'!"&ADDRESS(4,MATCH(Plots!K8,'Output Sheet 1'!1:1,0)+9)),0)} -> 39.9 | L13: {=IFERROR(INDIRECT("'Output Sheet 1'!"&ADDRESS(4,MATCH(Plots!L8,'Output Sheet 1'!1:1,0)+9)),0)} -> 36.3 | M13: {=IFERROR(INDIRECT("'Output Sheet 1'!"&ADDRESS(4,MATCH(Plots!M8,'Output Sheet 1'!1:1,0)+9)),0)} -> 0 | N13: {=IFERROR(INDIRECT("'Output Sheet 1'!"&ADDRESS(4,MATCH(Plots!N8,'Output Sheet 1'!1:1,0)+9)),0)} -> 0 | ... P13: {=IFERROR(INDIRECT("'Output Sheet 1'!"&ADDRESS(4,MATCH(Plots!P8,'Output Sheet 1'!1:1,0)+9)),0)} -> 0
F14: Criterion I | G14: 3 | H14: 3 | I14: 3 | J14: 3 | K14: 3 | L14: 3 | M14: 3 | N14: 3 | O14: 3 | P14: 3
F15: Criterion II | G15: 6 | H15: 6 | I15: 6 | J15: 6 | K15: 6 | L15: 6 | M15: 6 | N15: 6 | O15: 6 | P15: 6
F16: Criterion III | G16: 4 | H16: 4 | I16: 4 | J16: 4 | K16: 4 | L16: 4 | M16: 4 | N16: 4 | O16: 4 | P16: 4
F18: =IF(EXACT(G6,D2),F13,"Compliance Threshold") -> Peak Outdoor Air Temperature | G18: {=OFFSET(_xlfn.ANCHORARRAY(G12),MATCH(G6,_xlfn.ANCHORARRAY(C2),0),0)} -> 34.6 | H18: 38.6 | I18: 35 | J18: 36.4 | K18: 39.9 | L18: 36.3
F20: Centiles | G20: =G6 -> Peak Operative Temperature
F21: 1 | G21: =_xlfn.PERCENTILE.INC(_xlfn.ANCHORARRAY(G$40),$F21) -> 31 | H21: =_xlfn.PERCENTILE.INC(_xlfn.ANCHORARRAY(H$40),$F21) -> 32.3 | I21: =_xlfn.PERCENTILE.INC(_xlfn.ANCHORARRAY(I$40),$F21) -> 31.6 | J21: =_xlfn.PERCENTILE.INC(_xlfn.ANCHORARRAY(J$40),$F21) -> 32.4 | K21: =_xlfn.PERCENTILE.INC(_xlfn.ANCHORARRAY(K$40),$F21) -> 33.3 | L21: =_xlfn.PERCENTILE.INC(_xlfn.ANCHORARRAY(L$40),$F21) -> 32.7 | M21: =_xlfn.PERCENTILE.INC(_xlfn.ANCHORARRAY(M$40),$F21) -> 0 | N21: =_xlfn.PERCENTILE.INC(_xlfn.ANCHORARRAY(N$40),$F21) -> 0 | ... P21: =_xlfn.PERCENTILE.INC(_xlfn.ANCHORARRAY(P$40),$F21) -> 0
F22: 0.75 | G22: =_xlfn.PERCENTILE.INC(_xlfn.ANCHORARRAY(G$40),$F22) -> 30.6 | H22: =_xlfn.PERCENTILE.INC(_xlfn.ANCHORARRAY(H$40),$F22) -> 32 | I22: =_xlfn.PERCENTILE.INC(_xlfn.ANCHORARRAY(I$40),$F22) -> 31.2 | J22: =_xlfn.PERCENTILE.INC(_xlfn.ANCHORARRAY(J$40),$F22) -> 32 | K22: =_xlfn.PERCENTILE.INC(_xlfn.ANCHORARRAY(K$40),$F22) -> 33.1 | L22: =_xlfn.PERCENTILE.INC(_xlfn.ANCHORARRAY(L$40),$F22) -> 32.3 | M22: =_xlfn.PERCENTILE.INC(_xlfn.ANCHORARRAY(M$40),$F22) -> 0 | N22: =_xlfn.PERCENTILE.INC(_xlfn.ANCHORARRAY(N$40),$F22) -> 0 | ... P22: =_xlfn.PERCENTILE.INC(_xlfn.ANCHORARRAY(P$40),$F22) -> 0
F23: 0.5 | G23: =_xlfn.PERCENTILE.INC(_xlfn.ANCHORARRAY(G$40),$F23) -> 29.7 | H23: =_xlfn.PERCENTILE.INC(_xlfn.ANCHORARRAY(H$40),$F23) -> 31.3 | I23: =_xlfn.PERCENTILE.INC(_xlfn.ANCHORARRAY(I$40),$F23) -> 30.5 | J23: =_xlfn.PERCENTILE.INC(_xlfn.ANCHORARRAY(J$40),$F23) -> 31.1 | K23: =_xlfn.PERCENTILE.INC(_xlfn.ANCHORARRAY(K$40),$F23) -> 32.3 | L23: =_xlfn.PERCENTILE.INC(_xlfn.ANCHORARRAY(L$40),$F23) -> 31.6 | M23: =_xlfn.PERCENTILE.INC(_xlfn.ANCHORARRAY(M$40),$F23) -> 0 | N23: =_xlfn.PERCENTILE.INC(_xlfn.ANCHORARRAY(N$40),$F23) -> 0 | ... P23: =_xlfn.PERCENTILE.INC(_xlfn.ANCHORARRAY(P$40),$F23) -> 0
F24: 0.25 | G24: =_xlfn.PERCENTILE.INC(_xlfn.ANCHORARRAY(G$40),$F24) -> 29.6 | H24: =_xlfn.PERCENTILE.INC(_xlfn.ANCHORARRAY(H$40),$F24) -> 30.7 | I24: =_xlfn.PERCENTILE.INC(_xlfn.ANCHORARRAY(I$40),$F24) -> 30.4 | J24: =_xlfn.PERCENTILE.INC(_xlfn.ANCHORARRAY(J$40),$F24) -> 31 | K24: =_xlfn.PERCENTILE.INC(_xlfn.ANCHORARRAY(K$40),$F24) -> 31.7 | L24: =_xlfn.PERCENTILE.INC(_xlfn.ANCHORARRAY(L$40),$F24) -> 31.5 | M24: =_xlfn.PERCENTILE.INC(_xlfn.ANCHORARRAY(M$40),$F24) -> 0 | N24: =_xlfn.PERCENTILE.INC(_xlfn.ANCHORARRAY(N$40),$F24) -> 0 | ... P24: =_xlfn.PERCENTILE.INC(_xlfn.ANCHORARRAY(P$40),$F24) -> 0
F25: 0 | G25: =_xlfn.PERCENTILE.INC(_xlfn.ANCHORARRAY(G$40),$F25) -> 29.2 | H25: =_xlfn.PERCENTILE.INC(_xlfn.ANCHORARRAY(H$40),$F25) -> 30.3 | I25: =_xlfn.PERCENTILE.INC(_xlfn.ANCHORARRAY(I$40),$F25) -> 29.8 | J25: =_xlfn.PERCENTILE.INC(_xlfn.ANCHORARRAY(J$40),$F25) -> 30.6 | K25: =_xlfn.PERCENTILE.INC(_xlfn.ANCHORARRAY(K$40),$F25) -> 31.3 | L25: =_xlfn.PERCENTILE.INC(_xlfn.ANCHORARRAY(L$40),$F25) -> 30.9 | M25: =_xlfn.PERCENTILE.INC(_xlfn.ANCHORARRAY(M$40),$F25) -> 0 | N25: =_xlfn.PERCENTILE.INC(_xlfn.ANCHORARRAY(N$40),$F25) -> 0 | ... P25: =_xlfn.PERCENTILE.INC(_xlfn.ANCHORARRAY(P$40),$F25) -> 0
F26: Difference
G27: =MAX(0.001,G21-G22) -> 0.4 | H27: =MAX(0.001,H21-H22) -> 0.3 | I27: =MAX(0.001,I21-I22) -> 0.4 | J27: =MAX(0.001,J21-J22) -> 0.4 | K27: =MAX(0.001,K21-K22) -> 0.2 | L27: =MAX(0.001,L21-L22) -> 0.4 | M27: =MAX(0.001,M21-M22) -> 0.001 | N27: =MAX(0.001,N21-N22) -> 0.001 | ... P27: =MAX(0.001,P21-P22) -> 0.001
G28: =MAX(0.001,G22-G23) -> 0.9 | H28: =MAX(0.001,H22-H23) -> 0.7 | I28: =MAX(0.001,I22-I23) -> 0.7 | J28: =MAX(0.001,J22-J23) -> 0.9 | K28: =MAX(0.001,K22-K23) -> 0.8 | L28: =MAX(0.001,L22-L23) -> 0.7 | M28: =MAX(0.001,M22-M23) -> 0.001 | N28: =MAX(0.001,N22-N23) -> 0.001 | ... P28: =MAX(0.001,P22-P23) -> 0.001
G29: =MAX(0.001,G23-G24) -> 0.1 | H29: =MAX(0.001,H23-H24) -> 0.6 | I29: =MAX(0.001,I23-I24) -> 0.1 | J29: =MAX(0.001,J23-J24) -> 0.1 | K29: =MAX(0.001,K23-K24) -> 0.6 | L29: =MAX(0.001,L23-L24) -> 0.1 | M29: =MAX(0.001,M23-M24) -> 0.001 | N29: =MAX(0.001,N23-N24) -> 0.001 | ... P29: =MAX(0.001,P23-P24) -> 0.001
G30: =MAX(0.001,G24-G25) -> 0.4 | H30: =MAX(0.001,H24-H25) -> 0.4 | I30: =MAX(0.001,I24-I25) -> 0.6 | J30: =MAX(0.001,J24-J25) -> 0.4 | K30: =MAX(0.001,K24-K25) -> 0.4 | L30: =MAX(0.001,L24-L25) -> 0.6 | M30: =MAX(0.001,M24-M25) -> 0.001 | N30: =MAX(0.001,N24-N25) -> 0.001 | ... P30: =MAX(0.001,P24-P25) -> 0.001
G31: =MAX(0.001,G25-G26) -> 29.2 | H31: =MAX(0.001,H25-H26) -> 30.3 | I31: =MAX(0.001,I25-I26) -> 29.8 | J31: =MAX(0.001,J25-J26) -> 30.6 | K31: =MAX(0.001,K25-K26) -> 31.3 | L31: =MAX(0.001,L25-L26) -> 30.9 | M31: =MAX(0.001,M25-M26) -> 0.001 | N31: =MAX(0.001,N25-N26) -> 0.001 | ... P31: =MAX(0.001,P25-P26) -> 0.001
F33: Difference | G33: {=OFFSET(_xlfn.ANCHORARRAY($G$12),ROW(G27)-ROW($G$12),0)} -> 0.4 | H33: 0.3 | I33: 0.4 | J33: 0.4 | K33: 0.2 | L33: 0.4
G34: {=OFFSET(_xlfn.ANCHORARRAY($G$12),ROW(G28)-ROW($G$12),0)} -> 0.9 | H34: 0.7 | I34: 0.7 | J34: 0.9 | K34: 0.8 | L34: 0.7
G35: {=OFFSET(_xlfn.ANCHORARRAY($G$12),ROW(G29)-ROW($G$12),0)} -> 0.1 | H35: 0.6 | I35: 0.1 | J35: 0.1 | K35: 0.6 | L35: 0.1
G36: {=OFFSET(_xlfn.ANCHORARRAY($G$12),ROW(G30)-ROW($G$12),0)} -> 0.4 | H36: 0.4 | I36: 0.6 | J36: 0.4 | K36: 0.4 | L36: 0.6
G37: {=OFFSET(_xlfn.ANCHORARRAY($G$12),ROW(G31)-ROW($G$12),0)} -> 29.2 | H37: 30.3 | I37: 29.8 | J37: 30.6 | K37: 31.3 | L37: 30.9
G39: =G6 -> Peak Operative Temperature
G40: {=IFERROR(INDIRECT("'Output Sheet 1'!"&ADDRESS(7,MATCH(Plots!G8,'Output Sheet 1'!1:1,0)+VLOOKUP($G$6,$D:$E,2,FALSE))&"#"),0)} -> 29.5 | H40: {=IFERROR(INDIRECT("'Output Sheet 1'!"&ADDRESS(7,MATCH(Plots!H8,'Output Sheet 1'!1:1,0)+VLOOKUP($G$6,$D:$E,2,FALSE))&"#"),0)} -> 30.7 | I40: {=IFERROR(INDIRECT("'Output Sheet 1'!"&ADDRESS(7,MATCH(Plots!I8,'Output Sheet 1'!1:1,0)+VLOOKUP($G$6,$D:$E,2,FALSE))&"#"),0)} -> 30.3 | J40: {=IFERROR(INDIRECT("'Output Sheet 1'!"&ADDRESS(7,MATCH(Plots!J8,'Output Sheet 1'!1:1,0)+VLOOKUP($G$6,$D:$E,2,FALSE))&"#"),0)} -> 30.9 | K40: {=IFERROR(INDIRECT("'Output Sheet 1'!"&ADDRESS(7,MATCH(Plots!K8,'Output Sheet 1'!1:1,0)+VLOOKUP($G$6,$D:$E,2,FALSE))&"#"),0)} -> 31.7 | L40: {=IFERROR(INDIRECT("'Output Sheet 1'!"&ADDRESS(7,MATCH(Plots!L8,'Output Sheet 1'!1:1,0)+VLOOKUP($G$6,$D:$E,2,FALSE))&"#"),0)} -> 31.4 | M40: {=IFERROR(INDIRECT("'Output Sheet 1'!"&ADDRESS(7,MATCH(Plots!M8,'Output Sheet 1'!1:1,0)+VLOOKUP($G$6,$D:$E,2,FALSE))&"#"),0)} -> 0 | N40: {=IFERROR(INDIRECT("'Output Sheet 1'!"&ADDRESS(7,MATCH(Plots!N8,'Output Sheet 1'!1:1,0)+VLOOKUP($G$6,$D:$E,2,FALSE))&"#"),0)} -> 0 | ... P40: {=IFERROR(INDIRECT("'Output Sheet 1'!"&ADDRESS(7,MATCH(Plots!P8,'Output Sheet 1'!1:1,0)+VLOOKUP($G$6,$D:$E,2,FALSE))&"#"),0)} -> 0
G41: 29.6 | H41: 30.7 | I41: 30.5 | J41: 31 | K41: 31.7 | L41: 31.6
G42: 29.6 | H42: 31.3 | I42: 30.5 | J42: 31 | K42: 32.3 | L42: 31.6
G43: 29.7 | H43: 30.8 | I43: 30.4 | J43: 31.1 | K43: 31.8 | L43: 31.5
G44: 29.2 | H44: 30.3 | I44: 29.8 | J44: 30.6 | K44: 31.3 | L44: 30.9
G45: 30.6 | H45: 32 | I45: 31.1 | J45: 32 | K45: 33.1 | L45: 32.2
G46: 31 | H46: 32.1 | I46: 31.6 | J46: 32.4 | K46: 33.2 | L46: 32.7
G47: 30.5 | H47: 32.3 | I47: 31.2 | J47: 31.9 | K47: 33.3 | L47: 32.3
G48: 30.8 | H48: 31.9 | I48: 31.3 | J48: 32.2 | K48: 32.9 | L48: 32.4

Sheet P1
B1: Iterations
A2: ="" | B2: {=TRANSPOSE((_xlfn.UNIQUE(_xlfn._xlws.FILTER('Output Sheet 1'!1:1,'Output Sheet 1'!1:1<>"",TRUE))))} -> DSY1 2020 | C2: DSY1 2020
A3: ="" | B3: DSY2 2020
A4: ="" | B4: DSY3 2020 | C4: ="TM52 results for all assessed spaces under the '"&C2&"' scenario." -> TM52 results for all assessed spaces under the 'DSY1 2020' scenario.
A5: ="" | B5: DSY1 2050
A6: ="" | B6: DSY2 2050 | C6: Space Name | D6: Overheating Comfort Category | E6: Criterion 1 (he<3%) | F6: PASS/FAIL | G6: Criterion 2 (We≤6Kh) | H6: PASS/FAIL | I6: Criterion 3 (Tupp≤4K) | J6: PASS/FAIL | K6: TM52 PASS/FAIL | L6: Maximum operative temperature (°C)
A7: ="" | B7: DSY3 2050 | C7: {=_xlfn.ANCHORARRAY('ID sheet'!B3)} -> L00 FAB LAB 01 | D7: {="Category "&ROMAN(_xlfn.ANCHORARRAY('ID sheet'!D3))} -> Category II | E7: {=INDIRECT("'Output Sheet 1'!"&ADDRESS(7,MATCH(C2,'Output Sheet 1'!$2:$2,0)+2)&"#")} -> 0 | F7: {=INDIRECT("'Output Sheet 1'!"&ADDRESS(7,MATCH(C2,'Output Sheet 1'!$2:$2,0)+3)&"#")} -> PASS | G7: {=INDIRECT("'Output Sheet 1'!"&ADDRESS(7,MATCH(C2,'Output Sheet 1'!$2:$2,0)+4)&"#")} -> 0 | H7: {=INDIRECT("'Output Sheet 1'!"&ADDRESS(7,MATCH(C2,'Output Sheet 1'!$2:$2,0)+5)&"#")} -> PASS | I7: {=INDIRECT("'Output Sheet 1'!"&ADDRESS(7,MATCH(C2,'Output Sheet 1'!$2:$2,0)+6)&"#")} -> 0 | J7: {=INDIRECT("'Output Sheet 1'!"&ADDRESS(7,MATCH(C2,'Output Sheet 1'!$2:$2,0)+7)&"#")} -> PASS | K7: {=INDIRECT("'Output Sheet 1'!"&ADDRESS(7,MATCH(C2,'Output Sheet 1'!$2:$2,0)+8)&"#")} -> PASS | L7: {=INDIRECT("'Output Sheet 1'!"&ADDRESS(7,MATCH(C2,'Output Sheet 1'!$2:$2,0)+9)&"#")} -> 29.5
A8: ="" | C8: L00 FAB LAB 02 | D8: Category II | E8: 0 | F8: PASS | G8: 0 | H8: PASS | I8: 0 | J8: PASS | K8: PASS | L8: 29.6
A9: ="" | C9: L00 FAB LAB 03 | D9: Category II | E9: 0 | F9: PASS | G9: 0 | H9: PASS | I9: 0 | J9: PASS | K9: PASS | L9: 29.6
A10: ="" | C10: L00 FAB LAB 04 | D10: Category II | E10: 0 | F10: PASS | G10: 0 | H10: PASS | I10: 0 | J10: PASS | K10: PASS | L10: 29.7
C11: L01 FAB LAB 05 | D11: Category II | E11: 0 | F11: PASS | G11: 0 | H11: PASS | I11: 0 | J11: PASS | K11: PASS | L11: 29.2
C12: L01 FAB LAB 06 | D12: Category II | E12: 0.6 | F12: PASS | G12: 4 | H12: PASS | I12: 2 | J12: PASS | K12: PASS | L12: 30.6
C13: L01 FAB LAB 07 | D13: Category II | E13: 0.8 | F13: PASS | G13: 5 | H13: PASS | I13: 2 | J13: PASS | K13: PASS | L13: 31
C14: L01 FAB LAB 08 | D14: Category II | E14: 0.5 | F14: PASS | G14: 3 | H14: PASS | I14: 1 | J14: PASS | K14: PASS | L14: 30.5
C15: L01 FAB LAB 09 | D15: Category II | E15: 0.8 | F15: PASS | G15: 4 | H15: PASS | I15: 2 | J15: PASS | K15: PASS | L15: 30.8

Sheet Overheating severity visual
H1: {=TRANSPOSE((_xlfn.UNIQUE(_xlfn._xlws.FILTER('Output Sheet 1'!1:1,'Output Sheet 1'!1:1<>"",TRUE))))} -> DSY1 2020
B2: Overheating severity colour scheme | H2: DSY2 2020 | K2: Sheet name: | L2: Option 1 | V2: Max temp colour code
H3: DSY3 2020
B4: Red | C4: Green | D4: Blue | F4: Threshold (°C) | H4: DSY1 2050 | V4: Space ID | W4: Colour (Real)
B5: 0 | C5: 200 | D5: 0 | F5: 0 | H5: DSY2 2050 | M5: Space ID | N5: Room Name | O5: Max temp | P5: Red | Q5: Green | R5: Blue | S5: Colour (Real) | V5: {=_xlfn.ANCHORARRAY(M6)} -> #N/A | W5: {=_xlfn.ANCHORARRAY(S6)} -> #N/A
A6: > | B6: 0 | C6: 230 | D6: 0 | F6: 24 | H6: DSY3 2050 | M6: {=INDIRECT("'Output Sheet 1'!"&ADDRESS(7,MATCH(L2,'Output Sheet 1'!2:2,0)-1)&"#")} -> #N/A | N6: {=INDIRECT("'Output Sheet 1'!"&ADDRESS(7,MATCH(L2,'Output Sheet 1'!2:2,0)+1)&"#")} -> #N/A | O6: {=INDIRECT("'Output Sheet 1'!"&ADDRESS(7,MATCH(L2,'Output Sheet 1'!2:2,0)+9)&"#")} -> #N/A | P6: {=INDEX($B:$D,MATCH(_xlfn.ANCHORARRAY(O6),$F:$F,1),1)} -> #N/A | Q6: {=INDEX($B:$D,MATCH(_xlfn.ANCHORARRAY(O6),$F:$F,1),2)} -> #N/A | R6: {=INDEX($B:$D,MATCH(_xlfn.ANCHORARRAY(O6),$F:$F,1),3)} -> #N/A | S6: {="RGB"&"("&_xlfn.ANCHORARRAY(P6)&","&_xlfn.ANCHORARRAY(Q6)&","&_xlfn.ANCHORARRAY(R6)&")"} -> #N/A
A7: > | B7: 0 | C7: 255 | D7: 0 | F7: 25
A8: > | B8: 100 | C8: 255 | D8: 0 | F8: 26
A9: > | B9: 150 | C9: 255 | D9: 0 | F9: 27
A10: > | B10: 200 | C10: 255 | D10: 0 | F10: 28
A11: > | B11: 240 | C11: 255 | D11: 0 | F11: 29
A12: > | B12: 255 | C12: 255 | D12: 0 | F12: 30
A13: > | B13: 255 | C13: 240 | D13: 0 | F13: 31
A14: > | B14: 255 | C14: 200 | D14: 0 | F14: 32
A15: > | B15: 255 | C15: 150 | D15: 0 | F15: 33
A16: > | B16: 255 | C16: 100 | D16: 0 | F16: 34
A17: > | B17: 255 | C17: 0 | D17: 0 | F17: 35
A18: > | B18: 230 | C18: 0 | D18: 0 | F18: 36
... A22: > | B22: 125 | C22: 0 | D22: 0 | F22: 40

Sheet Template
B1: Room name | C1: Category | D1: Criterion 1 | E1: Criterion 2 | F1: Criterion 3 | G1: Max temperature | H1: Peak outdoor air temp | J1: Category I | Z1: Category II | AO1: Category III | BD1: Max temperature | BR1: Max outdoor temperature
B2: {=_xlfn.ANCHORARRAY('ID sheet'!B3)} -> L00 FAB LAB 01 | C2: {=_xlfn.ANCHORARRAY('ID sheet'!D3)} -> 2 | D2: {=IF(_xlfn.ANCHORARRAY(C2)=1,VLOOKUP(_xlfn.ANCHORARRAY(B2),L:Y,4,FALSE),IF(_xlfn.ANCHORARRAY(C2)=2,VLOOKUP(_xlfn.ANCHORARRAY(B2),AB:AN,4,FALSE),IF(_xlfn.ANCHORARRAY(C2)=3,VLOOKUP(_xlfn.ANCHORARRAY(B2),AQ:BC,4,FALSE))))} -> #N/A | E2: {=IF(_xlfn.ANCHORARRAY(C2)=1,VLOOKUP(_xlfn.ANCHORARRAY(B2),L:Y,5,FALSE),IF(_xlfn.ANCHORARRAY(C2)=2,VLOOKUP(_xlfn.ANCHORARRAY(B2),AB:AN,5,FALSE),IF(_xlfn.ANCHORARRAY(C2)=3,VLOOKUP(_xlfn.ANCHORARRAY(B2),AQ:BC,5,FALSE))))} -> #N/A | F2: {=IF(_xlfn.ANCHORARRAY(C2)=1,VLOOKUP(_xlfn.ANCHORARRAY(B2),L:Y,6,FALSE),IF(_xlfn.ANCHORARRAY(C2)=2,VLOOKUP(_xlfn.ANCHORARRAY(B2),AB:AN,6,FALSE),IF(_xlfn.ANCHORARRAY(C2)=3,VLOOKUP(_xlfn.ANCHORARRAY(B2),AQ:BC,6,FALSE))))} -> #N/A | G2: {=ROUND(VLOOKUP(_xlfn.ANCHORARRAY(B2),BG:BL,6,FALSE),1)} -> #N/A | H2: =BZ2 -> 0
B3: L00 FAB LAB 02 | C3: 2 | D3: #N/A | E3: #N/A | F3: #N/A | G3: #N/A | J3: Instructions | Z3: Instructions | AO3: Instructions | BD3: Instructions | BR3: Instructions
B4: L00 FAB LAB 03 | C4: 2 | D4: #N/A | E4: #N/A | F4: #N/A | G4: #N/A | J4: =_xlfn.CONCAT("Paste TM52 results (Columns A:G) into cell ",ADDRESS(1,COLUMN(L1))) -> Paste TM52 results (Columns A:G) into cell $L$1 | Z4: =_xlfn.CONCAT("Paste TM52 results (Columns A:G) into cell ",ADDRESS(1,COLUMN(AB1))) -> Paste TM52 results (Columns A:G) into cell $AB$1 | AO4: =_xlfn.CONCAT("Paste TM52 results (Columns A:G) into cell ",ADDRESS(1,COLUMN(AQ1))) -> Paste TM52 results (Columns A:G) into cell $AQ$1 | BD4: =_xlfn.CONCAT("1. Paste min/max Tdr into cell ",ADDRESS(1,COLUMN(BF1))) -> 1. Paste min/max Tdr into cell $BF$1 | BR4: =_xlfn.CONCAT("1. Paste min/max Tdb into cell ",ADDRESS(1,COLUMN(BT1))) -> 1. Paste min/max Tdb into cell $BT$1
B5: L00 FAB LAB 04 | C5: 2 | D5: #N/A | E5: #N/A | F5: #N/A | G5: #N/A
B6: L01 FAB LAB 05 | C6: 2 | D6: #N/A | E6: #N/A | F6: #N/A | G6: #N/A
B7: L01 FAB LAB 06 | C7: 2 | D7: #N/A | E7: #N/A | F7: #N/A | G7: #N/A
B8: L01 FAB LAB 07 | C8: 2 | D8: #N/A | E8: #N/A | F8: #N/A | G8: #N/A
B9: L01 FAB LAB 08 | C9: 2 | D9: #N/A | E9: #N/A | F9: #N/A | G9: #N/A
B10: L01 FAB LAB 09 | C10: 2 | D10: #N/A | E10: #N/A | F10: #N/A | G10: #N/A

Sheet DSY1 2020
B1: Room name | C1: Category | D1: Criterion 1 | E1: Criterion 2 | F1: Criterion 3 | G1: Max temperature | H1: Peak outdoor air temp | J1: Category I | Z1: Category II | AB1: Overall | AO1: Category III | BD1: Max temperature | BF1: Var. Name | BG1: Location | BH1: Filename | BI1: Type | BJ1: Min. Val. | BK1: Min. Time | BL1: Max. Val. | BM1: Max. Time | BN1: Mean | BR1: Max outdoor temperature | BT1: Var. Name | BU1: Location | BV1: Filename | BW1: Type | BX1: Min. Val. | BY1: Min. Time | BZ1: Max. Val. | CA1: Max. Time | CB1: Mean
B2: {=_xlfn.ANCHORARRAY('ID sheet'!B3)} -> L00 FAB LAB 01 | C2: {=_xlfn.ANCHORARRAY('ID sheet'!D3)} -> 2 | D2: {=IF(_xlfn.ANCHORARRAY(C2)=1,VLOOKUP(_xlfn.ANCHORARRAY(B2),L:Y,4,FALSE),IF(_xlfn.ANCHORARRAY(C2)=2,VLOOKUP(_xlfn.ANCHORARRAY(B2),AB:AN,4,FALSE),IF(_xlfn.ANCHORARRAY(C2)=3,VLOOKUP(_xlfn.ANCHORARRAY(B2),AQ:BC,4,FALSE))))} -> 0 | E2: {=IF(_xlfn.ANCHORARRAY(C2)=1,VLOOKUP(_xlfn.ANCHORARRAY(B2),L:Y,5,FALSE),IF(_xlfn.ANCHORARRAY(C2)=2,VLOOKUP(_xlfn.ANCHORARRAY(B2),AB:AN,5,FALSE),IF(_xlfn.ANCHORARRAY(C2)=3,VLOOKUP(_xlfn.ANCHORARRAY(B2),AQ:BC,5,FALSE))))} -> 0 | F2: {=IF(_xlfn.ANCHORARRAY(C2)=1,VLOOKUP(_xlfn.ANCHORARRAY(B2),L:Y,6,FALSE),IF(_xlfn.ANCHORARRAY(C2)=2,VLOOKUP(_xlfn.ANCHORARRAY(B2),AB:AN,6,FALSE),IF(_xlfn.ANCHORARRAY(C2)=3,VLOOKUP(_xlfn.ANCHORARRAY(B2),AQ:BC,6,FALSE))))} -> 0 | G2: {=ROUND(VLOOKUP(_xlfn.ANCHORARRAY(B2),BG:BL,6,FALSE),1)} -> 29.5 | H2: =BZ2 -> 34.6 | AB2: Passed: | AC2: 9 rooms: | BF2: Dry resultant temperature | BG2: L00 FAB LAB 01 | BH2: DSY1 2020 blockwork light upper.aps | BI2: Temperature (°C) | BJ2: 17.84 | BK2: 06:30,01/May | BL2: 29.5 | BM2: 16:30,24/Jul | BN2: 23.6 | BT2: Dry-bulb temperature | BV2: LHR1989_2020High50pct.epw | BW2: Temperature (°C) | BX2: 5.3 | BY2: 06:00,31/May | BZ2: 34.6 | CA2: 18:00,22/Jul | CB2: 18.5
B3: L00 FAB LAB 02 | C3: 2 | D3: 0 | E3: 0 | F3: 0 | G3: 29.6 | J3: Instructions | Z3: Instructions | AB3: Failed: | AC3: 0 rooms: | AO3: Instructions | BD3: Instructions | BF3: Dry resultant temperature | BG3: L00 FAB LAB 02 | BH3: DSY1 2020 blockwork light upper.aps | BI3: Temperature (°C) | BJ3: 17.79 | BK3: 06:30,01/May | BL3: 29.57 | BM3: 17:30,25/Jul | BN3: 23.69 | BR3: Instructions
B4: L00 FAB LAB 03 | C4: 2 | D4: 0 | E4: 0 | F4: 0 | G4: 29.6 | J4: =_xlfn.CONCAT("Paste TM52 results (Columns A:G) into cell ",ADDRESS(1,COLUMN(L1))) -> Paste TM52 results (Columns A:G) into cell $L$1 | Z4: =_xlfn.CONCAT("Paste TM52 results (Columns A:G) into cell ",ADDRESS(1,COLUMN(AB1))) -> Paste TM52 results (Columns A:G) into cell $AB$1 | AB4: Unoccupied: | AC4: 0 rooms: | AO4: =_xlfn.CONCAT("Paste TM52 results (Columns A:G) into cell ",ADDRESS(1,COLUMN(AQ1))) -> Paste TM52 results (Columns A:G) into cell $AQ$1 | BD4: =_xlfn.CONCAT("1. Paste min/max Tdr into cell ",ADDRESS(1,COLUMN(BF1))) -> 1. Paste min/max Tdr into cell $BF$1 | BF4: Dry resultant temperature | BG4: L00 FAB LAB 03 | BH4: DSY1 2020 blockwork light upper.aps | BI4: Temperature (°C) | BJ4: 18 | BK4: 06:30,01/May | BL4: 29.57 | BM4: 16:30,24/Jul | BN4: 23.72 | BR4: =_xlfn.CONCAT("1. Paste min/max Tdb into cell ",ADDRESS(1,COLUMN(BT1))) -> 1. Paste min/max Tdb into cell $BT$1
B5: L00 FAB LAB 04 | C5: 2 | D5: 0 | E5: 0 | F5: 0 | G5: 29.7 | BF5: Dry resultant temperature | BG5: L01 FAB LAB 06 | BH5: DSY1 2020 blockwork light upper.aps | BI5: Temperature (°C) | BJ5: 17.73 | BK5: 06:30,01/May | BL5: 30.64 | BM5: 17:30,22/Jul | BN5: 23.75
B6: L01 FAB LAB 05 | C6: 2 | D6: 0 | E6: 0 | F6: 0 | G6: 29.2 | AB6: Data: | BF6: Dry resultant temperature | BG6: L01 FAB LAB 07 | BH6: DSY1 2020 blockwork light upper.aps | BI6: Temperature (°C) | BJ6: 17.76 | BK6: 06:30,01/May | BL6: 30.99 | BM6: 17:30,22/Jul | BN6: 23.85
B7: L01 FAB LAB 06 | C7: 2 | D7: 0.6 | E7: 4 | F7: 2 | G7: 30.6 | AB7: Building category: | AC7: Category II (new builds.) | BF7: Dry resultant temperature | BG7: L01 FAB LAB 08 | BH7: DSY1 2020 blockwork light upper.aps | BI7: Temperature (°C) | BJ7: 17.89 | BK7: 06:30,01/May | BL7: 30.46 | BM7: 16:30,24/Jul | BN7: 23.8
B8: L01 FAB LAB 07 | C8: 2 | D8: 0.8 | E8: 5 | F8: 2 | G8: 31 | AB8: Weather file: | AC8: LHR1989_2020High50pct.epw | BF8: Dry resultant temperature | BG8: L00 FAB LAB 04 | BH8: DSY1 2020 blockwork light upper.aps | BI8: Temperature (°C) | BJ8: 17.98 | BK8: 06:30,01/May | BL8: 29.72 | BM8: 16:30,25/Jul | BN8: 23.85
B9: L01 FAB LAB 08 | C9: 2 | D9: 0.5 | E9: 3 | F9: 1 | G9: 30.5 | AB9: Days data= | AC9: 153 | AD9: 46143 | AE9: 46295 | BF9: Dry resultant temperature | BG9: L01 FAB LAB 09 | BH9: DSY1 2020 blockwork light upper.aps | BI9: Temperature (°C) | BJ9: 17.85 | BK9: 06:30,01/May | BL9: 30.8 | BM9: 17:30,24/Jul | BN9: 24.02
B10: L01 FAB LAB 09 | C10: 2 | D10: 0.8 | E10: 4 | F10: 2 | G10: 30.8 | AB10: Days (summer)= | AC10: 153 | AD10: 46143 | AE10: 46295 | BF10: Dry resultant temperature | BG10: L01 FAB LAB 05 | BH10: DSY1 2020 blockwork light upper.aps | BI10: Temperature (°C) | BJ10: 17.93 | BK10: 07:30,01/May | BL10: 29.16 | BM10: 17:30,25/Jul | BN10: 23.94
AB11: Data OK? | AC11: OK | AD11: Full summer
AB13: Occupancy:
AB14: Note: | AC14: This report assesses occupied periods only. Please be aware that TM52 should be conducted for occupied and/or “available hours”.
AC15: Use of educational NCM profiles may be seen as inappropriate due to prolonged unoccupied periods during summer months.
AC16: See Section 6.1.2 (a) of TM52 for further information.
AB18: Passed: | AC18: 9 rooms:
AB19: Room Name | AC19: Room ID | AD19: Occupied days (%) | AE19: Criteria 1 (%Hrs Top-Tmax>=1K) | AF19: Criteria 2 (Max. Daily Deg.Hrs) | AG19: Criteria 3 (Max. DeltaT) | AH19: Criteria failing
AB20: L00 FAB LAB 01 | AC20: L000002F | AD20: 100 | AE20: 0 | AF20: 0 | AG20: 0 | AH20: -
AB21: L00 FAB LAB 02 | AC21: L000003F | AD21: 100 | AE21: 0 | AF21: 0 | AG21: 0 | AH21: -
AB22: L00 FAB LAB 03 | AC22: L0000041 | AD22: 100 | AE22: 0 | AF22: 0 | AG22: 0 | AH22: -
AB23: L01 FAB LAB 06 | AC23: L000002B | AD23: 100 | AE23: 0.6 | AF23: 4 | AG23: 2 | AH23: -
AB24: L01 FAB LAB 07 | AC24: L0000044 | AD24: 100 | AE24: 0.8 | AF24: 5 | AG24: 2 | AH24: -
AB25: L01 FAB LAB 08 | AC25: L0000045 | AD25: 100 | AE25: 0.5 | AF25: 3 | AG25: 1 | AH25: -
AB26: L00 FAB LAB 04 | AC26: L000000F | AD26: 100 | AE26: 0 | AF26: 0 | AG26: 0 | AH26: -
AB27: L01 FAB LAB 09 | AC27: L0000009 | AD27: 100 | AE27: 0.8 | AF27: 4 | AG27: 2 | AH27: -
AB28: L01 FAB LAB 05 | AC28: L000000E | AD28: 100 | AE28: 0 | AF28: 0 | AG28: 0 | AH28: -
AB30: Failed: | AC30: 0 rooms:
AB31: Room Name | AC31: Room ID | AD31: Occupied days (%) | AE31: Criteria 1 (%Hrs Top-Tmax>=1K) | AF31: Criteria 2 (Max. Daily Deg.Hrs) | AG31: Criteria 3 (Max. DeltaT) | AH31: Criteria failing
AB33: Unoccupied: | AC33: 0 rooms:
AB34: Room Name | AC34: Room ID | AD34: Occupied days (%) | AE34: Criteria 1 (%Hrs Top-Tmax>=1K) | AF34: Criteria 2 (Max. Daily Deg.Hrs) | AG34: Criteria 3 (Max. DeltaT) | AH34: Criteria failing
AB36: Note: | AC36: A TM 52 2013 analysis provides an assessment of comfort compliance based on bulk air modelling
AC37: i.e. each space is considered idealised and the air in the space perfectly mixed. The assessment does
AC38: not assess placement of space features e.g. windows & openings, airflow patterns or discomfort issues.
AC39: The user should assess these design aspects outside of the TM52 analysis.

Sheet DSY2 2020
B1: Room name | C1: Category | D1: Criterion 1 | E1: Criterion 2 | F1: Criterion 3 | G1: Max temperature | H1: Peak outdoor air temp | J1: Category I | Z1: Category II | AB1: Overall | AO1: Category III | BD1: Max temperature | BF1: Var. Name | BG1: Location | BH1: Filename | BI1: Type | BJ1: Min. Val. | BK1: Min. Time | BL1: Max. Val. | BM1: Max. Time | BN1: Mean | BR1: Max outdoor temperature | BT1: Var. Name | BU1: Location | BV1: Filename | BW1: Type | BX1: Min. Val. | BY1: Min. Time | BZ1: Max. Val. | CA1: Max. Time | CB1: Mean
B2: {=_xlfn.ANCHORARRAY('ID sheet'!B3)} -> L00 FAB LAB 01 | C2: {=_xlfn.ANCHORARRAY('ID sheet'!D3)} -> 2 | D2: {=IF(_xlfn.ANCHORARRAY(C2)=1,VLOOKUP(_xlfn.ANCHORARRAY(B2),L:Y,4,FALSE),IF(_xlfn.ANCHORARRAY(C2)=2,VLOOKUP(_xlfn.ANCHORARRAY(B2),AB:AN,4,FALSE),IF(_xlfn.ANCHORARRAY(C2)=3,VLOOKUP(_xlfn.ANCHORARRAY(B2),AQ:BC,4,FALSE))))} -> 0.2 | E2: {=IF(_xlfn.ANCHORARRAY(C2)=1,VLOOKUP(_xlfn.ANCHORARRAY(B2),L:Y,5,FALSE),IF(_xlfn.ANCHORARRAY(C2)=2,VLOOKUP(_xlfn.ANCHORARRAY(B2),AB:AN,5,FALSE),IF(_xlfn.ANCHORARRAY(C2)=3,VLOOKUP(_xlfn.ANCHORARRAY(B2),AQ:BC,5,FALSE))))} -> 3 | F2: {=IF(_xlfn.ANCHORARRAY(C2)=1,VLOOKUP(_xlfn.ANCHORARRAY(B2),L:Y,6,FALSE),IF(_xlfn.ANCHORARRAY(C2)=2,VLOOKUP(_xlfn.ANCHORARRAY(B2),AB:AN,6,FALSE),IF(_xlfn.ANCHORARRAY(C2)=3,VLOOKUP(_xlfn.ANCHORARRAY(B2),AQ:BC,6,FALSE))))} -> 1 | G2: {=ROUND(VLOOKUP(_xlfn.ANCHORARRAY(B2),BG:BL,6,FALSE),1)} -> 30.7 | H2: =BZ2 -> 38.6 | AB2: Passed: | AC2: 9 rooms: | BF2: Dry resultant temperature | BG2: L00 FAB LAB 01 | BH2: DSY2 2020 blockwork light upper.aps | BI2: Temperature (°C) | BJ2: 19.06 | BK2: 06:30,03/May | BL2: 30.7 | BM2: 16:30,10/Aug | BN2: 23.46 | BT2: Dry-bulb temperature | BV2: LHR2003_2020High50pct.epw | BW2: Temperature (°C) | BX2: 4.7 | BY2: 06:00,13/May | BZ2: 38.6 | CA2: 16:00,10/Aug | CB2: 18.47
B3: L00 FAB LAB 02 | C3: 2 | D3: 0.2 | E3: 3 | F3: 1 | G3: 30.7 | J3: Instructions | Z3: Instructions | AB3: Failed: | AC3: 0 rooms: | AO3: Instructions | BD3: Instructions | BF3: Dry resultant temperature | BG3: L00 FAB LAB 02 | BH3: DSY2 2020 blockwork light upper.aps | BI3: Temperature (°C) | BJ3: 19.08 | BK3: 06:30,03/May | BL3: 30.69 | BM3: 17:30,10/Aug | BN3: 23.54 | BR3: Instructions
B4: L00 FAB LAB 03 | C4: 2 | D4: 0.4 | E4: 3 | F4: 1 | G4: 31.3 | J4: =_xlfn.CONCAT("Paste TM52 results (Columns A:G) into cell ",ADDRESS(1,COLUMN(L1))) -> Paste TM52 results (Columns A:G) into cell $L$1 | Z4: =_xlfn.CONCAT("Paste TM52 results (Columns A:G) into cell ",ADDRESS(1,COLUMN(AB1))) -> Paste TM52 results (Columns A:G) into cell $AB$1 | AB4: Unoccupied: | AC4: 0 rooms: | AO4: =_xlfn.CONCAT("Paste TM52 results (Columns A:G) into cell ",ADDRESS(1,COLUMN(AQ1))) -> Paste TM52 results (Columns A:G) into cell $AQ$1 | BD4: =_xlfn.CONCAT("1. Paste min/max Tdr into cell ",ADDRESS(1,COLUMN(BF1))) -> 1. Paste min/max Tdr into cell $BF$1 | BF4: Dry resultant temperature | BG4: L00 FAB LAB 03 | BH4: DSY2 2020 blockwork light upper.aps | BI4: Temperature (°C) | BJ4: 19.17 | BK4: 06:30,03/May | BL4: 31.27 | BM4: 16:30,10/Aug | BN4: 23.57 | BR4: =_xlfn.CONCAT("1. Paste min/max Tdb into cell ",ADDRESS(1,COLUMN(BT1))) -> 1. Paste min/max Tdb into cell $BT$1
B5: L00 FAB LAB 04 | C5: 2 | D5: 0.2 | E5: 3 | F5: 1 | G5: 30.8 | BF5: Dry resultant temperature | BG5: L01 FAB LAB 06 | BH5: DSY2 2020 blockwork light upper.aps | BI5: Temperature (°C) | BJ5: 18.8 | BK5: 06:30,03/May | BL5: 32.02 | BM5: 17:30,10/Aug | BN5: 23.57
B6: L01 FAB LAB 05 | C6: 2 | D6: 0 | E6: 0 | F6: 0 | G6: 30.3 | AB6: Data: | BF6: Dry resultant temperature | BG6: L01 FAB LAB 07 | BH6: DSY2 2020 blockwork light upper.aps | BI6: Temperature (°C) | BJ6: 18.88 | BK6: 06:30,03/May | BL6: 32.12 | BM6: 16:30,10/Aug | BN6: 23.67
B7: L01 FAB LAB 06 | C7: 2 | D7: 1.2 | E7: 6 | F7: 2 | G7: 32 | AB7: Building category: | AC7: Category II (new builds.) | BF7: Dry resultant temperature | BG7: L01 FAB LAB 08 | BH7: DSY2 2020 blockwork light upper.aps | BI7: Temperature (°C) | BJ7: 18.92 | BK7: 06:30,03/May | BL7: 32.28 | BM7: 16:30,10/Aug | BN7: 23.63
B8: L01 FAB LAB 07 | C8: 2 | D8: 1.2 | E8: 7 | F8: 2 | G8: 32.1 | AB8: Weather file: | AC8: LHR2003_2020High50pct.epw | BF8: Dry resultant temperature | BG8: L00 FAB LAB 04 | BH8: DSY2 2020 blockwork light upper.aps | BI8: Temperature (°C) | BJ8: 19.15 | BK8: 06:30,03/May | BL8: 30.81 | BM8: 16:30,10/Aug | BN8: 23.74
B9: L01 FAB LAB 08 | C9: 2 | D9: 1.3 | E9: 7 | F9: 2 | G9: 32.3 | AB9: Days data= | AC9: 153 | AD9: 46143 | AE9: 46295 | BF9: Dry resultant temperature | BG9: L01 FAB LAB 09 | BH9: DSY2 2020 blockwork light upper.aps | BI9: Temperature (°C) | BJ9: 18.91 | BK9: 06:30,03/May | BL9: 31.91 | BM9: 16:30,10/Aug | BN9: 23.87
B10: L01 FAB LAB 09 | C10: 2 | D10: 1.2 | E10: 5 | F10: 2 | G10: 31.9 | AB10: Days (summer)= | AC10: 153 | AD10: 46143 | AE10: 46295 | BF10: Dry resultant temperature | BG10: L01 FAB LAB 05 | BH10: DSY2 2020 blockwork light upper.aps | BI10: Temperature (°C) | BJ10: 19.27 | BK10: 07:30,03/May | BL10: 30.27 | BM10: 17:30,10/Aug | BN10: 23.82
AB11: Data OK? | AC11: OK | AD11: Full summer
AB13: Occupancy:
AB14: Note: | AC14: This report assesses occupied periods only. Please be aware that TM52 should be conducted for occupied and/or “available hours”.
AC15: Use of educational NCM profiles may be seen as inappropriate due to prolonged unoccupied periods during summer months.
AC16: See Section 6.1.2 (a) of TM52 for further information.
AB18: Passed: | AC18: 9 rooms:
AB19: Room Name | AC19: Room ID | AD19: Occupied days (%) | AE19: Criteria 1 (%Hrs Top-Tmax>=1K) | AF19: Criteria 2 (Max. Daily Deg.Hrs) | AG19: Criteria 3 (Max. DeltaT) | AH19: Criteria failing
AB20: L00 FAB LAB 01 | AC20: L000002F | AD20: 100 | AE20: 0.2 | AF20: 3 | AG20: 1 | AH20: -
AB21: L00 FAB LAB 02 | AC21: L000003F | AD21: 100 | AE21: 0.2 | AF21: 3 | AG21: 1 | AH21: -
AB22: L00 FAB LAB 03 | AC22: L0000041 | AD22: 100 | AE22: 0.4 | AF22: 3 | AG22: 1 | AH22: -
AB23: L01 FAB LAB 06 | AC23: L000002B | AD23: 100 | AE23: 1.2 | AF23: 6 | AG23: 2 | AH23: -
AB24: L01 FAB LAB 07 | AC24: L0000044 | AD24: 100 | AE24: 1.2 | AF24: 7 | AG24: 2 | AH24: 2
AB25: L01 FAB LAB 08 | AC25: L0000045 | AD25: 100 | AE25: 1.3 | AF25: 7 | AG25: 2 | AH25: 2
AB26: L00 FAB LAB 04 | AC26: L000000F | AD26: 100 | AE26: 0.2 | AF26: 3 | AG26: 1 | AH26: -
AB27: L01 FAB LAB 09 | AC27: L0000009 | AD27: 100 | AE27: 1.2 | AF27: 5 | AG27: 2 | AH27: -
AB28: L01 FAB LAB 05 | AC28: L000000E | AD28: 100 | AE28: 0 | AF28: 0 | AG28: 0 | AH28: -
AB30: Failed: | AC30: 0 rooms:
AB31: Room Name | AC31: Room ID | AD31: Occupied days (%) | AE31: Criteria 1 (%Hrs Top-Tmax>=1K) | AF31: Criteria 2 (Max. Daily Deg.Hrs) | AG31: Criteria 3 (Max. DeltaT) | AH31: Criteria failing
AB33: Unoccupied: | AC33: 0 rooms:
AB34: Room Name | AC34: Room ID | AD34: Occupied days (%) | AE34: Criteria 1 (%Hrs Top-Tmax>=1K) | AF34: Criteria 2 (Max. Daily Deg.Hrs) | AG34: Criteria 3 (Max. DeltaT) | AH34: Criteria failing
AB36: Note: | AC36: A TM 52 2013 analysis provides an assessment of comfort compliance based on bulk air modelling
AC37: i.e. each space is considered idealised and the air in the space perfectly mixed. The assessment does
AC38: not assess placement of space features e.g. windows & openings, airflow patterns or discomfort issues.
AC39: The user should assess these design aspects outside of the TM52 analysis.

Sheet DSY3 2020
B1: Room name | C1: Category | D1: Criterion 1 | E1: Criterion 2 | F1: Criterion 3 | G1: Max temperature | H1: Peak outdoor air temp | J1: Category I | Z1: Category II | AB1: Overall | AO1: Category III | BD1: Max temperature | BF1: Var. Name | BG1: Location | BH1: Filename | BI1: Type | BJ1: Min. Val. | BK1: Min. Time | BL1: Max. Val. | BM1: Max. Time | BN1: Mean | BR1: Max outdoor temperature | BT1: Var. Name | BU1: Location | BV1: Filename | BW1: Type | BX1: Min. Val. | BY1: Min. Time | BZ1: Max. Val. | CA1: Max. Time | CB1: Mean
B2: {=_xlfn.ANCHORARRAY('ID sheet'!B3)} -> L00 FAB LAB 01 | C2: {=_xlfn.ANCHORARRAY('ID sheet'!D3)} -> 2 | D2: {=IF(_xlfn.ANCHORARRAY(C2)=1,VLOOKUP(_xlfn.ANCHORARRAY(B2),L:Y,4,FALSE),IF(_xlfn.ANCHORARRAY(C2)=2,VLOOKUP(_xlfn.ANCHORARRAY(B2),AB:AN,4,FALSE),IF(_xlfn.ANCHORARRAY(C2)=3,VLOOKUP(_xlfn.ANCHORARRAY(B2),AQ:BC,4,FALSE))))} -> 0 | E2: {=IF(_xlfn.ANCHORARRAY(C2)=1,VLOOKUP(_xlfn.ANCHORARRAY(B2),L:Y,5,FALSE),IF(_xlfn.ANCHORARRAY(C2)=2,VLOOKUP(_xlfn.ANCHORARRAY(B2),AB:AN,5,FALSE),IF(_xlfn.ANCHORARRAY(C2)=3,VLOOKUP(_xlfn.ANCHORARRAY(B2),AQ:BC,5,FALSE))))} -> 0 | F2: {=IF(_xlfn.ANCHORARRAY(C2)=1,VLOOKUP(_xlfn.ANCHORARRAY(B2),L:Y,6,FALSE),IF(_xlfn.ANCHORARRAY(C2)=2,VLOOKUP(_xlfn.ANCHORARRAY(B2),AB:AN,6,FALSE),IF(_xlfn.ANCHORARRAY(C2)=3,VLOOKUP(_xlfn.ANCHORARRAY(B2),AQ:BC,6,FALSE))))} -> 0 | G2: {=ROUND(VLOOKUP(_xlfn.ANCHORARRAY(B2),BG:BL,6,FALSE),1)} -> 30.3 | H2: =BZ2 -> 35 | AB2: Passed: | AC2: 9 rooms: | BF2: Dry resultant temperature | BG2: L00 FAB LAB 01 | BH2: DSY3 2020 blockwork light upper.aps | BI2: Temperature (°C) | BJ2: 17.21 | BK2: 06:30,01/May | BL2: 30.26 | BM2: 17:30,07/Jul | BN2: 23.46 | BT2: Dry-bulb temperature | BV2: LHR1976_2020High50pct.epw | BW2: Temperature (°C) | BX2: 5.8 | BY2: 07:00,15/May | BZ2: 35 | CA2: 16:00,27/Jun | CB2: 18.55
B3: L00 FAB LAB 02 | C3: 2 | D3: 0.1 | E3: 1 | F3: 1 | G3: 30.5 | J3: Instructions | Z3: Instructions | AB3: Failed: | AC3: 0 rooms: | AO3: Instructions | BD3: Instructions | BF3: Dry resultant temperature | BG3: L00 FAB LAB 02 | BH3: DSY3 2020 blockwork light upper.aps | BI3: Temperature (°C) | BJ3: 17.1 | BK3: 06:30,01/May | BL3: 30.5 | BM3: 17:30,07/Jul | BN3: 23.55 | BR3: Instructions
B4: L00 FAB LAB 03 | C4: 2 | D4: 0 | E4: 0 | F4: 0 | G4: 30.5 | J4: =_xlfn.CONCAT("Paste TM52 results (Columns A:G) into cell ",ADDRESS(1,COLUMN(L1))) -> Paste TM52 results (Columns A:G) into cell $L$1 | Z4: =_xlfn.CONCAT("Paste TM52 results (Columns A:G) into cell ",ADDRESS(1,COLUMN(AB1))) -> Paste TM52 results (Columns A:G) into cell $AB$1 | AB4: Unoccupied: | AC4: 0 rooms: | AO4: =_xlfn.CONCAT("Paste TM52 results (Columns A:G) into cell ",ADDRESS(1,COLUMN(AQ1))) -> Paste TM52 results (Columns A:G) into cell $AQ$1 | BD4: =_xlfn.CONCAT("1. Paste min/max Tdr into cell ",ADDRESS(1,COLUMN(BF1))) -> 1. Paste min/max Tdr into cell $BF$1 | BF4: Dry resultant temperature | BG4: L00 FAB LAB 03 | BH4: DSY3 2020 blockwork light upper.aps | BI4: Temperature (°C) | BJ4: 17.3 | BK4: 06:30,01/May | BL4: 30.48 | BM4: 16:30,06/Jul | BN4: 23.58 | BR4: =_xlfn.CONCAT("1. Paste min/max Tdb into cell ",ADDRESS(1,COLUMN(BT1))) -> 1. Paste min/max Tdb into cell $BT$1
B5: L00 FAB LAB 04 | C5: 2 | D5: 0 | E5: 0 | F5: 0 | G5: 30.4 | BF5: Dry resultant temperature | BG5: L01 FAB LAB 06 | BH5: DSY3 2020 blockwork light upper.aps | BI5: Temperature (°C) | BJ5: 17.1 | BK5: 06:30,01/May | BL5: 31.12 | BM5: 17:30,06/Jul | BN5: 23.6
B6: L01 FAB LAB 05 | C6: 2 | D6: 0 | E6: 0 | F6: 0 | G6: 29.8 | AB6: Data: | BF6: Dry resultant temperature | BG6: L01 FAB LAB 07 | BH6: DSY3 2020 blockwork light upper.aps | BI6: Temperature (°C) | BJ6: 17.07 | BK6: 06:30,01/May | BL6: 31.6 | BM6: 17:30,29/Jun | BN6: 23.71
B7: L01 FAB LAB 06 | C7: 2 | D7: 1 | E7: 2 | F7: 1 | G7: 31.1 | AB7: Building category: | AC7: Category II (new builds.) | BF7: Dry resultant temperature | BG7: L01 FAB LAB 08 | BH7: DSY3 2020 blockwork light upper.aps | BI7: Temperature (°C) | BJ7: 17.2 | BK7: 06:30,01/May | BL7: 31.2 | BM7: 16:30,06/Jul | BN7: 23.66
B8: L01 FAB LAB 07 | C8: 2 | D8: 1.8 | E8: 4 | F8: 2 | G8: 31.6 | AB8: Weather file: | AC8: LHR1976_2020High50pct.epw | BF8: Dry resultant temperature | BG8: L00 FAB LAB 04 | BH8: DSY3 2020 blockwork light upper.aps | BI8: Temperature (°C) | BJ8: 17.42 | BK8: 06:30,01/May | BL8: 30.42 | BM8: 16:30,06/Jul | BN8: 23.74
B9: L01 FAB LAB 08 | C9: 2 | D9: 1.2 | E9: 3 | F9: 1 | G9: 31.2 | AB9: Days data= | AC9: 153 | AD9: 46143 | AE9: 46295 | BF9: Dry resultant temperature | BG9: L01 FAB LAB 09 | BH9: DSY3 2020 blockwork light upper.aps | BI9: Temperature (°C) | BJ9: 17.26 | BK9: 06:30,01/May | BL9: 31.33 | BM9: 17:30,06/Jul | BN9: 23.89
B10: L01 FAB LAB 09 | C10: 2 | D10: 1.4 | E10: 2 | F10: 1 | G10: 31.3 | AB10: Days (summer)= | AC10: 153 | AD10: 46143 | AE10: 46295 | BF10: Dry resultant temperature | BG10: L01 FAB LAB 05 | BH10: DSY3 2020 blockwork light upper.aps | BI10: Temperature (°C) | BJ10: 17.41 | BK10: 06:30,01/May | BL10: 29.83 | BM10: 17:30,06/Jul | BN10: 23.82
AB11: Data OK? | AC11: OK | AD11: Full summer
AB13: Occupancy:
AB14: Note: | AC14: This report assesses occupied periods only. Please be aware that TM52 should be conducted for occupied and/or “available hours”.
AC15: Use of educational NCM profiles may be seen as inappropriate due to prolonged unoccupied periods during summer months.
AC16: See Section 6.1.2 (a) of TM52 for further information.
AB18: Passed: | AC18: 9 rooms:
AB19: Room Name | AC19: Room ID | AD19: Occupied days (%) | AE19: Criteria 1 (%Hrs Top-Tmax>=1K) | AF19: Criteria 2 (Max. Daily Deg.Hrs) | AG19: Criteria 3 (Max. DeltaT) | AH19: Criteria failing
AB20: L00 FAB LAB 01 | AC20: L000002F | AD20: 100 | AE20: 0 | AF20: 0 | AG20: 0 | AH20: -
AB21: L00 FAB LAB 02 | AC21: L000003F | AD21: 100 | AE21: 0.1 | AF21: 1 | AG21: 1 | AH21: -
AB22: L00 FAB LAB 03 | AC22: L0000041 | AD22: 100 | AE22: 0 | AF22: 0 | AG22: 0 | AH22: -
AB23: L01 FAB LAB 06 | AC23: L000002B | AD23: 100 | AE23: 1 | AF23: 2 | AG23: 1 | AH23: -
AB24: L01 FAB LAB 07 | AC24: L0000044 | AD24: 100 | AE24: 1.8 | AF24: 4 | AG24: 2 | AH24: -
AB25: L01 FAB LAB 08 | AC25: L0000045 | AD25: 100 | AE25: 1.2 | AF25: 3 | AG25: 1 | AH25: -
AB26: L00 FAB LAB 04 | AC26: L000000F | AD26: 100 | AE26: 0 | AF26: 0 | AG26: 0 | AH26: -
AB27: L01 FAB LAB 09 | AC27: L0000009 | AD27: 100 | AE27: 1.4 | AF27: 2 | AG27: 1 | AH27: -
AB28: L01 FAB LAB 05 | AC28: L000000E | AD28: 100 | AE28: 0 | AF28: 0 | AG28: 0 | AH28: -
AB30: Failed: | AC30: 0 rooms:
AB31: Room Name | AC31: Room ID | AD31: Occupied days (%) | AE31: Criteria 1 (%Hrs Top-Tmax>=1K) | AF31: Criteria 2 (Max. Daily Deg.Hrs) | AG31: Criteria 3 (Max. DeltaT) | AH31: Criteria failing
AB33: Unoccupied: | AC33: 0 rooms:
AB34: Room Name | AC34: Room ID | AD34: Occupied days (%) | AE34: Criteria 1 (%Hrs Top-Tmax>=1K) | AF34: Criteria 2 (Max. Daily Deg.Hrs) | AG34: Criteria 3 (Max. DeltaT) | AH34: Criteria failing
AB36: Note: | AC36: A TM 52 2013 analysis provides an assessment of comfort compliance based on bulk air modelling
AC37: i.e. each space is considered idealised and the air in the space perfectly mixed. The assessment does
AC38: not assess placement of space features e.g. windows & openings, airflow patterns or discomfort issues.
AC39: The user should assess these design aspects outside of the TM52 analysis.

Sheet DSY1 2050
B1: Room name | C1: Category | D1: Criterion 1 | E1: Criterion 2 | F1: Criterion 3 | G1: Max temperature | H1: Peak outdoor air temp | J1: Category I | Z1: Category II | AB1: Overall | AO1: Category III | BD1: Max temperature | BF1: Var. Name | BG1: Location | BH1: Filename | BI1: Type | BJ1: Min. Val. | BK1: Min. Time | BL1: Max. Val. | BM1: Max. Time | BN1: Mean | BR1: Max outdoor temperature | BT1: Var. Name | BU1: Location | BV1: Filename | BW1: Type | BX1: Min. Val. | BY1: Min. Time | BZ1: Max. Val. | CA1: Max. Time | CB1: Mean
B2: {=_xlfn.ANCHORARRAY('ID sheet'!B3)} -> L00 FAB LAB 01 | C2: {=_xlfn.ANCHORARRAY('ID sheet'!D3)} -> 2 | D2: {=IF(_xlfn.ANCHORARRAY(C2)=1,VLOOKUP(_xlfn.ANCHORARRAY(B2),L:Y,4,FALSE),IF(_xlfn.ANCHORARRAY(C2)=2,VLOOKUP(_xlfn.ANCHORARRAY(B2),AB:AN,4,FALSE),IF(_xlfn.ANCHORARRAY(C2)=3,VLOOKUP(_xlfn.ANCHORARRAY(B2),AQ:BC,4,FALSE))))} -> 0.5 | E2: {=IF(_xlfn.ANCHORARRAY(C2)=1,VLOOKUP(_xlfn.ANCHORARRAY(B2),L:Y,5,FALSE),IF(_xlfn.ANCHORARRAY(C2)=2,VLOOKUP(_xlfn.ANCHORARRAY(B2),AB:AN,5,FALSE),IF(_xlfn.ANCHORARRAY(C2)=3,VLOOKUP(_xlfn.ANCHORARRAY(B2),AQ:BC,5,FALSE))))} -> 2 | F2: {=IF(_xlfn.ANCHORARRAY(C2)=1,VLOOKUP(_xlfn.ANCHORARRAY(B2),L:Y,6,FALSE),IF(_xlfn.ANCHORARRAY(C2)=2,VLOOKUP(_xlfn.ANCHORARRAY(B2),AB:AN,6,FALSE),IF(_xlfn.ANCHORARRAY(C2)=3,VLOOKUP(_xlfn.ANCHORARRAY(B2),AQ:BC,6,FALSE))))} -> 1 | G2: {=ROUND(VLOOKUP(_xlfn.ANCHORARRAY(B2),BG:BL,6,FALSE),1)} -> 30.9 | H2: =BZ2 -> 36.4 | AB2: Passed: | AC2: 9 rooms: | BF2: Dry resultant temperature | BG2: L00 FAB LAB 01 | BH2: DSY1 2050 blockwork light upper.aps | BI2: Temperature (°C) | BJ2: 18.33 | BK2: 06:30,01/May | BL2: 30.9 | BM2: 17:30,25/Jul | BN2: 24.42 | BT2: Dry-bulb temperature | BV2: LHR1989_2050High50pct.epw | BW2: Temperature (°C) | BX2: 6.5 | BY2: 06:00,31/May | BZ2: 36.4 | CA2: 18:00,22/Jul | CB2: 20.02
B3: L00 FAB LAB 02 | C3: 2 | D3: 0.7 | E3: 3 | F3: 1 | G3: 31 | J3: Instructions | Z3: Instructions | AB3: Failed: | AC3: 0 rooms: | AO3: Instructions | BD3: Instructions | BF3: Dry resultant temperature | BG3: L00 FAB LAB 02 | BH3: DSY1 2050 blockwork light upper.aps | BI3: Temperature (°C) | BJ3: 18.33 | BK3: 06:30,01/May | BL3: 31.01 | BM3: 17:30,25/Jul | BN3: 24.5 | BR3: Instructions
B4: L00 FAB LAB 03 | C4: 2 | D4: 0.5 | E4: 3 | F4: 1 | G4: 31 | J4: =_xlfn.CONCAT("Paste TM52 results (Columns A:G) into cell ",ADDRESS(1,COLUMN(L1))) -> Paste TM52 results (Columns A:G) into cell $L$1 | Z4: =_xlfn.CONCAT("Paste TM52 results (Columns A:G) into cell ",ADDRESS(1,COLUMN(AB1))) -> Paste TM52 results (Columns A:G) into cell $AB$1 | AB4: Unoccupied: | AC4: 0 rooms: | AO4: =_xlfn.CONCAT("Paste TM52 results (Columns A:G) into cell ",ADDRESS(1,COLUMN(AQ1))) -> Paste TM52 results (Columns A:G) into cell $AQ$1 | BD4: =_xlfn.CONCAT("1. Paste min/max Tdr into cell ",ADDRESS(1,COLUMN(BF1))) -> 1. Paste min/max Tdr into cell $BF$1 | BF4: Dry resultant temperature | BG4: L00 FAB LAB 03 | BH4: DSY1 2050 blockwork light upper.aps | BI4: Temperature (°C) | BJ4: 18.54 | BK4: 06:30,01/May | BL4: 30.96 | BM4: 16:30,24/Jul | BN4: 24.53 | BR4: =_xlfn.CONCAT("1. Paste min/max Tdb into cell ",ADDRESS(1,COLUMN(BT1))) -> 1. Paste min/max Tdb into cell $BT$1
B5: L00 FAB LAB 04 | C5: 2 | D5: 0.6 | E5: 3 | F5: 1 | G5: 31.1 | BF5: Dry resultant temperature | BG5: L01 FAB LAB 06 | BH5: DSY1 2050 blockwork light upper.aps | BI5: Temperature (°C) | BJ5: 18.21 | BK5: 06:30,01/May | BL5: 31.99 | BM5: 17:30,22/Jul | BN5: 24.6
B6: L01 FAB LAB 05 | C6: 2 | D6: 0.1 | E6: 1 | F6: 1 | G6: 30.6 | AB6: Data: | BF6: Dry resultant temperature | BG6: L01 FAB LAB 07 | BH6: DSY1 2050 blockwork light upper.aps | BI6: Temperature (°C) | BJ6: 18.27 | BK6: 06:30,01/May | BL6: 32.35 | BM6: 17:30,22/Jul | BN6: 24.69
B7: L01 FAB LAB 06 | C7: 2 | D7: 1.6 | E7: 6 | F7: 2 | G7: 32 | AB7: Building category: | AC7: Category II (new builds.) | BF7: Dry resultant temperature | BG7: L01 FAB LAB 08 | BH7: DSY1 2050 blockwork light upper.aps | BI7: Temperature (°C) | BJ7: 18.4 | BK7: 06:30,01/May | BL7: 31.92 | BM7: 16:30,24/Jul | BN7: 24.65
B8: L01 FAB LAB 07 | C8: 2 | D8: 2.8 | E8: 8 | F8: 3 | G8: 32.4 | AB8: Weather file: | AC8: LHR1989_2050High50pct.epw | BF8: Dry resultant temperature | BG8: L00 FAB LAB 04 | BH8: DSY1 2050 blockwork light upper.aps | BI8: Temperature (°C) | BJ8: 18.46 | BK8: 06:30,01/May | BL8: 31.11 | BM8: 16:30,25/Jul | BN8: 24.71
B9: L01 FAB LAB 08 | C9: 2 | D9: 1.7 | E9: 7 | F9: 2 | G9: 31.9 | AB9: Days data= | AC9: 153 | AD9: 46143 | AE9: 46295 | BF9: Dry resultant temperature | BG9: L01 FAB LAB 09 | BH9: DSY1 2050 blockwork light upper.aps | BI9: Temperature (°C) | BJ9: 18.32 | BK9: 06:30,01/May | BL9: 32.24 | BM9: 17:30,24/Jul | BN9: 24.91
B10: L01 FAB LAB 09 | C10: 2 | D10: 3.1 | E10: 6 | F10: 2 | G10: 32.2 | AB10: Days (summer)= | AC10: 153 | AD10: 46143 | AE10: 46295 | BF10: Dry resultant temperature | BG10: L01 FAB LAB 05 | BH10: DSY1 2050 blockwork light upper.aps | BI10: Temperature (°C) | BJ10: 18.46 | BK10: 07:30,01/May | BL10: 30.64 | BM10: 17:30,25/Jul | BN10: 24.82
AB11: Data OK? | AC11: OK | AD11: Full summer
AB13: Occupancy:
AB14: Note: | AC14: This report assesses occupied periods only. Please be aware that TM52 should be conducted for occupied and/or “available hours”.
AC15: Use of educational NCM profiles may be seen as inappropriate due to prolonged unoccupied periods during summer months.
AC16: See Section 6.1.2 (a) of TM52 for further information.
AB18: Passed: | AC18: 9 rooms:
AB19: Room Name | AC19: Room ID | AD19: Occupied days (%) | AE19: Criteria 1 (%Hrs Top-Tmax>=1K) | AF19: Criteria 2 (Max. Daily Deg.Hrs) | AG19: Criteria 3 (Max. DeltaT) | AH19: Criteria failing
AB20: L00 FAB LAB 01 | AC20: L000002F | AD20: 100 | AE20: 0.5 | AF20: 2 | AG20: 1 | AH20: -
AB21: L00 FAB LAB 02 | AC21: L000003F | AD21: 100 | AE21: 0.7 | AF21: 3 | AG21: 1 | AH21: -
AB22: L00 FAB LAB 03 | AC22: L0000041 | AD22: 100 | AE22: 0.5 | AF22: 3 | AG22: 1 | AH22: -
AB23: L01 FAB LAB 06 | AC23: L000002B | AD23: 100 | AE23: 1.6 | AF23: 6 | AG23: 2 | AH23: -
AB24: L01 FAB LAB 07 | AC24: L0000044 | AD24: 100 | AE24: 2.8 | AF24: 8 | AG24: 3 | AH24: 2
AB25: L01 FAB LAB 08 | AC25: L0000045 | AD25: 100 | AE25: 1.7 | AF25: 7 | AG25: 2 | AH25: 2
AB26: L00 FAB LAB 04 | AC26: L000000F | AD26: 100 | AE26: 0.6 | AF26: 3 | AG26: 1 | AH26: -
AB27: L01 FAB LAB 09 | AC27: L0000009 | AD27: 100 | AE27: 3.1 | AF27: 6 | AG27: 2 | AH27: 1
AB28: L01 FAB LAB 05 | AC28: L000000E | AD28: 100 | AE28: 0.1 | AF28: 1 | AG28: 1 | AH28: -
AB30: Failed: | AC30: 0 rooms:
AB31: Room Name | AC31: Room ID | AD31: Occupied days (%) | AE31: Criteria 1 (%Hrs Top-Tmax>=1K) | AF31: Criteria 2 (Max. Daily Deg.Hrs) | AG31: Criteria 3 (Max. DeltaT) | AH31: Criteria failing
AB33: Unoccupied: | AC33: 0 rooms:
AB34: Room Name | AC34: Room ID | AD34: Occupied days (%) | AE34: Criteria 1 (%Hrs Top-Tmax>=1K) | AF34: Criteria 2 (Max. Daily Deg.Hrs) | AG34: Criteria 3 (Max. DeltaT) | AH34: Criteria failing
AB36: Note: | AC36: A TM 52 2013 analysis provides an assessment of comfort compliance based on bulk air modelling
AC37: i.e. each space is considered idealised and the air in the space perfectly mixed. The assessment does
AC38: not assess placement of space features e.g. windows & openings, airflow patterns or discomfort issues.
AC39: The user should assess these design aspects outside of the TM52 analysis.

Sheet DSY2 2050
B1: Room name | C1: Category | D1: Criterion 1 | E1: Criterion 2 | F1: Criterion 3 | G1: Max temperature | H1: Peak outdoor air temp | J1: Category I | Z1: Category II | AB1: Overall | AO1: Category III | BD1: Max temperature | BF1: Var. Name | BG1: Location | BH1: Filename | BI1: Type | BJ1: Min. Val. | BK1: Min. Time | BL1: Max. Val. | BM1: Max. Time | BN1: Mean | BR1: Max outdoor temperature | BT1: Var. Name | BU1: Location | BV1: Filename | BW1: Type | BX1: Min. Val. | BY1: Min. Time | BZ1: Max. Val. | CA1: Max. Time | CB1: Mean
B2: {=_xlfn.ANCHORARRAY('ID sheet'!B3)} -> L00 FAB LAB 01 | C2: {=_xlfn.ANCHORARRAY('ID sheet'!D3)} -> 2 | D2: {=IF(_xlfn.ANCHORARRAY(C2)=1,VLOOKUP(_xlfn.ANCHORARRAY(B2),L:Y,4,FALSE),IF(_xlfn.ANCHORARRAY(C2)=2,VLOOKUP(_xlfn.ANCHORARRAY(B2),AB:AN,4,FALSE),IF(_xlfn.ANCHORARRAY(C2)=3,VLOOKUP(_xlfn.ANCHORARRAY(B2),AQ:BC,4,FALSE))))} -> 0.6 | E2: {=IF(_xlfn.ANCHORARRAY(C2)=1,VLOOKUP(_xlfn.ANCHORARRAY(B2),L:Y,5,FALSE),IF(_xlfn.ANCHORARRAY(C2)=2,VLOOKUP(_xlfn.ANCHORARRAY(B2),AB:AN,5,FALSE),IF(_xlfn.ANCHORARRAY(C2)=3,VLOOKUP(_xlfn.ANCHORARRAY(B2),AQ:BC,5,FALSE))))} -> 4 | F2: {=IF(_xlfn.ANCHORARRAY(C2)=1,VLOOKUP(_xlfn.ANCHORARRAY(B2),L:Y,6,FALSE),IF(_xlfn.ANCHORARRAY(C2)=2,VLOOKUP(_xlfn.ANCHORARRAY(B2),AB:AN,6,FALSE),IF(_xlfn.ANCHORARRAY(C2)=3,VLOOKUP(_xlfn.ANCHORARRAY(B2),AQ:BC,6,FALSE))))} -> 1 | G2: {=ROUND(VLOOKUP(_xlfn.ANCHORARRAY(B2),BG:BL,6,FALSE),1)} -> 31.7 | H2: =BZ2 -> 39.9 | AB2: Passed: | AC2: 9 rooms: | BF2: Dry resultant temperature | BG2: L00 FAB LAB 01 | BH2: DSY2 2050 blockwork light upper.aps | BI2: Temperature (°C) | BJ2: 19.37 | BK2: 05:30,01/May | BL2: 31.7 | BM2: 16:30,10/Aug | BN2: 24.13 | BT2: Dry-bulb temperature | BV2: LHR2003_2050Med50pct.epw | BW2: Temperature (°C) | BX2: 5.6 | BY2: 06:00,13/May | BZ2: 39.9 | CA2: 16:00,10/Aug | CB2: 19.65
B3: L00 FAB LAB 02 | C3: 2 | D3: 0.7 | E3: 4 | F3: 1 | G3: 31.7 | J3: Instructions | Z3: Instructions | AB3: Failed: | AC3: 0 rooms: | AO3: Instructions | BD3: Instructions | BF3: Dry resultant temperature | BG3: L00 FAB LAB 02 | BH3: DSY2 2050 blockwork light upper.aps | BI3: Temperature (°C) | BJ3: 19.42 | BK3: 06:30,03/May | BL3: 31.69 | BM3: 17:30,10/Aug | BN3: 24.21 | BR3: Instructions
B4: L00 FAB LAB 03 | C4: 2 | D4: 0.9 | E4: 7 | F4: 2 | G4: 32.3 | J4: =_xlfn.CONCAT("Paste TM52 results (Columns A:G) into cell ",ADDRESS(1,COLUMN(L1))) -> Paste TM52 results (Columns A:G) into cell $L$1 | Z4: =_xlfn.CONCAT("Paste TM52 results (Columns A:G) into cell ",ADDRESS(1,COLUMN(AB1))) -> Paste TM52 results (Columns A:G) into cell $AB$1 | AB4: Unoccupied: | AC4: 0 rooms: | AO4: =_xlfn.CONCAT("Paste TM52 results (Columns A:G) into cell ",ADDRESS(1,COLUMN(AQ1))) -> Paste TM52 results (Columns A:G) into cell $AQ$1 | BD4: =_xlfn.CONCAT("1. Paste min/max Tdr into cell ",ADDRESS(1,COLUMN(BF1))) -> 1. Paste min/max Tdr into cell $BF$1 | BF4: Dry resultant temperature | BG4: L00 FAB LAB 03 | BH4: DSY2 2050 blockwork light upper.aps | BI4: Temperature (°C) | BJ4: 19.51 | BK4: 06:30,03/May | BL4: 32.28 | BM4: 16:30,10/Aug | BN4: 24.24 | BR4: =_xlfn.CONCAT("1. Paste min/max Tdb into cell ",ADDRESS(1,COLUMN(BT1))) -> 1. Paste min/max Tdb into cell $BT$1
B5: L00 FAB LAB 04 | C5: 2 | D5: 0.7 | E5: 5 | F5: 2 | G5: 31.8 | BF5: Dry resultant temperature | BG5: L01 FAB LAB 06 | BH5: DSY2 2050 blockwork light upper.aps | BI5: Temperature (°C) | BJ5: 19.13 | BK5: 06:30,03/May | BL5: 33.06 | BM5: 17:30,10/Aug | BN5: 24.27
B6: L01 FAB LAB 05 | C6: 2 | D6: 0.2 | E6: 3 | F6: 1 | G6: 31.3 | AB6: Data: | BF6: Dry resultant temperature | BG6: L01 FAB LAB 07 | BH6: DSY2 2050 blockwork light upper.aps | BI6: Temperature (°C) | BJ6: 19.2 | BK6: 06:30,03/May | BL6: 33.17 | BM6: 16:30,10/Aug | BN6: 24.36
B7: L01 FAB LAB 06 | C7: 2 | D7: 2 | E7: 9 | F7: 3 | G7: 33.1 | AB7: Building category: | AC7: Category II (new builds.) | BF7: Dry resultant temperature | BG7: L01 FAB LAB 08 | BH7: DSY2 2050 blockwork light upper.aps | BI7: Temperature (°C) | BJ7: 19.23 | BK7: 06:30,03/May | BL7: 33.33 | BM7: 16:30,10/Aug | BN7: 24.32
B8: L01 FAB LAB 07 | C8: 2 | D8: 2.4 | E8: 11 | F8: 3 | G8: 33.2 | AB8: Weather file: | AC8: LHR2003_2050Med50pct.epw | BF8: Dry resultant temperature | BG8: L00 FAB LAB 04 | BH8: DSY2 2050 blockwork light upper.aps | BI8: Temperature (°C) | BJ8: 19.49 | BK8: 06:30,03/May | BL8: 31.8 | BM8: 16:30,10/Aug | BN8: 24.44
B9: L01 FAB LAB 08 | C9: 2 | D9: 2.3 | E9: 12 | F9: 3 | G9: 33.3 | AB9: Days data= | AC9: 153 | AD9: 46143 | AE9: 46295 | BF9: Dry resultant temperature | BG9: L01 FAB LAB 09 | BH9: DSY2 2050 blockwork light upper.aps | BI9: Temperature (°C) | BJ9: 19.24 | BK9: 06:30,03/May | BL9: 32.94 | BM9: 16:30,10/Aug | BN9: 24.59
B10: L01 FAB LAB 09 | C10: 2 | D10: 2.5 | E10: 8 | F10: 3 | G10: 32.9 | AB10: Days (summer)= | AC10: 153 | AD10: 46143 | AE10: 46295 | BF10: Dry resultant temperature | BG10: L01 FAB LAB 05 | BH10: DSY2 2050 blockwork light upper.aps | BI10: Temperature (°C) | BJ10: 19.66 | BK10: 07:30,03/May | BL10: 31.31 | BM10: 17:30,10/Aug | BN10: 24.52
AB11: Data OK? | AC11: OK | AD11: Full summer
AB13: Occupancy:
AB14: Note: | AC14: This report assesses occupied periods only. Please be aware that TM52 should be conducted for occupied and/or “available hours”.
AC15: Use of educational NCM profiles may be seen as inappropriate due to prolonged unoccupied periods during summer months.
AC16: See Section 6.1.2 (a) of TM52 for further information.
AB18: Passed: | AC18: 9 rooms:
AB19: Room Name | AC19: Room ID | AD19: Occupied days (%) | AE19: Criteria 1 (%Hrs Top-Tmax>=1K) | AF19: Criteria 2 (Max. Daily Deg.Hrs) | AG19: Criteria 3 (Max. DeltaT) | AH19: Criteria failing
AB20: L00 FAB LAB 01 | AC20: L000002F | AD20: 100 | AE20: 0.6 | AF20: 4 | AG20: 1 | AH20: -
AB21: L00 FAB LAB 02 | AC21: L000003F | AD21: 100 | AE21: 0.7 | AF21: 4 | AG21: 1 | AH21: -
AB22: L00 FAB LAB 03 | AC22: L0000041 | AD22: 100 | AE22: 0.9 | AF22: 7 | AG22: 2 | AH22: 2
AB23: L01 FAB LAB 06 | AC23: L000002B | AD23: 100 | AE23: 2 | AF23: 9 | AG23: 3 | AH23: 2
AB24: L01 FAB LAB 07 | AC24: L0000044 | AD24: 100 | AE24: 2.4 | AF24: 11 | AG24: 3 | AH24: 2
AB25: L01 FAB LAB 08 | AC25: L0000045 | AD25: 100 | AE25: 2.3 | AF25: 12 | AG25: 3 | AH25: 2
AB26: L00 FAB LAB 04 | AC26: L000000F | AD26: 100 | AE26: 0.7 | AF26: 5 | AG26: 2 | AH26: -
AB27: L01 FAB LAB 09 | AC27: L0000009 | AD27: 100 | AE27: 2.5 | AF27: 8 | AG27: 3 | AH27: 2
AB28: L01 FAB LAB 05 | AC28: L000000E | AD28: 100 | AE28: 0.2 | AF28: 3 | AG28: 1 | AH28: -
AB30: Failed: | AC30: 0 rooms:
AB31: Room Name | AC31: Room ID | AD31: Occupied days (%) | AE31: Criteria 1 (%Hrs Top-Tmax>=1K) | AF31: Criteria 2 (Max. Daily Deg.Hrs) | AG31: Criteria 3 (Max. DeltaT) | AH31: Criteria failing
AB33: Unoccupied: | AC33: 0 rooms:
AB34: Room Name | AC34: Room ID | AD34: Occupied days (%) | AE34: Criteria 1 (%Hrs Top-Tmax>=1K) | AF34: Criteria 2 (Max. Daily Deg.Hrs) | AG34: Criteria 3 (Max. DeltaT) | AH34: Criteria failing
AB36: Note: | AC36: A TM 52 2013 analysis provides an assessment of comfort compliance based on bulk air modelling
AC37: i.e. each space is considered idealised and the air in the space perfectly mixed. The assessment does
AC38: not assess placement of space features e.g. windows & openings, airflow patterns or discomfort issues.
AC39: The user should assess these design aspects outside of the TM52 analysis.

Sheet DSY3 2050
B1: Room name | C1: Category | D1: Criterion 1 | E1: Criterion 2 | F1: Criterion 3 | G1: Max temperature | H1: Peak outdoor air temp | J1: Category I | Z1: Category II | AB1: Overall | AO1: Category III | BD1: Max temperature | BF1: Var. Name | BG1: Location | BH1: Filename | BI1: Type | BJ1: Min. Val. | BK1: Min. Time | BL1: Max. Val. | BM1: Max. Time | BN1: Mean | BR1: Max outdoor temperature | BT1: Var. Name | BU1: Location | BV1: Filename | BW1: Type | BX1: Min. Val. | BY1: Min. Time | BZ1: Max. Val. | CA1: Max. Time | CB1: Mean
B2: {=_xlfn.ANCHORARRAY('ID sheet'!B3)} -> L00 FAB LAB 01 | C2: {=_xlfn.ANCHORARRAY('ID sheet'!D3)} -> 2 | D2: {=IF(_xlfn.ANCHORARRAY(C2)=1,VLOOKUP(_xlfn.ANCHORARRAY(B2),L:Y,4,FALSE),IF(_xlfn.ANCHORARRAY(C2)=2,VLOOKUP(_xlfn.ANCHORARRAY(B2),AB:AN,4,FALSE),IF(_xlfn.ANCHORARRAY(C2)=3,VLOOKUP(_xlfn.ANCHORARRAY(B2),AQ:BC,4,FALSE))))} -> 0.5 | E2: {=IF(_xlfn.ANCHORARRAY(C2)=1,VLOOKUP(_xlfn.ANCHORARRAY(B2),L:Y,5,FALSE),IF(_xlfn.ANCHORARRAY(C2)=2,VLOOKUP(_xlfn.ANCHORARRAY(B2),AB:AN,5,FALSE),IF(_xlfn.ANCHORARRAY(C2)=3,VLOOKUP(_xlfn.ANCHORARRAY(B2),AQ:BC,5,FALSE))))} -> 2 | F2: {=IF(_xlfn.ANCHORARRAY(C2)=1,VLOOKUP(_xlfn.ANCHORARRAY(B2),L:Y,6,FALSE),IF(_xlfn.ANCHORARRAY(C2)=2,VLOOKUP(_xlfn.ANCHORARRAY(B2),AB:AN,6,FALSE),IF(_xlfn.ANCHORARRAY(C2)=3,VLOOKUP(_xlfn.ANCHORARRAY(B2),AQ:BC,6,FALSE))))} -> 1 | G2: {=ROUND(VLOOKUP(_xlfn.ANCHORARRAY(B2),BG:BL,6,FALSE),1)} -> 31.4 | H2: =BZ2 -> 36.3 | AB2: Passed: | AC2: 9 rooms: | BF2: Dry resultant temperature | BG2: L00 FAB LAB 01 | BH2: DSY3 2050 blockwork light upper.aps | BI2: Temperature (°C) | BJ2: 17.62 | BK2: 06:30,01/May | BL2: 31.37 | BM2: 17:30,07/Jul | BN2: 24.14 | BT2: Dry-bulb temperature | BV2: LHR1976_2050Med50pct.epw | BW2: Temperature (°C) | BX2: 6.7 | BY2: 07:00,15/May | BZ2: 36.3 | CA2: 16:00,27/Jun | CB2: 19.73
B3: L00 FAB LAB 02 | C3: 2 | D3: 1.4 | E3: 3 | F3: 1 | G3: 31.6 | J3: Instructions | Z3: Instructions | AB3: Failed: | AC3: 0 rooms: | AO3: Instructions | BD3: Instructions | BF3: Dry resultant temperature | BG3: L00 FAB LAB 02 | BH3: DSY3 2050 blockwork light upper.aps | BI3: Temperature (°C) | BJ3: 17.54 | BK3: 06:30,01/May | BL3: 31.64 | BM3: 17:30,07/Jul | BN3: 24.23 | BR3: Instructions
B4: L00 FAB LAB 03 | C4: 2 | D4: 0.9 | E4: 3 | F4: 1 | G4: 31.6 | J4: =_xlfn.CONCAT("Paste TM52 results (Columns A:G) into cell ",ADDRESS(1,COLUMN(L1))) -> Paste TM52 results (Columns A:G) into cell $L$1 | Z4: =_xlfn.CONCAT("Paste TM52 results (Columns A:G) into cell ",ADDRESS(1,COLUMN(AB1))) -> Paste TM52 results (Columns A:G) into cell $AB$1 | AB4: Unoccupied: | AC4: 0 rooms: | AO4: =_xlfn.CONCAT("Paste TM52 results (Columns A:G) into cell ",ADDRESS(1,COLUMN(AQ1))) -> Paste TM52 results (Columns A:G) into cell $AQ$1 | BD4: =_xlfn.CONCAT("1. Paste min/max Tdr into cell ",ADDRESS(1,COLUMN(BF1))) -> 1. Paste min/max Tdr into cell $BF$1 | BF4: Dry resultant temperature | BG4: L00 FAB LAB 03 | BH4: DSY3 2050 blockwork light upper.aps | BI4: Temperature (°C) | BJ4: 17.74 | BK4: 06:30,01/May | BL4: 31.59 | BM4: 16:30,06/Jul | BN4: 24.26 | BR4: =_xlfn.CONCAT("1. Paste min/max Tdb into cell ",ADDRESS(1,COLUMN(BT1))) -> 1. Paste min/max Tdb into cell $BT$1
B5: L00 FAB LAB 04 | C5: 2 | D5: 0.8 | E5: 2 | F5: 1 | G5: 31.5 | BF5: Dry resultant temperature | BG5: L01 FAB LAB 06 | BH5: DSY3 2050 blockwork light upper.aps | BI5: Temperature (°C) | BJ5: 17.49 | BK5: 06:30,01/May | BL5: 32.22 | BM5: 17:30,07/Jul | BN5: 24.29
B6: L01 FAB LAB 05 | C6: 2 | D6: 0 | E6: 0 | F6: 0 | G6: 30.9 | AB6: Data: | BF6: Dry resultant temperature | BG6: L01 FAB LAB 07 | BH6: DSY3 2050 blockwork light upper.aps | BI6: Temperature (°C) | BJ6: 17.49 | BK6: 06:30,01/May | BL6: 32.69 | BM6: 17:30,06/Jul | BN6: 24.4
B7: L01 FAB LAB 06 | C7: 2 | D7: 2.4 | E7: 4 | F7: 2 | G7: 32.2 | AB7: Building category: | AC7: Category II (new builds.) | BF7: Dry resultant temperature | BG7: L01 FAB LAB 08 | BH7: DSY3 2050 blockwork light upper.aps | BI7: Temperature (°C) | BJ7: 17.62 | BK7: 06:30,01/May | BL7: 32.32 | BM7: 16:30,06/Jul | BN7: 24.36
B8: L01 FAB LAB 07 | C8: 2 | D8: 3 | E8: 6 | F8: 2 | G8: 32.7 | AB8: Weather file: | AC8: LHR1976_2050Med50pct.epw | BF8: Dry resultant temperature | BG8: L00 FAB LAB 04 | BH8: DSY3 2050 blockwork light upper.aps | BI8: Temperature (°C) | BJ8: 17.81 | BK8: 06:30,01/May | BL8: 31.47 | BM8: 16:30,06/Jul | BN8: 24.45
B9: L01 FAB LAB 08 | C9: 2 | D9: 2.7 | E9: 5 | F9: 2 | G9: 32.3 | AB9: Days data= | AC9: 153 | AD9: 46143 | AE9: 46295 | BF9: Dry resultant temperature | BG9: L01 FAB LAB 09 | BH9: DSY3 2050 blockwork light upper.aps | BI9: Temperature (°C) | BJ9: 17.65 | BK9: 06:30,01/May | BL9: 32.41 | BM9: 17:30,06/Jul | BN9: 24.61
B10: L01 FAB LAB 09 | C10: 2 | D10: 3 | E10: 5 | F10: 2 | G10: 32.4 | AB10: Days (summer)= | AC10: 153 | AD10: 46143 | AE10: 46295 | BF10: Dry resultant temperature | BG10: L01 FAB LAB 05 | BH10: DSY3 2050 blockwork light upper.aps | BI10: Temperature (°C) | BJ10: 17.83 | BK10: 06:30,01/May | BL10: 30.92 | BM10: 17:30,06/Jul | BN10: 24.56
AB11: Data OK? | AC11: OK | AD11: Full summer
AB13: Occupancy:
AB14: Note: | AC14: This report assesses occupied periods only. Please be aware that TM52 should be conducted for occupied and/or “available hours”.
AC15: Use of educational NCM profiles may be seen as inappropriate due to prolonged unoccupied periods during summer months.
AC16: See Section 6.1.2 (a) of TM52 for further information.
AB18: Passed: | AC18: 9 rooms:
AB19: Room Name | AC19: Room ID | AD19: Occupied days (%) | AE19: Criteria 1 (%Hrs Top-Tmax>=1K) | AF19: Criteria 2 (Max. Daily Deg.Hrs) | AG19: Criteria 3 (Max. DeltaT) | AH19: Criteria failing
AB20: L00 FAB LAB 01 | AC20: L000002F | AD20: 100 | AE20: 0.5 | AF20: 2 | AG20: 1 | AH20: -
AB21: L00 FAB LAB 02 | AC21: L000003F | AD21: 100 | AE21: 1.4 | AF21: 3 | AG21: 1 | AH21: -
AB22: L00 FAB LAB 03 | AC22: L0000041 | AD22: 100 | AE22: 0.9 | AF22: 3 | AG22: 1 | AH22: -
AB23: L01 FAB LAB 06 | AC23: L000002B | AD23: 100 | AE23: 2.4 | AF23: 4 | AG23: 2 | AH23: -
AB24: L01 FAB LAB 07 | AC24: L0000044 | AD24: 100 | AE24: 3 | AF24: 6 | AG24: 2 | AH24: 1
AB25: L01 FAB LAB 08 | AC25: L0000045 | AD25: 100 | AE25: 2.7 | AF25: 5 | AG25: 2 | AH25: -
AB26: L00 FAB LAB 04 | AC26: L000000F | AD26: 100 | AE26: 0.8 | AF26: 2 | AG26: 1 | AH26: -
AB27: L01 FAB LAB 09 | AC27: L0000009 | AD27: 100 | AE27: 3 | AF27: 5 | AG27: 2 | AH27: 1
AB28: L01 FAB LAB 05 | AC28: L000000E | AD28: 100 | AE28: 0 | AF28: 0 | AG28: 0 | AH28: -
AB30: Failed: | AC30: 0 rooms:
AB31: Room Name | AC31: Room ID | AD31: Occupied days (%) | AE31: Criteria 1 (%Hrs Top-Tmax>=1K) | AF31: Criteria 2 (Max. Daily Deg.Hrs) | AG31: Criteria 3 (Max. DeltaT) | AH31: Criteria failing
AB33: Unoccupied: | AC33: 0 rooms:
AB34: Room Name | AC34: Room ID | AD34: Occupied days (%) | AE34: Criteria 1 (%Hrs Top-Tmax>=1K) | AF34: Criteria 2 (Max. Daily Deg.Hrs) | AG34: Criteria 3 (Max. DeltaT) | AH34: Criteria failing
AB36: Note: | AC36: A TM 52 2013 analysis provides an assessment of comfort compliance based on bulk air modelling
AC37: i.e. each space is considered idealised and the air in the space perfectly mixed. The assessment does
AC38: not assess placement of space features e.g. windows & openings, airflow patterns or discomfort issues.
AC39: The user should assess these design aspects outside of the TM52 analysis.
