Workbook
Name _Hlk30849479: 'Detailed planning stage'!#REF!
Name _Hlk30849479: 'Outline planning stage'!#REF!
Name _Hlk30849479: 'Post-construction result'!#REF!
Name _Hlk30849479: 'Pre-app information'!#REF!

Sheet Updates
B3: The draft consultation version of the template has been updated as follows:
B5: Template tab | C5: Details
B6: Pre-app information | C6: Principle 1 expanded to require further details on pre-construction demolition and options explored for retaining existing buildings/structures.
C7: Removal of Y/N option next to each WLC reduction principle.
B8: Outline and Detailed planning Stage & Post-construction result | C8: Confirmation of operational modelling process used
C9: Confirmation relating to proportion of material quantities included relating to cost
C10: Confirmation of third party mechanisms
C11: Confirmation that the assessment has or can be submitted to the Built Environment Carbon Database
C12: Updated assessment summary results to align with new WLC benchmarks
C13: Addition of selection of most comparable WLC benchmark selection
C14: Addition of details relating to retention of existing structures and buildings
C15: Updated note/example text for module B assumptions and end of life scenarios in the 'Material Quantity and End of Life Scenarios' table
C16: Addition of details relating to refrigerants to 'Material Quantity and End of Life Scenarios' table
C17: Addition of option in assessment table to report A5 emissions as a single number or A5 emissions not related to a building element category
C18: Removal of assessment 2
C19: Colour coding to reflect cells that require inputs and cells which are updated automatically
B20: Post-construction result | C20: Addition of confirmation relating to post-construction evidence submission
C21: Addition of list of product specific EPDs from products installed in the building

Sheet Introduction
A1: Greater London Authority - Whole Life-Cycle Carbon (WLC) Assessment template
A3: HOW TO USE THIS SPREADSHEET
A5: This template should be used by planning applicants to fulfil the requirements of the Mayor's Whole Life-Cycle Carbon (WLC) Assessment policy set out in London Plan Policy SI 2. Before completing and submitting this spreadsheet to the GLA, applicants should read the Whole Life-Cycle Carbon Assessment guidance:
A8: https://www.london.gov.uk/what-we-do/planning/implementing-london-plan/london-plan-guidance/whole-life-cycle-carbon-assessments-guidance
A9: Applicants are required to submit a WLC assessment to the GLA at the following three stages: pre-application, outline/detailed planning submission and post-construction. Separate tabs are provided in this spreadsheet for each stage. An outline of the information required at each stage and how to submit it is provided below.
A11: 1. Pre-application stage
A12: At pre-application stage, applicants are required to complete the pre-application information tab of this template to confirm various details about the site and to provide details of the WLC principles which are informing the development of the site. This should be submitted to the GLA along with all other pre-application material.
A14: 2. Outline/detailed planning submission stage
A15: At this stage, applicants are required to complete the outline or detailed planning stage tab of this template (whichever is relevant) and submit it to the GLA along with their planning application. This stage of the process requires a baseline WLC assessment against each life-cycle module to be undertaken.
A17: 3. Post-construction stage
A18: At the final stage of the WLC assessment process, applicants should complete the post-construction result tab of this template and submit it to the GLA prior to occupation of the development. This will require an update of the information provided at planning submission stage and for the actual WLC carbon emission figures to be reported using actual material quantities and site emissions during construction. Information should be submitted to:
A21: ZeroCarbonPlanning@london.gov.uk
... A26: ZeroCarbonPlanning@london.gov.uk

Sheet Pre-app information
A1: Project details
A2: Project name | C2: Ashley Park, Tottenham Hale
A3: Planning application reference number (if applicable)
A4: Use Type | C4: Shared Living (Sui-Generis) and Affordable (C3)
A5: Brief description of the project | C5: 87 affordable social rented homes, 530 shared living studios, 2 commercial spaces
A6: GIA (m2) | C6: TBC
A7: Authors (organisation or individuals) | C7: Jade Cox - Carbon.Climate.Certified
A8: Date of assessment | C8: 02.06.2026
A10: WLC reduction principles | C10: Key benefits | E10: Provide examples of how reduction principle has been used, or give reasons why it cannot be used.
A11: 1 | B11: Reuse and retrofit of existing buildings | C11: Significant retention and reuse of structures is carbon efficient and reduces construction costs. | E11: Confirmation that options for retaining existing buildings and structures have been fully explored before considering substantial demolition | F11: There are no existing structures on site, only hard standing. A pre-demolition audit is being completed to quantify the volume of hard standing to ensure opportunity to reuse/recycle is maximised.
E12: Carbon emissions associated with pre-construction demolition (kgCO2e) | F12: Existing hardstanding across the Ashley House site was assumed to comprise approximately 9,300 m2 of concrete pavement with an average thickness of 200 mm. Based on an estimated mass of 4,450 tonnes and demolition, crushing and transport emissions of 7 kgCO2e/t, the demolition of the hardstanding is estimated to generate approximately 31 tCO2e. A sensitivity analysis indicates a likely range of 18 - 45 tCO2e depending on pavement thickness, transport distances and recycling methodology.
E13: Estimate of the percentage of the new build development which will be made up of existing elements | F13: Approximately 4,450 tonnes of existing concrete hardstanding could be recovered through on-site crushing and screening, yielding approximately 4,000 tonnes of recycled aggregate. Subject to engineering and material testing requirements, this material could be reused within capping layers, pile mats, road sub-bases and external works, avoiding the import of virgin aggregate. Where suitable, the recycled aggregate could also be incorporated into new concrete mixes. The quantity available is equivalent to approximately 20 - 25% of the total aggregate demand of the proposed development and could avoid approximately 40 tCO2e associated with the extraction, processing and transport of virgin aggregate.
A14: 2 | B14: Use repurposed or recycled materials | C14: Reduces waste and carbon emissions. | E14: The development will prioritise the reuse of materials arising from demolition and site preparation works. Existing concrete hardstanding occupying much of the site will be crushed and processed for reuse within piling mats, capping layers, sub-bases, drainage works and external landscape construction, reducing the requirement for imported virgin aggregate. Initial estimates indicate that approximately 4,000 tonnes of recycled aggregate could be recovered and reused on-site. The specification will also seek to maximise recycled content within reinforcement steel, metal products, concrete constituents and other major construction materials where technically feasible and consistent with performance requirements.
A15: 3 | B15: Material selection | C15: Appropriate material choices are key to carbon reduction. Ensuring that materials are selected with consideration of the planned life expectancy of the building reduces waste, the need for replacements and the in-use costs. | E15: Material selection will be informed by whole life carbon, durability and maintenance considerations. Structural and architectural materials will be selected to minimise embodied carbon through efficient design, lower-carbon concrete specifications, responsible sourcing and the use of recycled content where appropriate. Particular attention will be given to the long-term performance of facade systems, external landscaping, public realm materials and communal areas associated with the shared living and affordable housing elements to minimise replacement requirements throughout the building lifecycle.
A16: 4 | B16: Minimise operational energy use | C16: A 'fabric first' approach should be prioritised to minimise energy demand and reduce carbon and in-use costs. | E16: The scheme adopts a fabric first approach supported by high performance building envelopes, efficient glazing, airtight construction and careful management of thermal bridging. The compact building forms and efficient layouts help reduce heat loss while maximising usable floor area. Building services and communal facilities serving the 530 shared living studios and 87 affordable homes will be designed to minimise operational energy demand through efficient plant, controls and lighting systems, supporting compliance with the London Plan energy hierarchy and reducing whole life carbon emissions.
A17: 5 | B17: Minimise the carbon emissions associated with operational water use | C17: Choice of materials and durability of systems, which help to avoid leakage and subsequent building damage, contribute to reducing the carbon emissions of water use. | E17: Water efficient sanitaryware and fittings will be specified throughout the scheme in line with BREEAM requirements, to reduce potable water demand and associated energy use. Durable plumbing systems, leak detection measures and accessible maintenance strategies will minimise water losses and reduce future repair and replacement impacts.
A18: 6 | B18: Disassembly and reuse | C18: Designing for future disassembly ensures that products do not become future waste and that they maintain their environmental and economic value. | E18: The design will incorporate circular economy principles by facilitating access to building services and designing shorter life elements, including internal finishes, partitions and facade components, to be maintained, replaced and recovered independently of the primary structure. Standardised and modular components will be used where practical to support future reuse and material recovery.
A19: 7 | B19: Building shape and form | C19: Compact efficient shapes help minimise both operational and embodied carbon emissions from repair and replacement for a given floor area. This leads to a more efficient building overall resulting in lower construction and in use costs. | E19: The proposed development comprises two efficient building forms arranged around a landscaped central courtyard. The design has been developed to maximise residential accommodation while maintaining compact floorplates, efficient structural grids and active frontages. This reduces material intensity per m2 while providing high-quality residential and communal amenity space.
A20: 8 | B20: Regenerative design | C20: Removing carbon emissions from the atmosphere through materials and systems absorbing it makes a direct contribution to carbon reduction. | E20: The proposals transform a largely hardstanding brownfield site into a landscape led development incorporating extensive tree planting, biodiverse planting, publicly accessible green corridors, play spaces and improved connections to Down Lane Park. The landscape strategy contributes to urban greening, biodiversity enhancement, climate resilience and long-term carbon sequestration while supporting resident wellbeing.
A21: 9 | B21: Designing for durability and flexibility | C21: Durability means that repair and replacement is reduced which in turn helps reduce life-time building costs. A building designed for flexibility can respond with minimum environmental impact to future changing requirements and a changing climate, thus avoiding obsolescence which also underwrites future building value. | E21: The buildings are being designed for a long operational life through the use of robust structural systems, durable external materials and accessible building services. The affordable housing, shared living and commercial uses are supported by flexible internal layouts capable of accommodating future changes in operational requirements with minimal structural intervention, reducing future refurbishment impacts and extending building life.
A22: 10 | B22: Optimisation of the relationship between operational and embodied carbon | C22: Optimising the relationship between operational and embodied carbon contributes directly to resource efficiency and overall cost reduction. | E22: Whole life carbon considerations are informing design development from the outset. Key design decisions, including structural solutions, facade performance, landscape design, active travel infrastructure, energy systems and material selection, will be assessed using a whole life carbon approach to ensure reductions in operational energy demand are achieved without disproportionate increases in embodied carbon. The reuse of existing on site materials and optimisation of structural quantities will be key measures in reducing lifecycle emissions.
A23: 11 | B23: Building life expectancy | C23: Defining building life expectancy gives guidance to project teams as to the most efficient choices for materials and products. This aids overall resource efficiency, including cost efficiency and helps future proof asset value. | E23: The development is being designed as a long life residential led asset that will contribute to the continued regeneration of Tottenham Hale. Durable structural systems, robust facade materials and high quality public realm components will be selected to achieve a long design life while minimising maintenance and replacement requirements. The proposed mix of shared living, affordable housing, commercial and community uses also supports long term adaptability and resilience to future changes in occupancy and market demand.
A24: 12 | B24: Local sourcing | C24: Sourcing local materials reduces transport distances and supply chain lengths and has associated local social and economic benefits. | E24: The project team will seek opportunities to source materials, products and construction services from local and regional suppliers where feasible. Reuse of existing on site materials, including crushed concrete hardstanding for sub base and external works applications, will reduce transportation impacts and demand for virgin materials. Local sourcing will be considered alongside quality, performance, programme and whole life carbon objectives to support both environmental and economic benefits.
A25: 13 | B25: Minimising waste | C25: Waste represents unnecessary and avoidable carbon emissions. Buildings should be designed to minimise construction waste, and to ease repair and replacement with minimum waste, which helps reduce initial and in-use costs. | E25: Waste minimisation principles will be embedded throughout the design and construction process. Structural efficiency, standardised building components and coordinated design development will reduce material over specification and construction waste. Existing hardstanding materials will be retained and reused on site where possible, while prefabricated and off site manufactured elements will be considered to improve material utilisation and reduce waste generation. Operational waste management strategies have been integrated into the ground floor design, with dedicated refuse and recycling facilities provided for all uses.
... A28: 16 | B28: Circular economy | C28: The circular economy principle focusses on a more efficient use of materials which in turn leads to carbon and financial efficiencies. | E28: Circular economy principles are embedded within the development approach through the reuse of materials, design for adaptability, durable material specification and consideration of future disassembly. Existing concrete hardstanding is anticipated to be processed and reused within the development, reducing demand for virgin aggregates and minimising waste exports. The scheme has also been designed to support long term flexibility through adaptable residential, commercial and community spaces, helping to extend building life and retain material value over time. The project will be supported by a Circular Economy Statement in accordance with London Plan requirements and GLA guidance.

Sheet Outline planning stage
A1: Project details
A2: Project name | H2: Key
A3: Planning application reference number (if applicable) | I3: Data automatically calculated - no direct input required
A4: Use Class | I4: Cells that require information / data inputting
A5: Brief description of the project | I5: N/A
A6: GIA (m2)
A8: Assessment details
A9: Authors (organisation or individuals)
A10: Date of assessment
B11: Operational modelling methodology for Module B6 results | C11: e.g. SAP or TM54
A12: Reference study period (if not 60 years) | C12: [This cell should only be filled in if the reference study period, i.e. the assumed building life expectancy, exceeds or is less than 60 years. Applicants should state the reference study period in this cell. While the assessment should still be done to 60 years, applicants may, if they choose to, submit an additional assessment of the modules B, C and D for the actual reference study period by copying and pasting an additional 'GWP potential for all life-cycle modules' table, see below].
A13: Software tool used
A14: Type of EPDs and carbon database used | C14: [If using more than one database please list all]
A15: Please confirm if 95% of the cost allocated to each building element category has been accounted for in the assessment? | C15: [Yes, or please explain any omissions]
A16: Explanation of the third-party mechanisms which have been adopted to quality assure this submission
A17: Please confirm whether you have submitted this assessment to the Built Environment Carbon Database (https://www.becd.co.uk/) or if you give permission for the GLA to do this on your behalf by checking one of the following boxes | C17: I have submitted this assessment to the BECD
C18: I give permission for the GLA to submit this assessment to the BECD on my behalf
A20: Estimated WLC emissions N.B. This forms the WLC baseline for the development. The green cells will automatically populate from the tables below
C21: Module A1-A5 (excluding sequestered carbon) | D21: Modules B-C (excl B6 & B7) | E21: Modules A-C (excluding B6-B7; including sequestered carbon) | F21: Module B1-B5 | G21: Module B6-B7 | H21: Module C1-C4 | I21: Module D
A22: TOTAL kg CO2e | C22: =D104+E104+F104 -> 0 | D22: =G104+H104+I104+J104+K104+O104+P104+Q104+R104 -> 0 | E22: =C104+D104+E104+F104+G104+H104+I104+J104+K104+O104+P104+Q104+R104 -> 0 | F22: =G104+H104+I104+J104+K104 -> 0 | G22: =L104+N104 -> #VALUE! | H22: =O104+P104+Q104+R104 -> 0 | I22: =T104 -> 0
A23: TOTAL kg CO2e/m2 GIA | C23: =C22/$C$6 -> #DIV/0! | D23: =D22/$C$6 -> #DIV/0! | E23: =E22/$C$6 -> #DIV/0! | F23: =F22/$C$6 -> #DIV/0! | G23: =G22/$C$6 -> #VALUE! | H23: =H22/$C$6 -> #DIV/0! | I23: =I22/$C$6 -> #DIV/0!
A24: Please select most appropriate benchmark from drop-down menu | C24: Residential
A25: WLC Benchmark | C25: =VLOOKUP($C$24,'WLC benchmarks'!$B$10:$E$13,2, TRUE()) -> <850 | D25: =VLOOKUP($C$24,'WLC benchmarks'!$B$10:$E$13,3, TRUE()) -> <350 | E25: =VLOOKUP($C$24,'WLC benchmarks'!$B$10:$E$13,4, TRUE()) -> <1200
A26: Aspirational WLC Benchmark | C26: =VLOOKUP($C$24,'WLC benchmarks'!$B$16:$E$19,2, TRUE()) -> <500 | D26: =VLOOKUP($C$24,'WLC benchmarks'!$B$16:$E$19,3, TRUE()) -> <300 | E26: =VLOOKUP($C$24,'WLC benchmarks'!$B$16:$E$19,4, TRUE()) -> <800
A27: Comparison with WLC benchmarks (see Appendix 2 of the guidance) | C27: [Explain the reasons for any divergences from WLC benchmarks, including against the WLC aspirational benchmarks]
A29: Retention of existing buildings and structures
A30: Confirmation that options for retaining existing buildings and structures have been fully explored before considering substantial demolition | C30: [Outline the options that have been considered - plus an explanation of opportunities and limitations, and why demolition outweighs the benefits of retaining existing buildings/structures where applicable]
A31: Carbon emissions associated with pre-construction demolition (kgCO2e) | C31: [If estimates are not possible, please apply standard assumption of 50kgCO2e/m2 of the existing building/s]
A32: Estimate of the percentage of the new build development which will be made up of existing elements | C32: [e.g. X% existing facades; Y% existing foundations; Z% superstructures etc.]
A34: Summary of key actions to reduce whole life-cycle carbon emissions that have informed this assessment, including the WLC reductions | C34: Actions included in WLC assessment results reported | F34: WLC reduction (kg CO2e/m2 GIA)
C35: [This list does not need to be exhaustive but should identify the actions with the biggest impacts. Insert more lines if needed]
A40: Specify further opportunities to reduce the development’s whole life-cycle carbon emissions. including the WLC reduction potential | C40: Further potential opportunities | F40: WLC reduction potential (kg CO2e/m2 GIA)
C41: [Insert more lines as needed]
A47: MATERIAL QUANTITY AND END OF LIFE SCENARIOS | C47: Product and Construction Stage (Module A) | E47: Assumptions made with respect to maintenance, repair and replacement cycles (Module B) | F47: Material 'end of life' scenarios (Module C) | H47: Benefits and loads beyond the system boundary (Module D)
A48: Building element category | C48: Material type | D48: Material quantity (kg) | H48: Estimated reusable materials (kg) | I48: Estimated recyclable materials (kg)
A49: Note/example | C49: Breakdown of material type in each category [Insert more lines if needed] e.g. Concrete | D49: 65000 kg | E49: For all primary building systems (structure, substructure, envelope, MEP services, internal finishes) including assumed material/product lifespans and annual maintenance/repair % | F49: Declare 'end of life' scenario as per project’s Circular Economy Statement, and used in the WLC assessment to produce Module C results | H49: 0 kg | I49: 25 kg
C50: e.g. Reinforcement | D50: 5000 kg | H50: 2 kg | I50: 8 kg
C51: e.g. Formwork | D51: 250 kg | H51: 0 kg | I51: 0 kg
A52: 0.1 | B52: Demolition: Toxic/Hazardous/Contaminated Material Treatment | J52: Please add rows where more than 1 material type exists per building element category
A53: 0.2 | B53: Major Demolition Works
A54: 0.3 | B54: Temporary Support to Adjacent Structures
A55: 0.4 | B55: Specialist Ground Works
A56: 1 | B56: Substructure
A57: 2.1 | B57: Superstructure: Frame
A58: 2.2 | B58: Superstructure: Upper Floors
A59: 2.3 | B59: Superstructure: Roof
A60: 2.4 | B60: Superstructure: Stairs and Ramps
A61: 2.5 | B61: Superstructure: External Walls
A62: 2.6 | B62: Superstructure: Windows and External Doors
A63: 2.7 | B63: Superstructure: Internal Walls and Partitions
A64: 2.8 | B64: Superstructure: Internal Doors
... A70: 8 | B70: External works
A72: Refrigerants | C72: Refrigerant name | D72: Initial quantity/charge (kg) | E72: Assumed annual leakage rate % | F72: Refrigerant GWP (kgCO2e/kg) | G72: End of Life recovery rate %
A73: a | B73: Refrigerants Type 1 (if applicable) - please see CIBSE TM65 for methodology | J73: Please add rows if required
A74: b | B74: Refrigerants Type 2 (if applicable) - please see CIBSE TM65 for methodology
A75: c | B75: Refrigerants Type 3 (if applicable) - please see CIBSE TM65 for methodology
C76: TOTAL | D76: =SUM(D52:D71)+SUM(D73:D75) -> 0 | H76: =SUM(H52:H71) -> 0 | I76: =SUM(I52:I71) -> 0
C77: Material intensity (kg/m2 GIA) | D77: =D76/$C$6 -> #DIV/0! | H77: =H76/$C$6 -> #DIV/0! | I77: =I76/$C$6 -> #DIV/0!
A79: GWP POTENTIAL FOR ALL LIFE-CYCLE MODULES (kgCO2e) (See Note 1 below if you entered a reference study period in cell C12) | C79: Sequestered (or biogenic) carbon (negative value) (kgCO2e) | D79: Product stage (kgCO2e) | E79: Construction process stage (kgCO2e) | G79: Use stage (kgCO2e) | O79: End of Life (EoL) stage (kgCO2e) | S79: TOTAL Modules A-C kgCO2e | T79: Benefits and loads beyond the system boundary (kgCO2e)
D81: Module A | G81: Module B | O81: Module C | T81: Module D
A82: Building element category | D82: [A1] to [A3] | E82: [A4] | F82: [A5] | G82: [B1] | H82: [B2] | I82: [B3] | J82: [B4] | K82: [B5] | L82: [B6] | N82: [B7] | O82: [C1] | P82: [C2] | Q82: [C3] | R82: [C4]
A83: 0.1 | B83: Demolition: Toxic/Hazardous/Contaminated Material Treatment | O83: [Where only a single C1-C4 is known, please include it here] | S83: =SUM(C83:R83) -> 0
A84: 0.2 | B84: Major Demolition Works | O84: [Where only a single C1-C4 is known, please include it here] | S84: =SUM(C84:R84) -> 0
A85: 0.3 | B85: Temporary Support to Adjacent Structures | O85: [Where only a single C1-C4 is known, please include it here] | S85: =SUM(C85:R85) -> 0
A86: 0.4 | B86: Specialist Ground Works | O86: [Where only a single C1-C4 is known, please include it here] | S86: =SUM(C86:R86) -> 0
A87: 0.5 | B87: Temporary Diversion Works | O87: [Where only a single C1-C4 is known, please include it here] | S87: =SUM(C87:R87) -> 0
A88: 1 | B88: Substructure | O88: [Where only a single C1-C4 is known, please include it here] | S88: =SUM(C88:R88) -> 0
A89: 2.1 | B89: Superstructure: Frame | O89: [Where only a single C1-C4 is known, please include it here] | S89: =SUM(C89:R89) -> 0
A90: 2.2 | B90: Superstructure: Upper Floors | O90: [Where only a single C1-C4 is known, please include it here] | S90: =SUM(C90:R90) -> 0
A91: 2.3 | B91: Superstructure: Roof | O91: [Where only a single C1-C4 is known, please include it here] | S91: =SUM(C91:R91) -> 0
A92: 2.4 | B92: Superstructure: Stairs and Ramps | O92: [Where only a single C1-C4 is known, please include it here] | S92: =SUM(C92:R92) -> 0
A93: 2.5 | B93: Superstructure: External Walls | O93: [Where only a single C1-C4 is known, please include it here] | S93: =SUM(C93:R93) -> 0
A94: 2.6 | B94: Superstructure: Windows and External Doors | O94: [Where only a single C1-C4 is known, please include it here] | S94: =SUM(C94:R94) -> 0
... A98: 4 | B98: Fittings, furnishings & equipment | O98: [Where only a single C1-C4 is known, please include it here] | S98: =SUM(C98:R98) -> 0
A99: 5 | B99: Services (MEP) | L99: Regulated emissions | M99: Unregulated emissions | N99: Operational Water | O99: [Where only a single C1-C4 is known, please include it here] | S99: =SUM(C99:R99) -> 0
A100: 6 | B100: Prefabricated Buildings and Building Units | O100: [Where only a single C1-C4 is known, please include it here] | S100: =SUM(C100:R100) -> 0
A101: 7 | B101: Work to Existing Building | O101: [Where only a single C1-C4 is known, please include it here] | S101: =SUM(C101:R101) -> 0
A102: 8 | B102: External works | O102: [Where only a single C1-C4 is known, please include it here] | S102: =SUM(C102:R102) -> 0
A103: Other site construction impacts or overall construction stage [A5] carbon emissions not specific to an individual building element category | S103: =F103 -> 0
A104: TOTAL kg CO2e | C104: =SUM(C85:C102) -> 0 | D104: =SUM(D85:D102) -> 0 | E104: =SUM(E85:E102) -> 0 | F104: =SUM(F85:F103) -> 0 | G104: =SUM(G85:G102) -> 0 | H104: =SUM(H85:H102) -> 0 | I104: =SUM(I85:I102) -> 0 | J104: =SUM(J85:J102) -> 0 | K104: =SUM(K85:K102) -> 0 | L104: =L99+M99 -> #VALUE! | N104: =N99 -> Operational Water | O104: =SUM(O83:O102) -> 0 | P104: =SUM(P83:P102) -> 0 | Q104: =SUM(Q83:Q102) -> 0 | R104: =SUM(R83:R102) -> 0 | S104: =SUM(S83:S103) -> 0 | T104: =SUM(T83:T102) -> 0
A105: TOTAL kg CO2e/m2 GIA | C105: =C104/$C$6 -> #DIV/0! | D105: =D104/$C$6 -> #DIV/0! | E105: =E104/$C$6 -> #DIV/0! | F105: =F104/$C$6 -> #DIV/0! | G105: =G104/$C$6 -> #DIV/0! | H105: =H104/$C$6 -> #DIV/0! | I105: =I104/$C$6 -> #DIV/0! | J105: =J104/$C$6 -> #DIV/0! | ... L105: =L104/$C$6 -> #VALUE! | N105: =N104/$C$6 -> #VALUE! | O105: =O104/$C$6 -> #DIV/0! | P105: =P104/$C$6 -> #DIV/0! | Q105: =Q104/$C$6 -> #DIV/0! | R105: =R104/$C$6 -> #DIV/0! | S105: =S104/$C$6 -> #DIV/0! | T105: =T104/$C$6 -> #DIV/0!
A106: Notes:
A107: 1 If you have entered a reference study period in cell C12 because the assumed building life expectancy is greater or less than 60 years, then you will need to fill in this table using a 60 year building life expectancy. If you choose to, you may create a second table below and complete it using the actual assumed life expectancy. This should be clearly labelled.

Sheet Detailed planning stage
A1: Project details
A2: Project name | C2: Ashley House | H2: Key
A3: Planning application reference number (if applicable) | I3: Data automatically calculated - no direct input required
A4: Use Class | C4: Sui-Generis / C3 Affordable / Commercial and community (Use Classes E and F2) | I4: Cells that require information / data inputting
A5: Brief description of the project | C5: Phased mixed-use development comprising: (i) enabling works and operations; (ii) residential development (Use Class C3) including affordable housing; (iii) shared living accommodation (Sui Generis), (iv) commercial and community floorspace (Use Classes E and F2); and (v) site-wide and/or phase-specific access, servicing, public realm, blue-badge parking, cycle parking, open space, hard and soft landscaping, utilities, plant and all other associated works. | I5: N/A
A6: GIA (m2) | C6: 30663
A8: Assessment details
A9: Authors (organisation or individuals) | C9: Carbon.Climate.Certified
A10: Date of assessment | C10: 27.08.26
B11: Operational modelling methodology for Module B6 results | C11: CIBSE TM54
A12: Reference study period (if not 60 years) | C12: 60 years
A13: Software tool used | C13: OneClick LCA
A14: Types of EPDs and carbon database used | C14: One Click LCA, ecoinvent, GaBi
A15: Please confirm if 95% of the cost allocated to each building element category has been accounted for in the assessment? | C15: Yes
A16: Explanation of mechanisms which have been adopted to quality assure the submission | C16: A cost plan has been provided by KS4 (Cost Consultant and Project Managers) in order to complete the whole life carbon assessment. Following completion of the modelling, the cost plan was returned for review and confirmation that a minimum of 95% of the cost allocated to each element has been accouned for.
A17: Please confirm whether you have submitted this assessment to the Built Environment Carbon Database (https://www.becd.co.uk/) or if you give permission for the GLA to do this on your behalf by checking one of the following boxes
C18: I give permission for the GLA to submit this assessment to the BECD on my behalf
A20: Estimated WLC emissions N.B. This forms the WLC baseline for the development. The green cells will automatically populate from the tables below
C21: Module A1-A5 (excluding sequestered carbon) | D21: Modules B-C (excl B6 & B7) | E21: Modules A-C (excl B6 & B7; including sequestered carbon) | F21: Module B1-B5 | G21: Module B6-B7 | H21: Module C1-C4 | I21: Module D
A22: TOTAL kg CO2e | C22: =D199+E199+F199 -> 17993960 | D22: =G199+H199+I199+J199+K199+O199+P199+Q199+R199 -> 13032178 | E22: =C199+D199+E199+F199+G199+H199+I199+J199+K199+O199+P199+Q199+R199 -> 30960241 | F22: =G199+H199+I199+J199+K199 -> 12108200 | G22: =L199+N199 -> 26900747 | H22: =O199+P199+Q199+R199 -> 923978.24 | I22: =T199 -> -8194723.9
A23: TOTAL kg CO2e/m2 GIA | C23: =C22/$C$6 -> 586.82973 | D23: =D22/$C$6 -> 425.01315 | E23: =E22/$C$6 -> 1009.6938 | F23: =F22/$C$6 -> 394.87982 | G23: =G22/$C$6 -> 877.30317 | H23: =H22/$C$6 -> 30.133328 | I23: =I22/$C$6 -> -267.25121
A24: Please select most appropriate benchmark from drop-down menu | C24: Residential
A25: WLC Benchmark | C25: =VLOOKUP($C$24,'WLC benchmarks'!$B$10:$E$13,2, TRUE()) -> <850 | D25: =VLOOKUP($C$24,'WLC benchmarks'!$B$10:$E$13,3, TRUE()) -> <350 | E25: =VLOOKUP($C$24,'WLC benchmarks'!$B$10:$E$13,4, TRUE()) -> <1200
A26: Aspirational WLC Benchmark | C26: =VLOOKUP($C$24,'WLC benchmarks'!$B$16:$E$19,2, TRUE()) -> <500 | D26: =VLOOKUP($C$24,'WLC benchmarks'!$B$16:$E$19,3, TRUE()) -> <300 | E26: =VLOOKUP($C$24,'WLC benchmarks'!$B$16:$E$19,4, TRUE()) -> <800
A27: Comparison with WLC benchmarks (see Appendix 2 of the guidance) | C27: A number of elements have been excluded from the WLC model due to the early stage of design, as detailed within the WLC report.
A29: Retention of existing buildings and structures
A30: Confirmation that options for retaining existing buildings and structures have been fully explored before considering substantial demolition | C30: When the site was aquired theexisting buildings had already been demolished. There is existing spoil on site. As the design develops the project team will look to maximise the reuse of this within the proposed development.
A31: Carbon emissions associated with pre-construction demolition (kgCO2e) | C31: n/a
A32: Estimate of the percentage of the new build development which will be made up of existing elements | C32: n/a
A34: Summary of key actions to reduce whole life-cycle carbon emissions that have informed this assessment, including the WLC reductions | C34: Actions included in WLC assessment results reported | F34: WLC reduction (kg CO2e/m2 GIA)
C35: Omission of basement for both blocks A (shared living) & B (affordable) | F35: 66
C36: Increase in GGBS substitution from 25% to 50% in substructure elements for both blocks. | F36: 25
A40: Specify further opportunities to reduce the development’s whole life-cycle carbon emissions. including the WLC reduction potential | C40: Further potential opportunities | F40: WLC reduction potential (kg CO2e/m2 GIA)
C41: Increase GGBS substitution to 50% or above across all structural concrete elements. | F41: 49
A47: MATERIAL QUANTITY AND END OF LIFE SCENARIOS | C47: Product and Construction Stage (Module A) | E47: Assumptions made with respect to maintenance, repair and replacement cycles (Module B) | F47: Material 'end of life' scenarios (Module C) | H47: Benefits and loads beyond the system boundary (Module D)
A48: Building element category | C48: Material type | D48: Material quantity (kg) | H48: Estimated reusable materials (kg) | I48: Estimated recyclable materials (kg)
A49: Note/example | C49: Breakdown of material type in each category [Insert more lines if needed] e.g. Concrete | D49: 65000 kg | E49: For all primary building systems (structure, substructure, envelope, MEP services, internal finishes) including assumed material/product lifespans and annual maintenance/repair % | F49: Declare 'end of life' scenario as per project’s Circular Economy Statement, and used in the WLC assessment to produce Module C results | H49: 0 kg | I49: 25 kg
C50: e.g. Reinforcement | D50: 5000 kg | H50: 2 kg | I50: 8 kg
C51: e.g. Formwork | D51: 250 kg | H51: 0 kg | I51: 0 kg
A52: 0.1 | B52: Demolition: Toxic/Hazardous/Contaminated Material Treatment | J52: Please add rows where more than 1 material type exists per building element category
A53: 0.2 | B53: Major Demolition Works
A54: 0.3 | B54: Temporary Support to Adjacent Structures
A55: 0.4 | B55: Specialist Ground Works
A56: 1 | B56: Substructure | C56: Strructural Concrete | D56: 22224521 | F56: Concrete crushed to aggregate (for sub-base layers), | I56: 22224521.45 kg
C57: Steel Reinforcement | D57: 1006572.5 | F57: Steel recycling | I57: 1006572.5 kg
C58: Concrete Blinding | D58: 3569913 | F58: Do nothing | H58: 3568320
C59: XPS insulation | D59: 95607.42 | F59: Plastic-based material incineration | I59: 0
C60: Bitumen waterproofing membrane | D60: 3472 | F60: Landfilling (for inert materials) | I60: 0
C61: Damp proof membrane | D61: 1350.76 | F61: Plastic-based material incineration | I61: 0
A63: 2.1 | B63: Superstructure: Frame | C63: Stuctural Concrete | D63: 10078412 | F63: Concrete crushed to aggregate (for sub-base layers), | I63: 10078412
C64: Steel Reinforcement | D64: 776595 | F64: Steel recycling | I64: 776595
C65: Steel Frame | D65: 210160.6 | F65: Steel recycling | I65: 210160.6
C66: XPS insulation | D66: 6745.9 | F66: Plastic-based material incineration | I66: 0
C67: Waterproofing membrane | D67: 113 | F67: Plastic-based material incineration | I67: 0
A68: 2.2 | B68: Superstructure: Upper Floors | C68: Stuctural Concrete | D68: 15013889 | F68: Concrete crushed to aggregate (for sub-base layers), | I68: 15013889
C69: Steel Reinforcement | D69: 856764.75 | F69: Steel recycling | I69: 856764.75
C70: PIR Insulation | D70: 7337.6 | F70: Plastic-based material incineration | I70: 0
C71: Waterproofing membrane | D71: 237 | F71: Plastic-based material incineration | I71: 0
C72: Aluminium Balcony system | D72: 33320 | F72: Steel recycling | I72: 33320
A73: 2.3 | B73: Superstructure: Roof | C73: Structural Concrete | D73: 2400567 | F73: Concrete crushed to aggregate (for sub-base layers), | I73: 2400567.3
C74: Steel Reinforcement | D74: 150705 | F74: Steel recycling | I74: 150705
C75: PIR Insulation | D75: 5667 | F75: Plastic-based material incineration | I75: 0
C76: Waterproofing membrane | D76: 2605 | E76: 1 replacement | F76: Plastic-based material incineration | I76: 0
C77: Hot-melt roofing | D77: 27017 | E77: 1 replacement | F77: Landfilling (for inert materials) | I77: 0
C78: Blue Roof system | D78: 148493 | F78: Do nothing* | I78: 0
C79: Green roof system | D79: 33423 | F79: Landfilling (for inert materials) | I79: 0
C80: Metal Pedestals | D80: 1606 | F80: Steel recycling | I80: 1606
C81: Porcelain stoneware floor tiles | D81: 30737 | F81: Brick/stone crushed to aggregate (for sub-base layers) | I81: 30736.64
A82: 2.4 | B82: Superstructure: Stairs and Ramps | C82: Structural Concrete | D82: 449263.74 | F82: Concrete crushed to aggregate (for sub-base layers), | I82: 449263.74
C83: Steel Reinforcement | D83: 22532 | F83: Steel recycling | I83: 22532.08
C84: Timber staircase | D84: 1315 | F84: Wood incineration | I84: 0
C85: Stainless steel handrail | D85: 738 | F85: Stainless steel recycling | I85: 737.94
A86: 2.5 | B86: Superstructure: External Walls | C86: Clay Brick | D86: 2000224 | F86: Brick/stone crushed to aggregate (for sub-base layers) | I86: 2000224.5
C87: Calcium silicate board | D87: 240663 | F87: Concrete crushed to aggregate (for sub-base layers), Portland Cement 300 kg / m3 | I87: 240662.5
C88: Glassfibre Reinforced Concrete Panel | D88: 140530 | F88: Rebar separated (2 %), concrete to aggregate | I88: 140530
C89: Stonewool Insulation | D89: 82151 | F89: Landfilling (for inert materials) | I89: 0
C90: Gypsum plasterboard | D90: 64811 | E90: 1 replacement | F90: Gypsum recycling | I90: 64810.6
C91: Steel brackets | D91: 38320 | E91: 1 replacement | F91: Steel recycling | I91: 38320
C92: Steel Wall ties | D92: 34400 | F92: Stainless steel recycling | I92: 34000
C93: Steel frame parapet wall | D93: 40341 | E93: 1 replacement | F93: Aluminium recycling | I93: 30456
C94: Cavity trays | D94: 700 | F94: Plastic-based material incineration | I94: 0
C95: Terracotta tiles | D95: 465 | E95: 1 replacement | F95: Brick/stone crushed to aggregate (for sub-base layers) | I95: 465
C96: Aluminium Coping | D96: 368 | F96: Aluminium recycling | I96: 367.5
C97: Aluminium framed curtain walling system | D97: 10686 | E97: 1 replacement | F97: Glass recycling | I97: 10686
C98: Aluminium rainscreen cladding | D98: 8875 | E98: 1 replacement | F98: Metal-containing product recycling (90 % metal) | I98: 8875.33
A99: 2.6 | B99: Superstructure: Windows and External Doors | C99: Aluminium framed tilt and turn operable window Double Glazed | D99: 13237 | E99: 1 replacement | F99: Glass-containing product recycling (80 % glass) | I99: 10589
C100: Aluminium framed tilt and turn operable window Triple Glazed | D100: 118965 | E100: 1 replacement | F100: Glass-containing product recycling (80 % glass) | I100: 95172
C101: Riser door system | D101: 21267 | E101: 2 replacements | F101: Metal-containing product recycling (90 % metal) | I101: 21267.13
C102: Wood-aluminum inwad balcony door | D102: 18696 | E102: 2 replacements | F102: Glass-containing product recycling (80 % glass) | I102: 18696.3
C103: Aluminium framed curtain walling system | D103: 10686 | E103: 1 replacement | F103: Glass recycling | I103: 10686
C104: Aluminium front opening door | D104: 6081 | E104: 2 replacements | F104: Metal-containing product recycling (90 % metal) | I104: 6080.86
C105: Steel security doors | D105: 3647 | E105: 2 replacements | F105: Metal-containing product recycling (90 % metal) | I105: 3647.08
C106: Plastic loft hatch | D106: 3069 | E106: 2 replacements | F106: Metal-containing product recycling (90 % metal) | I106: 3069.36
C107: Aluminium framed glass door | D107: 2265 | E107: 2 replacements | F107: Glass-containing product recycling (80 % glass) | I107: 2265.41
C108: Automatic revolving glass door | D108: 1439 | E108: 2 replacements | F108: Glass-containing product recycling (80 % glass) | I108: 1439
C109: Skylight roof window | D109: 1176 | E109: 1 replacement | F109: Glass-containing product recycling (80 % glass) | I109: 1176
C110: Roof access hatch | D110: 288 | E110: 2 replacements | F110: Metal-containing product recycling (90 % metal) | I110: 287.8
C111: Electromagnetic door holders and releasers | D111: 266 | E111: 2 replacements | F111: Metal-containing product recycling (90 % metal) | I111: 265.91
A112: 2.7 | B112: Superstructure: Internal Walls and Partitions | C112: Gypsum plasterboard | D112: 558493 | E112: 1 replacement | F112: Gypsum recycling | I112: 558493.24
C113: Concrete masonry block | D113: 191875 | F113: Concrete crushed to aggregate (for sub-base layers), Portland Cement 200 kg / m3 | I113: 191875
...

Sheet Post-construction result
A1: Project details
A2: Project name | H2: Key
A3: Planning application reference number (if applicable) | I3: Data automatically calculated - no direct input required
A4: Use Class | I4: Cells that require information / data inputting
A5: Brief description of the project | I5: N/A
A6: GIA (m2)
A8: Assessment details
A9: Authors (organisation or individuals)
A10: Date of assessment
B11: Operational modelling methodology for Module B6 results | C11: e.g. SAP or TM54
A12: Reference study period (if not 60 years) | C12: [This cell should only be filled in if the reference study period, i.e. the assumed building life expectancy, exceeds or is less than 60 years. Applicants should state the reference study period in this cell. While the assessment should still be done to 60 years, applicants may, if they choose to, submit an additional assessment of the modules B, C and D for the actual reference study period by copying and pasting an additional 'GWP potential for all life-cycle modules' table, see below].
A13: Software tool used | C13: [This should align with the software tool used at outline/detailed planning stage]
A14: Type of EPDs and carbon database used | C14: [If using more than one database please list all]
A15: Please confirm if 95% of the cost allocated to each building element category has been accounted for in the assessment? | C15: [Yes / No]
A16: Explanation of mechanisms which have been adopted to quality assure the submission
A17: Please confirm whether you have submitted this assessment to the Built Environment Carbon Database (https://www.becd.co.uk/) or if you give permission for the GLA to do this on your behalf by checking one of the following boxes | C17: I have submitted this assessment to the BECD
C18: I give permission for the GLA to submit this assessment to the BECD on my behalf
A20: List of product specific EPDs for products that have been installed | C20: Product | F20: EPD reference number
C21: [Please add rows if needed]
A25: Please confirm the following post-construction evidence has been submitted with this WLC assessment
A26: Site energy (including fuel) use record | C26: [Yes / No]
A27: Contractor confirmation of as-built quantities and specifications | C27: [Yes / No]
A28: Record of material delivery including distance travelled and transportation mode | C28: [Yes / No]
A29: Waste transportation record include waste quantity, distance travelled and transportation mode | C29: [Yes / No]
A32: WLC emissions baseline (automatically populated from the 'detailed planning stage' tab)
C33: Module A1-A5 (excluding sequestered carbon) | D33: Modules B-C (excl B6 & B7) | E33: Modules A-C (excl B6-B7; including sequestered carbon) | F33: Module B1-B5 | G33: Module B6-B7 | H33: Module C1-C4 | I33: Module D
A34: TOTAL kg CO2e | C34: ='Detailed planning stage'!C22 -> 17993960 | D34: ='Detailed planning stage'!D22 -> 13032178 | E34: ='Detailed planning stage'!E22 -> 30960241 | F34: ='Detailed planning stage'!F22 -> 12108200 | G34: ='Detailed planning stage'!G22 -> 26900747 | H34: ='Detailed planning stage'!H22 -> 923978.24 | I34: ='Detailed planning stage'!I22 -> -8194723.9
A35: TOTAL kg CO2e/m2 GIA | C35: ='Detailed planning stage'!C23 -> 586.82973 | D35: ='Detailed planning stage'!D23 -> 425.01315 | E35: ='Detailed planning stage'!E23 -> 1009.6938 | F35: ='Detailed planning stage'!F23 -> 394.87982 | G35: ='Detailed planning stage'!G23 -> 877.30317 | H35: ='Detailed planning stage'!H23 -> 30.133328 | I35: ='Detailed planning stage'!I23 -> -267.25121
A38: Post-construction WLC emissions
C39: Module A1-A5 | D39: Modules B-C (excl B6 & B7) | E39: Modules A-C (excl B6-B7; including sequestered carbon) | F39: Module B1-B5 | G39: Module B6-B7 | H39: Module C1-C4 | I39: Module D
A40: TOTAL kg CO2e | C40: =D121+E121+F121 -> 0 | D40: =G121+H121+I121+J121+K121+O121+P121+Q121+R121 -> 0 | E40: =C121+D121+E121+F121+G121+H121+I121+J121+K121+O121+P121+Q121+R121 -> 0 | F40: =G121+H121+I121+J121+K121 -> 0 | G40: =L121+N121 -> #VALUE! | H40: =O121+P121+Q121+R121 -> 0 | I40: =T121 -> 0
A41: TOTAL kg CO2e/m2 GIA | C41: =C40/$C$6 -> #DIV/0! | D41: =D40/$C$6 -> #DIV/0! | E41: =E40/$C$6 -> #DIV/0! | F41: =F40/$C$6 -> #DIV/0! | G41: =G40/$C$6 -> #VALUE! | H41: =H40/$C$6 -> #DIV/0! | I41: =I40/$C$6 -> #DIV/0!
A42: Please select most appropriate benchmark from drop-down menu
A43: WLC Benchmark | C43: =VLOOKUP($C$42,'WLC benchmarks'!$B$10:$E$13,2, TRUE()) -> #N/A | D43: =VLOOKUP($C$42,'WLC benchmarks'!$B$10:$E$13,3, TRUE()) -> #N/A | E43: =VLOOKUP($C$42,'WLC benchmarks'!$B$10:$E$13,4, TRUE()) -> #N/A
A44: Aspirational WLC Benchmark | C44: =VLOOKUP($C$42,'WLC benchmarks'!$B$16:$E$19,2, TRUE()) -> #N/A | D44: =VLOOKUP($C$42,'WLC benchmarks'!$B$16:$E$19,3, TRUE()) -> #N/A | E44: =VLOOKUP($C$42,'WLC benchmarks'!$B$16:$E$19,4, TRUE()) -> #N/A
A45: Commentary comparing the post-construction results against the WLC emissions baseline above | C45: [Explain the reasons for any divergences from the results against the WLC emissions baseline above]
A46: Commentary comparing the post-construction results against the WLC benchmarks (see Appendix 2) | C46: [Explain the reasons for any divergences from WLC benchmarks, including against the WLC aspirational benchmarks]
A48: Retention of existing buildings and structures
A49: Confirmation of which options for retaining existing buildings and structures that were under exploration at planning stages have been implemented
A50: Actual carbon emissions associated with pre-construction demolition (kgCO2e)
A51: Estimate of the percentage of the new build development which is made up of existing elements | C51: [e.g. X% existing facades; Y% existing foundations; Z% superstructures etc.]
A53: Summary of key actions undertaken to reduce whole life-cycle carbon emissions, including the reductions achieved | C53: Action undertaken | F53: WLC reduction achieved (kg CO2e/m2 GIA)
C54: [This list does not need to be exhaustive but should identify the actions with the biggest impacts. Insert more lines if needed]
A58: Lessons learnt from the process of undertaking a WLC assessment that will inform future projects | C58: i.e. Design options or materials that could be used, design principles that could be applied.
C59: [Insert more lines if needed]
A63: MATERIAL QUANTITY AND END OF LIFE SCENARIOS | C63: Product and Construction Stage (Module A) | E63: Assumptions made with respect to maintenance, repair and replacement cycles (Module B) | F63: Material 'end of life' scenarios (Module C) | H63: Benefits and loads beyond the system boundary (Module D)
A64: Building element category | C64: Material type | D64: Material quantity (kg) | H64: Estimated reusable materials (kg) | I64: Estimated recyclable materials (kg)
A65: Note/example | C65: Breakdown of material type in each category [Insert more lines if needed] e.g. Concrete | D65: 65000 kg | E65: For all primary building systems (structure, substructure, envelope, MEP services, internal finishes) including assumed material/product lifespans and annual maintenance/repair % | F65: Declare 'end of life' scenario as per project’s Circular Economy Statement, and used in the WLC assessment to produce Module C results | H65: 0 kg | I65: 25 kg
C66: e.g. Reinforcement | D66: 5000 kg | H66: 2 kg | I66: 8 kg
C67: e.g. Formwork | D67: 250 kg | H67: 0 kg | I67: 0 kg
A68: 0.1 | B68: Demolition: Toxic/Hazardous/Contaminated Material Treatment | J68: Please add rows where more than 1 material type exists per building element category
A69: 0.2 | B69: Major Demolition Works
A70: 0.3 | B70: Temporary Support to Adjacent Structures
A71: 0.4 | B71: Specialist Ground Works
A72: 1 | B72: Substructure
A73: 2.1 | B73: Superstructure: Frame
A74: 2.2 | B74: Superstructure: Upper Floors
A75: 2.3 | B75: Superstructure: Roof
A76: 2.4 | B76: Superstructure: Stairs and Ramps
A77: 2.5 | B77: Superstructure: External Walls
A78: 2.6 | B78: Superstructure: Windows and External Doors
A79: 2.7 | B79: Superstructure: Internal Walls and Partitions
A80: 2.8 | B80: Superstructure: Internal Doors
... A86: 8 | B86: External works
A88: Refrigerants | C88: Refrigerant name | D88: Initial Charge(kg) | E88: Annual leakage rate % | F88: Refrigerant GWP (kgCO2e/kg) | G88: End of Life recovery rate %
A89: a | B89: Refrigerants Type 1 (if applicable) - please see CIBSE TM65 for methodology | J89: Please add rows if required
A90: b | B90: Refrigerants Type 2 (if applicable) - please see CIBSE TM65 for methodology
A91: c | B91: Refrigerants Type 3 (if applicable) - please see CIBSE TM65 for methodology
C92: TOTAL | D92: =SUM(D68:D87)+SUM(D89:D91) -> 0 | H92: =SUM(H68:H87) -> 0 | I92: =SUM(I68:I87) -> 0
C93: Material intensity (kg/m2 GIA) | D93: =D92/$C$6 -> #DIV/0! | H93: =H92/$C$6 -> #DIV/0! | I93: =I92/$C$6 -> #DIV/0!
A96: GWP POTENTIAL FOR ALL LIFE-CYCLE MODULES (kgCO2e) (See Note 1 below if you entered a reference study period in cell C12) | C96: Sequestered (or biogenic) carbon (negative value) (kgCO2e) | D96: Product stage (kgCO2e) | E96: Construction process stage (kgCO2e) | G96: Use stage (kgCO2e) | O96: End of Life (EoL) stage (kgCO2e) | S96: TOTAL Modules A-C kgCO2e | T96: Benefits and loads beyond the system boundary (kgCO2e)
D98: Module A | G98: Module B | O98: Module C | T98: Module D
A99: Building element category | D99: [A1] to [A3] | E99: [A4] | F99: [A5] | G99: [B1] | H99: [B2] | I99: [B3] | J99: [B4] | K99: [B5] | L99: [B6] | N99: [B7] | O99: [C1] | P99: [C2] | Q99: [C3] | R99: [C4]
A100: 0.1 | B100: Demolition: Toxic/Hazardous/Contaminated Material Treatment | O100: [Where only a single C1-C4 is known, please include it here] | S100: =SUM(C100:R100) -> 0
A101: 0.2 | B101: Major Demolition Works | O101: [Where only a single C1-C4 is known, please include it here] | S101: =SUM(C101:R101) -> 0
A102: 0.3 | B102: Temporary Support to Adjacent Structures | O102: [Where only a single C1-C4 is known, please include it here] | S102: =SUM(C102:R102) -> 0
A103: 0.4 | B103: Specialist Ground Works | O103: [Where only a single C1-C4 is known, please include it here] | S103: =SUM(C103:R103) -> 0
A104: 0.5 | B104: Temporary Diversion Works | O104: [Where only a single C1-C4 is known, please include it here] | S104: =SUM(C104:R104) -> 0
A105: 1 | B105: Substructure | O105: [Where only a single C1-C4 is known, please include it here] | S105: =SUM(C105:R105) -> 0
A106: 2.1 | B106: Superstructure: Frame | O106: [Where only a single C1-C4 is known, please include it here] | S106: =SUM(C106:R106) -> 0
A107: 2.2 | B107: Superstructure: Upper Floors | O107: [Where only a single C1-C4 is known, please include it here] | S107: =SUM(C107:R107) -> 0
A108: 2.3 | B108: Superstructure: Roof | O108: [Where only a single C1-C4 is known, please include it here] | S108: =SUM(C108:R108) -> 0
A109: 2.4 | B109: Superstructure: Stairs and Ramps | O109: [Where only a single C1-C4 is known, please include it here] | S109: =SUM(C109:R109) -> 0
A110: 2.5 | B110: Superstructure: External Walls | O110: [Where only a single C1-C4 is known, please include it here] | S110: =SUM(C110:R110) -> 0
A111: 2.6 | B111: Superstructure: Windows and External Doors | O111: [Where only a single C1-C4 is known, please include it here] | S111: =SUM(C111:R111) -> 0
... A115: 4 | B115: Fittings, furnishings & equipment | O115: [Where only a single C1-C4 is known, please include it here] | S115: =SUM(C115:R115) -> 0
A116: 5 | B116: Services (MEP) | L116: Regulated emissions | M116: Unregulated emissions | N116: Operational Water | O116: [Where only a single C1-C4 is known, please include it here] | S116: =SUM(C116:R116) -> 0
A117: 6 | B117: Prefabricated Buildings and Building Units | O117: [Where only a single C1-C4 is known, please include it here] | S117: =SUM(C117:R117) -> 0
A118: 7 | B118: Work to Existing Building | O118: [Where only a single C1-C4 is known, please include it here] | S118: =SUM(C118:R118) -> 0
A119: 8 | B119: External works | O119: [Where only a single C1-C4 is known, please include it here] | S119: =SUM(C119:R119) -> 0
A120: Other site construction impacts or overall construction stage [A5] carbon emissions not specific to an individual building element category | S120: =F120 -> 0
A121: TOTAL kg CO2e | C121: =SUM(C102:C119) -> 0 | D121: =SUM(D102:D119) -> 0 | E121: =SUM(E102:E119) -> 0 | F121: =SUM(F102:F120) -> 0 | G121: =SUM(G102:G119) -> 0 | H121: =SUM(H102:H119) -> 0 | I121: =SUM(I102:I119) -> 0 | J121: =SUM(J102:J119) -> 0 | K121: =SUM(K102:K119) -> 0 | L121: =L116+M116 -> #VALUE! | N121: =N116 -> Operational Water | O121: =SUM(O100:O119) -> 0 | P121: =SUM(P100:P119) -> 0 | Q121: =SUM(Q100:Q119) -> 0 | R121: =SUM(R100:R119) -> 0 | S121: =SUM(S100:S120) -> 0 | T121: =SUM(T100:T119) -> 0
A122: TOTAL - kg CO2e/m2 GIA | C122: =C121/$C$6 -> #DIV/0! | D122: =D121/$C$6 -> #DIV/0! | E122: =E121/$C$6 -> #DIV/0! | F122: =F121/$C$6 -> #DIV/0! | G122: =G121/$C$6 -> #DIV/0! | H122: =H121/$C$6 -> #DIV/0! | I122: =I121/$C$6 -> #DIV/0! | J122: =J121/$C$6 -> #DIV/0! | ... L122: =L121/$C$6 -> #VALUE! | N122: =N121/$C$6 -> #VALUE! | O122: =O121/$C$6 -> #DIV/0! | P122: =P121/$C$6 -> #DIV/0! | Q122: =Q121/$C$6 -> #DIV/0! | R122: =R121/$C$6 -> #DIV/0! | S122: =S121/$C$6 -> #DIV/0! | T122: =T121/$C$6 -> #DIV/0!
A123: Notes:
A124: 1 If you have entered a reference study period in cell C12 because the assumed building life expectancy is greater or less than 60 years, then you will need to fill in this table using a 60 year building life expectancy. If you choose to, you may create a second table below and complete it using the actual assumed life expectancy. This should be clearly labelled.

Sheet WLC benchmarks
B2: Available benchmarks
B3: Offices
B4: Residential
B5: Schools, Universities etc.
B6: Retail
B9: WLC benchmark | C9: A1-A5 | D9: B-C (excl B6 & B7) | E9: A-C (excl B6 & B7)
B10: Offices | C10: <950 | D10: <450 | E10: <1400
B11: Residential | C11: <850 | D11: <350 | E11: <1200
B12: Schools, Universities etc. | C12: <750 | D12: <250 | E12: <1000
B13: Retail | C13: <850 | D13: <200 | E13: <1050
B15: Aspirational WLC benchmark | C15: A1-A5 | D15: B-C (excl B6 & B7) | E15: A-C (excl B6 & B7)
B16: Offices | C16: <600 | D16: <370 | E16: <970
B17: Residential | C17: <500 | D17: <300 | E17: <800
B18: Schools, Universities etc. | C18: <500 | D18: <175 | E18: <675
B19: Retail | C19: <550 | D19: <140 | E19: <690
