Workbook
Name _ftnref1: 'GLA Summary Tables'!$D$122
Name Average_notional_PV_CO2_factor: [1]Tables!$B$3
Name Average_notional_PV_CO2_factor: Tables!$B$3
Name Fuel_Type: 'Development Information'!#REF!
Name Fuel_Type: #REF!

Sheet Introduction
A1: GLA Carbon Emissions Reporting Spreadsheet
A2: BACKGROUND AND PURPOSE
A3: From January 2023 planning applicants for new and refurbishments schemes are required to use this spreadsheet to report the anticipated carbon performance of a development. It should be used for both domestic and non-domestic uses. This spreadsheet ensures a consistent and transparent process for presenting Part L 2021 CO2 emission performance. The GLA will not accept the use of alternative methodologies or tools. This is to ensure consistency and to minimise the need for clarifications during the planning application determination period.
A4: Planning applicants should use Part L 2021 BRUKL and SAP outputs to fill in this spreadsheet which serves as a the final step in reporting the carbon emission performance of the proposed energy strategy. It is solely for the purpose of reporting compliance with the London Plan to the GLA and does not replace Part L calculations submitted for Building Regulations approval.
A5: The spreadsheet has been developed to fit as wide a range of policy compliant approaches for schemes as possible. Any planning applicants with a policy compliant approach that the spreadsheet does not serve should contact the GLA at: ZeroCarbonPlanning@london.gov.uk. Applicants must not amend or alter the spreadsheet to suit non-policy compliant strategies. Any unauthorised amendment to the spreadsheet will invalidate the CO2 emission calculations.
A6: Applicants should note that we will update the spreadsheet from time to time to ensure it remains fit for purpose. Applicants are expected to use the latest version at the time of the planning submission.
A7: Any feedback on this spreadsheet should be sent to: ZeroCarbonPlanning@london.gov.uk.
A8: METHODOLOGY
A9: Applicants are required to complete all light blue input cells in the applicable tabs prior to submission ('Development Information', 'Part L Outputs', 'EUI & space heating demand' and 'GLA Summary Tables').
A10: Input Data For all applications, the input data required includes: 'Development information' tab • Table 1. Application Completeness Check • Table 2. Development Details • Table 3. Bespoke District Heating Carbon Factors (if applicable) • Table 4. Distribution loss factor (if applicable) • Table 5. SCoP Calculation Methodology (if applicable) 'Part L Output' tab • Type of units modelled • Area of units modelled (m²) • Number of units modelled • Total area represented by model (m²) • TER, DER and BER figures (kgCO2/m² p.a.) • Notional building Energy saving/generation technologies (-) for residential (kgCO2 p.a.) • Notional building Displaced electricity (-) for non-residential (kWh//m² p.a.) • TFEE and DFEE figures for residential (kWh//m² p.a.) 'GLA Summary tables' tab • Unregulated figures (tCO2 p.a.) • Actual and notional building cooling demand (MJ/m²) Note: The total carbon emissions figures in the 'GLA Summary tables' tab are now calculated based on the area input for 'Total area represented by model (m²)'. This input requirement has been added to ensure that the carbon emission figures align with the development area schedule (included within the DAS) rather than the number of representative models. 'EUI & Space Heating Demand' tab • Confirmation of building type • Gross Internal Area (GIA) in m2 • Energy Use Intensity (EUI) per fuel type (kWh p.a.) • Space heating demand (kWh p.a.) • Confirmation that both regulated and unregulated energy use has been included • Confirmation of predicted energy use methodology, including modelling software • Notes on the assessment, including justification if expected performance differs from Table 4 Note: Applicants can use the ‘be seen’ methodology or an alternative predictive energy modelling methodology to fill in the required EUI & space heating demand information. Where ‘be seen’ reporting is used the reported EUI and space heating demand should align with energy consumption data reported in the planning stage submission for the ‘be seen’ policy, submitted via the online webform.
A14: Required Part L Outputs for the GLA spreadsheet Domestic Part L Outputs: For the domestic conversion applicants are required to use the outputs from the SAP TER and DER worksheets. To assist in the process the required SAP worksheet rows have been referenced in each input cell. Note: The SAP worksheet rows are based on a communal heating system in line with GLA policy and guidance. Applicants proposing individual systems must first seek confirmation from the GLA as to whether the approach will be acceptable.
A15: Non-domestic Part L Outputs: The required Part L outputs from non-domestic modelling will be energy consumption by fuel type (e.g. grid electricity, natural gas).The energy consumption by end use (e.g. heating, hot water, cooling etc.) included in the BRUKL documents are no longer used to estimate the CO2 emission performance with SAP 10.0 emission factors in this spreadsheet. This decision has been taken as the consumption figures provided in the BRUKL may include a mixture of fuel types, for instance heating may include energy consumption from gas boilers and electrically driven heat pumps. The required data can be found in: • SBEM software: the required data is included in the output file ending "*sim.csv" • Government approved software (such as IES and TAS): the required data is included in the output file ending in "*BRUKL.inp" The above output files should be appended to the energy assessment document.
... A17: Validation Check Applicants must ensure that the calculated TER/DER/BER in this spreadsheet matches the actual values from the Part L 2021 BRUKL and SAP worksheets. The Part L 2021 BRUKL and SAP sheet must accompany the energy assessment so that results can be validated.

Sheet Development Information
A1: TABLE 1. APPLICATION COMPLETENESS CHECK
A2: Development information tab (Tables 1-4) completed and included in appendix of energy strategy?
A3: Part L outputs tab completed
A4: EUI & space heating demand completed
A5: Confirmation that the planning stage webform will be completed at planning application submission and that the Be Seen process and reporting responsibilities are fully understood, including the requirement for as-built and in-use stage reporting to be undertaken (or where the legal owner changes from one reporting stage to another that the responsible party will be notified).
A7: TABLE 2. DEVELOPMENT DETAILS | C7: Further notes | D7: Response | E7: Supporting comments (or signpost sections in the energy assessment)
A8: Application details | B8: Date of Application | C8: Please provide the date the application was submitted to the Local Planning Authority.
B9: Local Planning Authority | C9: Please indicate the Local Planning Authority determining the application.
B10: Confirmed carbon offset price (£/tonne of carbon dioxide) | C10: Please confirm the agreed carbon offset price for the Local Planning Authority. If no value is entered then the GLA's recommend price of £95 per tonne of carbon dioxide will be used.
B11: Evidence of communication on the carbon offset price included in the energy assessment (Y/N).
B12: Residential units number (Part L1)
B13: Non-residential floor area in m2 (Part L2)
A14: Heat risk | B14: CIBSE TM59 undertaken for residential development (Y/N)
B15: CIBSE TM52 undertaken for non-residential development (Y/N)
B16: All sample units meet CIBSE criteria with DSY1 weather file (Y/N)
B17: DSY2 and DSY3 included in overheating assessments (Y/N)
B18: Residential g-value
B19: % Glazing Ratio over façade
B20: External shading proposed (Y/N)
A21: Energy efficiency measures | B21: Target Fabric Energy Efficiency met (Y/N)
B22: Mechanical Ventilation with Heat Recovery included (Y/N)
B23: Waste Water Heat Recovery (Y/N)
B24: Low energy lighting (Y/N)
A25: District heating connection | B25: Development in a Heat Network Priority Area (HNPA) (Y/N)
B26: District Heating Network connection (Y/N)
B27: Name of District Heating Network
B28: Carbon factor (kgCO2/ kWh)
B29: Borough energy officer and Heat Network Operator contacted and evidence of correspondence included in the energy strategy (Y/N) | C29: Applicable to all applications.
A30: Site heating distribution configuration | B30: Development future proofed for DHN connection (Y/N) | C30: Note that individual heating systems would not be appropriate for developments in HNPAs.
B31: Drawings of communal system provided (Y/N) | C31: Applicants should provide a drawings of the energy centre, on-site communal network with all building uses connected and future proofing arrangements detailed, including single point of connection.
B32: Distribution type
B33: Flow temperature (°C)
B34: Return temperature (°C)
B35: Distribution losses modelled (%) | C35: See table 4 below for details.
A36: Heating system performance | B36: Heat Pump (Y/N)
B37: Heat Pump source
B38: Centralised Heat Pump capacity (kWth)
B39: Heat Pump Seasonal Heating Efficiency (SCoP)
B40: Heat Pump SCoP calculation includes heat source and heat distribution temperature and seasonal performance factor (Y/N) | C40: See table 5 below for details.
B41: Fraction of heat supplied by heat pump (only for hybrid systems with boilers) (%)
...

Sheet Part L Outputs
A1: The applicant should complete all the light blue cells including information on the modelled units, the area per unit, the number of units, the TER/DER/BER and the TFEE/DFEE.
A2: RESIDENTIAL CO2 ANALYSIS (PART L1)
E3: Baseline | G3: ="'Be Lean'" -> 'Be Lean' | H3: ="'Be Clean'" -> 'Be Clean' | I3: ="'Be Green'" -> 'Be Green' | J3: Fabric Energy Efficiency (FEE) | L3: Baseline | N3: 'Be Lean' | Q3: ="'Be Clean'" -> 'Be Clean' | T3: 'Be Green'
A4: Unit identifier (e.g. plot number, dwelling type etc.) | B4: Model total floor area | C4: Number of units | D4: Total area represented by model | E4: TER | F4: Energy saving/generation technologies (-) | G4: DER | H4: DER | I4: DER | J4: Target Fabric Energy Efficiency | K4: Dwelling Fabric Energy Efficiency | L4: Part L 2021 CO2 emissions | M4: Energy saving/generation technologies | N4: Part L 2021 CO2 emissions | O4: Part L 2021 CO2 emissions with Notional PV savings included | P4: ="'Be Lean' savings" -> 'Be Lean' savings | Q4: Part L 2021 CO2 emissions | R4: Part L 2021 CO2 emissions with Notional PV savings included | S4: ="'Be Clean' savings" -> 'Be Clean' savings | T4: Part L 2021 CO2 emissions | U4: ="'Be Green' savings" -> 'Be Green' savings
B5: (m²) | D5: (m²) | E5: (kgCO2 / m2) | F5: (kgCO2 p.a.) | G5: (kgCO2 / m2) | H5: (kgCO2 / m2) | I5: (kgCO2 / m2) | J5: (kWh/m²) | K5: (kWh/m²) | L5: (kgCO2 p.a.) | M5: (kgCO2 p.a.) | N5: (kgCO2 p.a.) | O5: (kgCO2 p.a.) | P5: (kgCO2 p.a.) | Q5: (kgCO2 p.a.) | R5: (kgCO2 p.a.) | S5: (kgCO2 p.a.) | T5: (kgCO2 p.a.) | U5: (kgCO2 p.a.)
B6: (Row 4) | E6: (Row 273) | F6: (Row 269) | G6: (Row 273 or 384) | H6: (Row 273 or 384) | I6: (Row 273 or 384)
A7: 1 and 4 | B7: 211 | C7: 2 | D7: 422 | E7: 11.55 | F7: -265.46 | G7: 4.98 | H7: 4.98 | I7: 1.95 | J7: 43.94 | K7: 42.01 | L7: =IF($E7=0,"",D7*E7) -> 4874.1 | M7: =IF($F7=0,"",($F7/$B7)*$D7) -> -530.92 | N7: =IF($G7=0,"",$D7*$G7) -> 2101.56 | O7: =IF($G7=0,"",$N7+M7) -> 1570.64 | P7: =IF($G7=0,"",$L7-O7) -> 3303.46 | Q7: =IF($H7=0,"",$D7*$H7) -> 2101.56 | R7: =IF($H7=0,"",$Q7+$M7) -> 1570.64 | S7: =IF($H7=0,"",$O7-$R7) -> 0 | T7: =IF($I7=0,"",$D7*$I7) -> 822.9 | U7: =IF($H7=0,"",$R7-$T7) -> 747.74
A8: 2 and 3 | B8: 238.27 | C8: 2 | D8: 476.54 | E8: 10.63 | F8: -265.51 | G8: 4.6 | H8: 4.6 | I8: 1.9 | J8: 42.08 | K8: 40.72 | L8: =IF($E8=0,"",D8*E8) -> 5065.6202 | M8: =IF($F8=0,"",($F8/$B8)*$D8) -> -531.02 | N8: =IF($G8=0,"",$D8*$G8) -> 2192.084 | O8: =IF($G8=0,"",$N8+M8) -> 1661.064 | P8: =IF($G8=0,"",$L8-O8) -> 3404.5562 | Q8: =IF($H8=0,"",$D8*$H8) -> 2192.084 | R8: =IF($H8=0,"",$Q8+$M8) -> 1661.064 | S8: =IF($H8=0,"",$O8-$R8) -> 0 | T8: =IF($I8=0,"",$D8*$I8) -> 905.426 | U8: =IF($H8=0,"",$R8-$T8) -> 755.638
A9: 5 and 8 | B9: 212.02 | C9: 2 | D9: 424.04 | E9: 10.94 | F9: -264.69 | G9: 4.9 | H9: 4.9 | I9: 1.91 | J9: 43.12 | K9: 41.26 | L9: =IF($E9=0,"",D9*E9) -> 4638.9976 | M9: =IF($F9=0,"",($F9/$B9)*$D9) -> -529.38 | N9: =IF($G9=0,"",$D9*$G9) -> 2077.796 | O9: =IF($G9=0,"",$N9+M9) -> 1548.416 | P9: =IF($G9=0,"",$L9-O9) -> 3090.5816 | Q9: =IF($H9=0,"",$D9*$H9) -> 2077.796 | R9: =IF($H9=0,"",$Q9+$M9) -> 1548.416 | S9: =IF($H9=0,"",$O9-$R9) -> 0 | T9: =IF($I9=0,"",$D9*$I9) -> 809.9164 | U9: =IF($H9=0,"",$R9-$T9) -> 738.4996
A10: 6 and 7 | B10: 232.65 | C10: 2 | D10: 465.3 | E10: 10.12 | F10: -264.73 | G10: 5.17 | H10: 5.17 | I10: 2.1 | J10: 39.6 | K10: 38.42 | L10: =IF($E10=0,"",D10*E10) -> 4708.836 | M10: =IF($F10=0,"",($F10/$B10)*$D10) -> -529.46 | N10: =IF($G10=0,"",$D10*$G10) -> 2405.601 | O10: =IF($G10=0,"",$N10+M10) -> 1876.141 | P10: =IF($G10=0,"",$L10-O10) -> 2832.695 | Q10: =IF($H10=0,"",$D10*$H10) -> 2405.601 | R10: =IF($H10=0,"",$Q10+$M10) -> 1876.141 | S10: =IF($H10=0,"",$O10-$R10) -> 0 | T10: =IF($I10=0,"",$D10*$I10) -> 977.13 | U10: =IF($H10=0,"",$R10-$T10) -> 899.011
A11: Pavillion | B11: 52 | C11: 1 | D11: 52 | E11: 15.55 | F11: -0.001 | G11: 8.97 | H11: 8.97 | I11: 2.15 | J11: 119.79 | K11: 104.85 | L11: =IF($E11=0,"",D11*E11) -> 808.6 | M11: =IF($F11=0,"",($F11/$B11)*$D11) -> -0.001 | N11: =IF($G11=0,"",$D11*$G11) -> 466.44 | O11: =IF($G11=0,"",$N11+M11) -> 466.439 | P11: =IF($G11=0,"",$L11-O11) -> 342.161 | Q11: =IF($H11=0,"",$D11*$H11) -> 466.44 | R11: =IF($H11=0,"",$Q11+$M11) -> 466.439 | S11: =IF($H11=0,"",$O11-$R11) -> 0 | T11: =IF($I11=0,"",$D11*$I11) -> 111.8 | U11: =IF($H11=0,"",$R11-$T11) -> 354.639
L12: =IF($E12=0,"",D12*E12) | M12: =IF($F12=0,"",($F12/$B12)*$D12) | N12: =IF($G12=0,"",$D12*$G12) | O12: =IF($G12=0,"",$N12+M12) | P12: =IF($G12=0,"",$L12-O12) | Q12: =IF($H12=0,"",$D12*$H12) | R12: =IF($H12=0,"",$Q12+$M12) | S12: =IF($H12=0,"",$O12-$R12) | T12: =IF($I12=0,"",$D12*$I12) | U12: =IF($H12=0,"",$R12-$T12)
L13: =IF($E13=0,"",D13*E13) | M13: =IF($F13=0,"",($F13/$B13)*$D13) | N13: =IF($G13=0,"",$D13*$G13) | O13: =IF($G13=0,"",$N13+M13) | P13: =IF($G13=0,"",$L13-O13) | Q13: =IF($H13=0,"",$D13*$H13) | R13: =IF($H13=0,"",$Q13+$M13) | S13: =IF($H13=0,"",$O13-$R13) | T13: =IF($I13=0,"",$D13*$I13) | U13: =IF($H13=0,"",$R13-$T13)
L14: =IF($E14=0,"",D14*E14) | M14: =IF($F14=0,"",($F14/$B14)*$D14) | N14: =IF($G14=0,"",$D14*$G14) | O14: =IF($G14=0,"",$N14+M14) | P14: =IF($G14=0,"",$L14-O14) | Q14: =IF($H14=0,"",$D14*$H14) | R14: =IF($H14=0,"",$Q14+$M14) | S14: =IF($H14=0,"",$O14-$R14) | T14: =IF($I14=0,"",$D14*$I14) | U14: =IF($H14=0,"",$R14-$T14)
L15: =IF($E15=0,"",D15*E15) | M15: =IF($F15=0,"",($F15/$B15)*$D15) | N15: =IF($G15=0,"",$D15*$G15) | O15: =IF($G15=0,"",$N15+M15) | P15: =IF($G15=0,"",$L15-O15) | Q15: =IF($H15=0,"",$D15*$H15) | R15: =IF($H15=0,"",$Q15+$M15) | S15: =IF($H15=0,"",$O15-$R15) | T15: =IF($I15=0,"",$D15*$I15) | U15: =IF($H15=0,"",$R15-$T15)
L16: =IF($E16=0,"",D16*E16) | M16: =IF($F16=0,"",($F16/$B16)*$D16) | N16: =IF($G16=0,"",$D16*$G16) | O16: =IF($G16=0,"",$N16+M16) | P16: =IF($G16=0,"",$L16-O16) | Q16: =IF($H16=0,"",$D16*$H16) | R16: =IF($H16=0,"",$Q16+$M16) | S16: =IF($H16=0,"",$O16-$R16) | T16: =IF($I16=0,"",$D16*$I16) | U16: =IF($H16=0,"",$R16-$T16)
L17: =IF($E17=0,"",D17*E17) | M17: =IF($F17=0,"",($F17/$B17)*$D17) | N17: =IF($G17=0,"",$D17*$G17) | O17: =IF($G17=0,"",$N17+M17) | P17: =IF($G17=0,"",$L17-O17) | Q17: =IF($H17=0,"",$D17*$H17) | R17: =IF($H17=0,"",$Q17+$M17) | S17: =IF($H17=0,"",$O17-$R17) | T17: =IF($I17=0,"",$D17*$I17) | U17: =IF($H17=0,"",$R17-$T17)
L18: =IF($E18=0,"",D18*E18) | M18: =IF($F18=0,"",($F18/$B18)*$D18) | N18: =IF($G18=0,"",$D18*$G18) | O18: =IF($G18=0,"",$N18+M18) | P18: =IF($G18=0,"",$L18-O18) | Q18: =IF($H18=0,"",$D18*$H18) | R18: =IF($H18=0,"",$Q18+$M18) | S18: =IF($H18=0,"",$O18-$R18) | T18: =IF($I18=0,"",$D18*$I18) | U18: =IF($H18=0,"",$R18-$T18)
L19: =IF($E19=0,"",D19*E19) | M19: =IF($F19=0,"",($F19/$B19)*$D19) | N19: =IF($G19=0,"",$D19*$G19) | O19: =IF($G19=0,"",$N19+M19) | P19: =IF($G19=0,"",$L19-O19) | Q19: =IF($H19=0,"",$D19*$H19) | R19: =IF($H19=0,"",$Q19+$M19) | S19: =IF($H19=0,"",$O19-$R19) | T19: =IF($I19=0,"",$D19*$I19) | U19: =IF($H19=0,"",$R19-$T19)
L20: =IF($E20=0,"",D20*E20) | M20: =IF($F20=0,"",($F20/$B20)*$D20) | N20: =IF($G20=0,"",$D20*$G20) | O20: =IF($G20=0,"",$N20+M20) | P20: =IF($G20=0,"",$L20-O20) | Q20: =IF($H20=0,"",$D20*$H20) | R20: =IF($H20=0,"",$Q20+$M20) | S20: =IF($H20=0,"",$O20-$R20) | T20: =IF($I20=0,"",$D20*$I20) | U20: =IF($H20=0,"",$R20-$T20)
L21: =IF($E21=0,"",D21*E21) | M21: =IF($F21=0,"",($F21/$B21)*$D21) | N21: =IF($G21=0,"",$D21*$G21) | O21: =IF($G21=0,"",$N21+M21) | P21: =IF($G21=0,"",$L21-O21) | Q21: =IF($H21=0,"",$D21*$H21) | R21: =IF($H21=0,"",$Q21+$M21) | S21: =IF($H21=0,"",$O21-$R21) | T21: =IF($I21=0,"",$D21*$I21) | U21: =IF($H21=0,"",$R21-$T21)
L22: =IF($E22=0,"",D22*E22) | M22: =IF($F22=0,"",($F22/$B22)*$D22) | N22: =IF($G22=0,"",$D22*$G22) | O22: =IF($G22=0,"",$N22+M22) | P22: =IF($G22=0,"",$L22-O22) | Q22: =IF($H22=0,"",$D22*$H22) | R22: =IF($H22=0,"",$Q22+$M22) | S22: =IF($H22=0,"",$O22-$R22) | T22: =IF($I22=0,"",$D22*$I22) | U22: =IF($H22=0,"",$R22-$T22)
L23: =IF($E23=0,"",D23*E23) | M23: =IF($F23=0,"",($F23/$B23)*$D23) | N23: =IF($G23=0,"",$D23*$G23) | O23: =IF($G23=0,"",$N23+M23) | P23: =IF($G23=0,"",$L23-O23) | Q23: =IF($H23=0,"",$D23*$H23) | R23: =IF($H23=0,"",$Q23+$M23) | S23: =IF($H23=0,"",$O23-$R23) | T23: =IF($I23=0,"",$D23*$I23) | U23: =IF($H23=0,"",$R23-$T23)
... L57: =IF($E57=0,"",D57*E57) | M57: =IF($F57=0,"",($F57/$B57)*$D57) | N57: =IF($G57=0,"",$D57*$G57) | O57: =IF($G57=0,"",$N57+M57) | P57: =IF($G57=0,"",$L57-O57) | Q57: =IF($H57=0,"",$D57*$H57) | R57: =IF($H57=0,"",$Q57+$M57) | S57: =IF($H57=0,"",$O57-$R57) | T57: =IF($I57=0,"",$D57*$I57) | U57: =IF($H57=0,"",$R57-$T57)
A58: Sum | C58: =SUM(C7:C57) -> 9 | D58: =SUM(D7:D57) -> 1839.88 | E58: =IFERROR(SUMPRODUCT($D$7:$D$57,E7:E57)/$D$58,0) -> 10.922535 | F58: =IFERROR(SUMPRODUCT($D$7:$D$57,F7:F57)/$D$58,0) -> -257.60828 | G58: =IFERROR(SUMPRODUCT($D$7:$D$57,G7:G57)/$D$58,0) -> 5.0239586 | H58: =IFERROR(SUMPRODUCT($D$7:$D$57,H7:H57)/$D$58,0) -> 5.0239586 | I58: =IFERROR(SUMPRODUCT($D$7:$D$57,I7:I57)/$D$58,0) -> 1.9714179 | J58: =IFERROR(SUMPRODUCT($D$7:$D$57,J7:J57)/$D$58,0) -> 44.315416 | K58: =IFERROR(SUMPRODUCT($D$7:$D$57,K7:K57)/$D$58,0) -> 42.371157 | L58: =SUM(L7:L57) -> 20096.154 | M58: =SUM(M7:M57) -> -2120.781 | N58: =SUM(N7:N57) -> 9243.481 | O58: =SUM(O7:O57) -> 7122.7 | P58: =SUM(P7:P57) -> 12973.454 | Q58: =SUM(Q7:Q57) -> 9243.481 | R58: =SUM(R7:R57) -> 7122.7 | S58: =SUM(S7:S57) -> 0 | ... U58: =SUM(U7:U57) -> 3495.5276
A59: NON-RESIDENTIAL CO2 ANALYSIS (PART L2)
E60: Baseline | G60: ="'Be Lean'" -> 'Be Lean' | H60: ="'Be Clean'" -> 'Be Clean' | I60: ="'Be Green'" -> 'Be Green' | L60: Baseline | N60: 'Be Lean' | Q60: 'Be Clean' | T60: 'Be Green'
A61: Building Use | B61: Model Area | C61: Number of units | D61: Total area represented by model | E61: BRUKL TER | F61: BRUKL Displaced electricity (-) | G61: BRUKL BER | H61: BRUKL BER | I61: BRUKL BER | L61: Part L 2021 CO2 emissions | M61: Energy saving/generation technologies | N61: Part L 2021 CO2 emissions | O61: Part L 2021 CO2 emissions with Notional PV savings included | P61: ="'Be Lean' savings" -> 'Be Lean' savings | Q61: Part L 2021 CO2 emissions | R61: Part L 2021 CO2 emissions with Notional PV savings included | S61: ="'Be Clean' savings" -> 'Be Clean' savings | T61: Part L 2021 CO2 emissions | U61: ="'Be Green' savings" -> 'Be Green' savings
B62: (m²) | D62: (m²) | E62: (kgCO2 / m2) | F62: (kWh / m2) | G62: (kgCO2 / m2) | H62: (kgCO2 / m2) | I62: (kgCO2 / m2) | L62: (kgCO2 p.a.) | M62: (kgCO2 p.a.) | N62: (kgCO2 p.a.) | O62: (kgCO2 p.a.) | P62: (kgCO2 p.a.) | Q62: (kgCO2 p.a.) | R62: (kgCO2 p.a.) | S62: (kgCO2 p.a.) | T62: (kgCO2 p.a.) | U62: (kgCO2 p.a.)
L63: =IF($E63=0,"",$E63*$D63) | M63: =IF($E63=0,"",F63*D63*Average_notional_PV_CO2_factor) | N63: =IF($G63=0,"",$G63*$D63) | O63: =IF($G63=0,"",$N63+$M63) | P63: =IF($G63=0,"",$L63-O63) | Q63: =IF($H63=0,"",$H63*$D63) | R63: =IF($H63=0,"",$Q63+$M63) | S63: =IF($H63=0,"",$R63-$O63) | T63: =IF($I63=0,"",$I63*$D63) | U63: =IF($H63=0,"",$R63-$T63)
L64: =IF($E64=0,"",$E64*$D64) | M64: =IF($E64=0,"",F64*D64*Average_notional_PV_CO2_factor) | N64: =IF($G64=0,"",$G64*$D64) | O64: =IF($G64=0,"",$N64+$M64) | P64: =IF($G64=0,"",$L64-O64) | Q64: =IF($H64=0,"",$H64*$D64) | R64: =IF($H64=0,"",$Q64+$M64) | S64: =IF($H64=0,"",$R64-$O64) | T64: =IF($I64=0,"",$I64*$D64) | U64: =IF($H64=0,"",$R64-$T64)
L65: =IF($E65=0,"",$E65*$D65) | M65: =IF($E65=0,"",F65*D65*Average_notional_PV_CO2_factor) | N65: =IF($G65=0,"",$G65*$D65) | O65: =IF($G65=0,"",$N65+$M65) | P65: =IF($G65=0,"",$L65-O65) | Q65: =IF($H65=0,"",$H65*$D65) | R65: =IF($H65=0,"",$Q65+$M65) | S65: =IF($H65=0,"",$R65-$O65) | T65: =IF($I65=0,"",$I65*$D65) | U65: =IF($H65=0,"",$R65-$T65)
L66: =IF($E66=0,"",$E66*$D66) | M66: =IF($E66=0,"",F66*D66*Average_notional_PV_CO2_factor) | N66: =IF($G66=0,"",$G66*$D66) | O66: =IF($G66=0,"",$N66+$M66) | P66: =IF($G66=0,"",$L66-O66) | Q66: =IF($H66=0,"",$H66*$D66) | R66: =IF($H66=0,"",$Q66+$M66) | S66: =IF($H66=0,"",$R66-$O66) | T66: =IF($I66=0,"",$I66*$D66) | U66: =IF($H66=0,"",$R66-$T66)
L67: =IF($E67=0,"",$E67*$D67) | M67: =IF($E67=0,"",F67*D67*Average_notional_PV_CO2_factor) | N67: =IF($G67=0,"",$G67*$D67) | O67: =IF($G67=0,"",$N67+$M67) | P67: =IF($G67=0,"",$L67-O67) | Q67: =IF($H67=0,"",$H67*$D67) | R67: =IF($H67=0,"",$Q67+$M67) | S67: =IF($H67=0,"",$R67-$O67) | T67: =IF($I67=0,"",$I67*$D67) | U67: =IF($H67=0,"",$R67-$T67)
L68: =IF($E68=0,"",$E68*$D68) | M68: =IF($E68=0,"",F68*D68*Average_notional_PV_CO2_factor) | N68: =IF($G68=0,"",$G68*$D68) | O68: =IF($G68=0,"",$N68+$M68) | P68: =IF($G68=0,"",$L68-O68) | Q68: =IF($H68=0,"",$H68*$D68) | R68: =IF($H68=0,"",$Q68+$M68) | S68: =IF($H68=0,"",$R68-$O68) | T68: =IF($I68=0,"",$I68*$D68) | U68: =IF($H68=0,"",$R68-$T68)
L69: =IF($E69=0,"",$E69*$D69) | M69: =IF($E69=0,"",F69*D69*Average_notional_PV_CO2_factor) | N69: =IF($G69=0,"",$G69*$D69) | O69: =IF($G69=0,"",$N69+$M69) | P69: =IF($G69=0,"",$L69-O69) | Q69: =IF($H69=0,"",$H69*$D69) | R69: =IF($H69=0,"",$Q69+$M69) | S69: =IF($H69=0,"",$R69-$O69) | T69: =IF($I69=0,"",$I69*$D69) | U69: =IF($H69=0,"",$R69-$T69)
L70: =IF($E70=0,"",$E70*$D70) | M70: =IF($E70=0,"",F70*D70*Average_notional_PV_CO2_factor) | N70: =IF($G70=0,"",$G70*$D70) | O70: =IF($G70=0,"",$N70+$M70) | P70: =IF($G70=0,"",$L70-O70) | Q70: =IF($H70=0,"",$H70*$D70) | R70: =IF($H70=0,"",$Q70+$M70) | S70: =IF($H70=0,"",$R70-$O70) | T70: =IF($I70=0,"",$I70*$D70) | U70: =IF($H70=0,"",$R70-$T70)
L71: =IF($E71=0,"",$E71*$D71) | M71: =IF($E71=0,"",F71*D71*Average_notional_PV_CO2_factor) | N71: =IF($G71=0,"",$G71*$D71) | O71: =IF($G71=0,"",$N71+$M71) | P71: =IF($G71=0,"",$L71-O71) | Q71: =IF($H71=0,"",$H71*$D71) | R71: =IF($H71=0,"",$Q71+$M71) | S71: =IF($H71=0,"",$R71-$O71) | T71: =IF($I71=0,"",$I71*$D71) | U71: =IF($H71=0,"",$R71-$T71)
L72: =IF($E72=0,"",$E72*$D72) | M72: =IF($E72=0,"",F72*D72*Average_notional_PV_CO2_factor) | N72: =IF($G72=0,"",$G72*$D72) | O72: =IF($G72=0,"",$N72+$M72) | P72: =IF($G72=0,"",$L72-O72) | Q72: =IF($H72=0,"",$H72*$D72) | R72: =IF($H72=0,"",$Q72+$M72) | S72: =IF($H72=0,"",$R72-$O72) | T72: =IF($I72=0,"",$I72*$D72) | U72: =IF($H72=0,"",$R72-$T72)
L73: =IF($E73=0,"",$E73*$D73) | M73: =IF($E73=0,"",F73*D73*Average_notional_PV_CO2_factor) | N73: =IF($G73=0,"",$G73*$D73) | O73: =IF($G73=0,"",$N73+$M73) | P73: =IF($G73=0,"",$L73-O73) | Q73: =IF($H73=0,"",$H73*$D73) | R73: =IF($H73=0,"",$Q73+$M73) | S73: =IF($H73=0,"",$R73-$O73) | T73: =IF($I73=0,"",$I73*$D73) | U73: =IF($H73=0,"",$R73-$T73)
...

Sheet EUI & space heating demand
A1: Applicants can use the ‘be seen’ methodology or an alternative predictive energy modelling methodology to fill in this tab. Where ‘be seen’ reporting is used the reported EUI and space heating demand should align with energy consumption data reported in the planning stage submission for the ‘be seen’ policy, submitted via the online webform.
A2: Residential predicted energy use
A3: Building type | B3: GIA (m2) | C3: EUI & space heating demand (kWh/year) | L3: Has the following energy use been included? | N3: Results | P3: Table 4 of the guidance comparison | R3: Methodology used
C4: Space heating demand | D4: Annual Electricity Use | E4: Annual Gas Use | F4: Annual Oil Use | G4: Annual Biomass Use | H4: Annual District Htg Use | I4: Annual District Clg Use | J4: Elec Generation, Gross | K4: Solar Thermal Generation | L4: Regulated | M4: Unregulated | N4: EUI (kWh/m2/year) (excluding renewable energy) | O4: Space heating demand (kWh/m2/year) (excluding renewable energy) | P4: EUI value from Table 4 of the guidance (kWh/m2/year) (excluding renewable energy) | Q4: Space heating demand from Table 4 of the guidance (kWh/m2/year) (excluding renewable energy) | R4: Software | S4: Operational energy use assessment | T4: notes (if expected performance differs from the Table 4 values in the guidance or other software used)
F5: if applicable | G5: if applicable | H5: if applicable | I5: if applicable | J5: if applicable | K5: if applicable
A6: Residential use (total) | N6: =IF('EUI & space heating demand'!B6="","",SUM('EUI & space heating demand'!$D$6:$I$7)/SUM('EUI & space heating demand'!$B$6:$B$7)) | O6: =IF('EUI & space heating demand'!B6="","",'EUI & space heating demand'!C6/'EUI & space heating demand'!B6) | P6: =IF('EUI & space heating demand'!B6="","",Tables!B29) | Q6: =IF('EUI & space heating demand'!B6="","",Tables!C29)
A7: Landlord Circulation (in Residential Blocks)
A8: Total | B8: =SUM(B6:B7) -> 0 | C8: =SUM(C6:C7) -> 0 | D8: =SUM(D6:D7) -> 0 | E8: =SUM(E6:E7) -> 0 | F8: =SUM(F6:F7) -> 0 | G8: =SUM(G6:G7) -> 0 | H8: =SUM(H6:H7) -> 0 | I8: =SUM(I6:I7) -> 0 | ... K8: =SUM(K6:K7) -> 0
A9: Non-residential predicted energy use
A10: Building type | B10: GIA (m2) | C10: EUI & space heating demand (kWh/year) | L10: Has the following energy use been included? | N10: Results | P10: Table 4 of the guidance comparison | R10: Methodology used
C11: Space heating demand | D11: Annual Electricity Use | E11: Annual Gas Use | F11: Annual Oil Use | G11: Annual Biomass Use | H11: Annual District Htg Use | I11: Annual District Clg Use | J11: Elec Generation, Gross | K11: Solar Thermal Generation | L11: Regulated | M11: Unregulated | N11: EUI (kWh/m2/year) (excluding renewable energy) | O11: Space heating demand (kWh/m2/year) (excluding renewable energy) | P11: EUI value from Table 4 of the guidance (kWh/m2/year) (excluding renewable energy) | Q11: Space heating demand from Table 4 of the guidance (kWh/m2/year) (excluding renewable energy) | R11: Software | S11: Operational energy use assessment | T11: notes (if expected performance differs from the Table 4 values in the guidance or other software used)
F12: if applicable | G12: if applicable | H12: if applicable | I12: if applicable | J12: if applicable | K12: if applicable
N13: =IF('EUI & space heating demand'!B13="","",SUM('EUI & space heating demand'!$D13:$K13)/'EUI & space heating demand'!B13) | O13: =IF('EUI & space heating demand'!B13="","",'EUI & space heating demand'!C13/'EUI & space heating demand'!B13) | P13: =IF('EUI & space heating demand'!B13="","", VLOOKUP(A13,Tables!$A$24:$C$27,2)) | Q13: =IF('EUI & space heating demand'!B13="","", VLOOKUP(A13,Tables!$A$24:$C$27,3))
N14: =IF('EUI & space heating demand'!B14="","",SUM('EUI & space heating demand'!$D14:$K14)/'EUI & space heating demand'!B14) | O14: =IF('EUI & space heating demand'!B14="","",'EUI & space heating demand'!C14/'EUI & space heating demand'!B14) | P14: =IF('EUI & space heating demand'!B14="","", VLOOKUP(A14,Tables!$A$24:$C$27,2)) | Q14: =IF('EUI & space heating demand'!B14="","", VLOOKUP(A14,Tables!$A$24:$C$27,3))
N15: =IF('EUI & space heating demand'!B15="","",SUM('EUI & space heating demand'!$D15:$K15)/'EUI & space heating demand'!B15) | O15: =IF('EUI & space heating demand'!B15="","",'EUI & space heating demand'!C15/'EUI & space heating demand'!B15) | P15: =IF('EUI & space heating demand'!B15="","", VLOOKUP(A15,Tables!$A$24:$C$27,2)) | Q15: =IF('EUI & space heating demand'!B15="","", VLOOKUP(A15,Tables!$A$24:$C$27,3))
N16: =IF('EUI & space heating demand'!B16="","",SUM('EUI & space heating demand'!$D16:$K16)/'EUI & space heating demand'!B16) | O16: =IF('EUI & space heating demand'!B16="","",'EUI & space heating demand'!C16/'EUI & space heating demand'!B16) | P16: =IF('EUI & space heating demand'!B16="","", VLOOKUP(A16,Tables!$A$24:$C$27,2)) | Q16: =IF('EUI & space heating demand'!B16="","", VLOOKUP(A16,Tables!$A$24:$C$27,3))
N17: =IF('EUI & space heating demand'!B17="","",SUM('EUI & space heating demand'!$D17:$K17)/'EUI & space heating demand'!B17) | O17: =IF('EUI & space heating demand'!B17="","",'EUI & space heating demand'!C17/'EUI & space heating demand'!B17) | P17: =IF('EUI & space heating demand'!B17="","", VLOOKUP(A17,Tables!$A$24:$C$27,2)) | Q17: =IF('EUI & space heating demand'!B17="","", VLOOKUP(A17,Tables!$A$24:$C$27,3))
N18: =IF('EUI & space heating demand'!B18="","",SUM('EUI & space heating demand'!$D18:$K18)/'EUI & space heating demand'!B18) | O18: =IF('EUI & space heating demand'!B18="","",'EUI & space heating demand'!C18/'EUI & space heating demand'!B18) | P18: =IF('EUI & space heating demand'!B18="","", VLOOKUP(A18,Tables!$A$24:$C$27,2)) | Q18: =IF('EUI & space heating demand'!B18="","", VLOOKUP(A18,Tables!$A$24:$C$27,3))
N19: =IF('EUI & space heating demand'!B19="","",SUM('EUI & space heating demand'!$D19:$K19)/'EUI & space heating demand'!B19) | O19: =IF('EUI & space heating demand'!B19="","",'EUI & space heating demand'!C19/'EUI & space heating demand'!B19) | P19: =IF('EUI & space heating demand'!B19="","", VLOOKUP(A19,Tables!$A$24:$C$27,2)) | Q19: =IF('EUI & space heating demand'!B19="","", VLOOKUP(A19,Tables!$A$24:$C$27,3))
N20: =IF('EUI & space heating demand'!B20="","",SUM('EUI & space heating demand'!$D20:$K20)/'EUI & space heating demand'!B20) | O20: =IF('EUI & space heating demand'!B20="","",'EUI & space heating demand'!C20/'EUI & space heating demand'!B20) | P20: =IF('EUI & space heating demand'!B20="","", VLOOKUP(A20,Tables!$A$24:$C$27,2)) | Q20: =IF('EUI & space heating demand'!B20="","", VLOOKUP(A20,Tables!$A$24:$C$27,3))
N21: =IF('EUI & space heating demand'!B21="","",SUM('EUI & space heating demand'!$D21:$K21)/'EUI & space heating demand'!B21) | O21: =IF('EUI & space heating demand'!B21="","",'EUI & space heating demand'!C21/'EUI & space heating demand'!B21) | P21: =IF('EUI & space heating demand'!B21="","", VLOOKUP(A21,Tables!$A$24:$C$27,2)) | Q21: =IF('EUI & space heating demand'!B21="","", VLOOKUP(A21,Tables!$A$24:$C$27,3))
N22: =IF('EUI & space heating demand'!B22="","",SUM('EUI & space heating demand'!$D22:$K22)/'EUI & space heating demand'!B22) | O22: =IF('EUI & space heating demand'!B22="","",'EUI & space heating demand'!C22/'EUI & space heating demand'!B22) | P22: =IF('EUI & space heating demand'!B22="","", VLOOKUP(A22,Tables!$A$24:$C$27,2)) | Q22: =IF('EUI & space heating demand'!B22="","", VLOOKUP(A22,Tables!$A$24:$C$27,3))
N23: =IF('EUI & space heating demand'!B23="","",SUM('EUI & space heating demand'!$D23:$K23)/'EUI & space heating demand'!B23) | O23: =IF('EUI & space heating demand'!B23="","",'EUI & space heating demand'!C23/'EUI & space heating demand'!B23) | P23: =IF('EUI & space heating demand'!B23="","", VLOOKUP(A23,Tables!$A$24:$C$27,2)) | Q23: =IF('EUI & space heating demand'!B23="","", VLOOKUP(A23,Tables!$A$24:$C$27,3))
O24: =IF('EUI & space heating demand'!B24="","",'EUI & space heating demand'!C24/'EUI & space heating demand'!B24) | P24: =IF('EUI & space heating demand'!B24="","", VLOOKUP(A24,Tables!$A$24:$C$27,2)) | Q24: =IF('EUI & space heating demand'!B24="","", VLOOKUP(A24,Tables!$A$24:$C$27,3))
N25: =IF('EUI & space heating demand'!B25="","",SUM('EUI & space heating demand'!$D25:$K25)/'EUI & space heating demand'!B25) | O25: =IF('EUI & space heating demand'!B25="","",'EUI & space heating demand'!C25/'EUI & space heating demand'!B25) | P25: =IF('EUI & space heating demand'!B25="","", VLOOKUP(A25,Tables!$A$24:$C$27,2)) | Q25: =IF('EUI & space heating demand'!B25="","", VLOOKUP(A25,Tables!$A$24:$C$27,3))
N26: =IF('EUI & space heating demand'!B26="","",SUM('EUI & space heating demand'!$D26:$K26)/'EUI & space heating demand'!B26) | O26: =IF('EUI & space heating demand'!B26="","",'EUI & space heating demand'!C26/'EUI & space heating demand'!B26) | P26: =IF('EUI & space heating demand'!B26="","", VLOOKUP(A26,Tables!$A$24:$C$27,2)) | Q26: =IF('EUI & space heating demand'!B26="","", VLOOKUP(A26,Tables!$A$24:$C$27,3))
N27: =IF('EUI & space heating demand'!B27="","",SUM('EUI & space heating demand'!$D27:$K27)/'EUI & space heating demand'!B27) | O27: =IF('EUI & space heating demand'!B27="","",'EUI & space heating demand'!C27/'EUI & space heating demand'!B27) | P27: =IF('EUI & space heating demand'!B27="","", VLOOKUP(A27,Tables!$A$24:$C$27,2)) | Q27: =IF('EUI & space heating demand'!B27="","", VLOOKUP(A27,Tables!$A$24:$C$27,3))
N28: =IF('EUI & space heating demand'!B28="","",SUM('EUI & space heating demand'!$D28:$K28)/'EUI & space heating demand'!B28) | O28: =IF('EUI & space heating demand'!B28="","",'EUI & space heating demand'!C28/'EUI & space heating demand'!B28) | P28: =IF('EUI & space heating demand'!B28="","", VLOOKUP(A28,Tables!$A$24:$C$27,2)) | Q28: =IF('EUI & space heating demand'!B28="","", VLOOKUP(A28,Tables!$A$24:$C$27,3))
N29: =IF('EUI & space heating demand'!B29="","",SUM('EUI & space heating demand'!$D29:$K29)/'EUI & space heating demand'!B29) | O29: =IF('EUI & space heating demand'!B29="","",'EUI & space heating demand'!C29/'EUI & space heating demand'!B29) | P29: =IF('EUI & space heating demand'!B29="","", VLOOKUP(A29,Tables!$A$24:$C$27,2)) | Q29: =IF('EUI & space heating demand'!B29="","", VLOOKUP(A29,Tables!$A$24:$C$27,3))
N30: =IF('EUI & space heating demand'!B30="","",SUM('EUI & space heating demand'!$D30:$K30)/'EUI & space heating demand'!B30) | O30: =IF('EUI & space heating demand'!B30="","",'EUI & space heating demand'!C30/'EUI & space heating demand'!B30) | P30: =IF('EUI & space heating demand'!B30="","", VLOOKUP(A30,Tables!$A$24:$C$27,2)) | Q30: =IF('EUI & space heating demand'!B30="","", VLOOKUP(A30,Tables!$A$24:$C$27,3))
N31: =IF('EUI & space heating demand'!B31="","",SUM('EUI & space heating demand'!$D31:$K31)/'EUI & space heating demand'!B31) | O31: =IF('EUI & space heating demand'!B31="","",'EUI & space heating demand'!C31/'EUI & space heating demand'!B31) | P31: =IF('EUI & space heating demand'!B31="","", VLOOKUP(A31,Tables!$A$24:$C$27,2)) | Q31: =IF('EUI & space heating demand'!B31="","", VLOOKUP(A31,Tables!$A$24:$C$27,3))
N32: =IF('EUI & space heating demand'!B32="","",SUM('EUI & space heating demand'!$D32:$K32)/'EUI & space heating demand'!B32) | O32: =IF('EUI & space heating demand'!B32="","",'EUI & space heating demand'!C32/'EUI & space heating demand'!B32) | P32: =IF('EUI & space heating demand'!B32="","", VLOOKUP(A32,Tables!$A$24:$C$27,2)) | Q32: =IF('EUI & space heating demand'!B32="","", VLOOKUP(A32,Tables!$A$24:$C$27,3))
A33: Total | B33: =SUM(B13:B32) -> 0 | C33: =SUM(C13:C32) -> 0 | D33: =SUM(D13:D32) -> 0 | E33: =SUM(E13:E32) -> 0 | F33: =SUM(F13:F32) -> 0 | G33: =SUM(G13:G32) -> 0 | H33: =SUM(H13:H32) -> 0 | I33: =SUM(I13:I32) -> 0 | ... K33: =SUM(K13:K32) -> 0

Sheet GLA Summary Tables
B1: Part L 2021 Performance
B2: Residential | H2: Non-residential
B4: Table 1: Carbon Dioxide Emissions after each stage of the Energy Hierarchy for residential buildings | H4: Table 3: Carbon Dioxide Emissions after each stage of the Energy Hierarchy for non-residential buildings
C6: Carbon Dioxide Emissions for residential buildings (Tonnes CO2 per annum) | I6: Carbon Dioxide Emissions for non-residential buildings (Tonnes CO2 per annum)
C7: Regulated | D7: Unregulated | I7: Regulated | J7: Unregulated
B8: Baseline: Part L 2021 of the Building Regulations Compliant Development | C8: ='Part L Outputs'!L58/1000 -> 20.096154 | H8: Baseline: Part L 2021 of the Building Regulations Compliant Development | I8: ='Part L Outputs'!L94/1000 -> 0
B9: After energy demand reduction (be lean) | C9: ='Part L Outputs'!O58/1000 -> 7.1227 | H9: After energy demand reduction (be lean) | I9: ='Part L Outputs'!O94/1000 -> 0
B10: After heat network connection (be clean) | C10: ='Part L Outputs'!R58/1000 -> 7.1227 | H10: After heat network connection (be clean) | I10: ='Part L Outputs'!R94/1000 -> 0
B11: After renewable energy (be green) | C11: ='Part L Outputs'!T58/1000 -> 3.6271724 | H11: After renewable energy (be green) | I11: ='Part L Outputs'!T94/1000 -> 0
B14: Table 2: Regulated Carbon Dioxide savings from each stage of the Energy Hierarchy for residential buildings | H14: Table 4: Regulated Carbon Dioxide savings from each stage of the Energy Hierarchy for non-residential buildings
C16: Regulated residential carbon dioxide savings | I16: Regulated non-residential carbon dioxide savings
C17: (Tonnes CO2 per annum) | D17: (%) | I17: (Tonnes CO2 per annum) | J17: (%)
B18: Be lean: savings from energy demand reduction | C18: =C8-C9 -> 12.973454 | D18: =IFERROR(C18/C8,0) -> 0.64556899 | H18: Be lean: savings from energy demand reduction | I18: =I8-I9 -> 0 | J18: =IFERROR(I18/I8,0) -> 0
B19: Be clean: savings from heat network | C19: =C9-C10 -> 0 | D19: =IFERROR(C19/C8,0) -> 0 | H19: Be clean: savings from heat network | I19: =I9-I10 -> 0 | J19: =IFERROR(I19/I8,0) -> 0
B20: Be green: savings from renewable energy | C20: =C10-C11 -> 3.4955276 | D20: =IFERROR(C20/C8,0) -> 0.17394013 | H20: Be green: savings from renewable energy | I20: =I10-I11 -> 0 | J20: =IFERROR(I20/I8,0) -> 0
B21: Cumulative on site savings | C21: =C8-C11 -> 16.468981 | D21: =IFERROR(C21/C8,0) -> 0.81950912 | H21: Total Cumulative Savings | I21: =I8-I11 -> 0 | J21: =IFERROR(I21/I8,0) -> 0
B22: Annual savings from off-set payment | C22: =(C8-C21) -> 3.6271724 | D22: - | H22: Annual savings from off-set payment | I22: =(I8-I21) -> 0 | J22: -
C23: (Tonnes CO2) | I23: (Tonnes CO2)
B24: Cumulative savings for off-set payment | C24: =C22*30 -> 108.81517 | D24: - | H24: Cumulative savings for off-set payment | I24: =I22*30 -> 0 | J24: -
B25: Cash in-lieu contribution (£) | C25: =IFERROR(IF('Development Information'!$D$10=0,C22*95*30,C22*'Development Information'!$D$10*30),"") -> 10337.441 | H25: Cash in-lieu contribution (£) | I25: =IFERROR(IF('Development Information'!$D$10=0,I22*95*30,I22*'Development Information'!$D$10*30),"") -> 0
B26: *carbon price is based on GLA recommended price of £95 per tonne of carbon dioxide unless Local Planning Authority price is inputted in the 'Development Information' tab | H26: *carbon price is based on GLA recommended price of £95 per tonne of carbon dioxide unless Local Planning Authority price is inputted in the 'Development Information' tab
B58: SITE-WIDE
C60: Total regulated emissions (Tonnes CO2 / year) | D60: CO2 savings (Tonnes CO2 / year) | E60: Percentage savings (%) | I60: Target Fabric Energy Efficiency (kWh/m²) | J60: Dwelling Fabric Energy Efficiency (kWh/m²) | K60: Improvement (%)
B61: Part L 2021 baseline | C61: ='Part L Outputs'!L96/1000 -> 20.096154 | F61: =$C$61 -> 20.096154 | H61: Development total | I61: =IFERROR('Part L Outputs'!J58,"") -> 44.315416 | J61: =IFERROR('Part L Outputs'!K58,"") -> 42.371157 | K61: =IFERROR(1-J61/I61,"") -> 0.043873192
B62: Be lean | C62: ='Part L Outputs'!O96/1000 -> 7.1227 | D62: =C61-C62 -> 12.973454 | E62: =IFERROR(D62/C61,0) -> 0.64556899 | F62: =$C$61 -> 20.096154
B63: Be clean | C63: ='Part L Outputs'!R96/1000 -> 7.1227 | D63: =C62-C63 -> 0 | E63: =IFERROR(D63/C61,0) -> 0 | F63: =$C$61 -> 20.096154
B64: Be green | C64: ='Part L Outputs'!T96/1000 -> 3.6271724 | D64: =C63-C64 -> 3.4955276 | E64: =IFERROR(D64/C61,0) -> 0.17394013 | F64: =$C$61 -> 20.096154 | I64: Area weighted non-residential cooling demand (MJ/m2) | J64: Total non-residential cooling demand (MJ/year)2
B65: Total Savings | C65: - | D65: =SUM(D62:D64) -> 16.468981 | E65: =IFERROR(D65/C61,0) -> 0.81950912 | F65: =$C$61 -> 20.096154 | H65: Actual
C66: - | D66: CO2 savings off-set (Tonnes CO2) | E66: - | H66: Notional
B67: Off-set | C67: - | D67: =C24+I24 -> 108.81517 | E67: -
B69: EUI & space heating demand (predicted energy use)
B70: Residential
B71: Building type | C71: EUI (kWh/m2/year) (excluding renewable energy) | D71: Space heating demand (kWh/m2/year) (excluding renewable energy) | E71: EUI value from Table 4 of the guidance (kWh/m2/year) (excluding renewable energy) | F71: Space heating demand from Table 4 of the guidance(kWh/m2/year) (excluding renewable energy) | G71: Methodology used (e.g. ‘be seen’ methodology or an alternative predictive energy modelling methodology) | I71: Explanatory notes (if expected performance differs from the Table 4 values in the guidance)
B72: =IF('EUI & space heating demand'!$B$6="","","Residential") | C72: =IF('EUI & space heating demand'!$B$6="","",'EUI & space heating demand'!N6) | D72: =IF('EUI & space heating demand'!$B$6="","",'EUI & space heating demand'!O6) | E72: =IF('EUI & space heating demand'!B6="","", 'EUI & space heating demand'!P6) | F72: =IF('EUI & space heating demand'!B6="","", 'EUI & space heating demand'!Q6) | G72: =IF('EUI & space heating demand'!$B$6="","",CONCATENATE('EUI & space heating demand'!R6, " & ", 'EUI & space heating demand'!S6, " dwellings / ", 'EUI & space heating demand'!R7, " & ", 'EUI & space heating demand'!S7, " Landlord Circulation " )) | I72: =IF('EUI & space heating demand'!T6="","", CONCATENATE('EUI & space heating demand'!T6, " & ", 'EUI & space heating demand'!T7))
B73: Non-residential
B74: Building type | C74: EUI (kWh/m2/year) (excluding renewable energy) | D74: Space heating demand (kWh/m2/year) (excluding renewable energy) | E74: EUI value from Table 4 of the guidance (kWh/m2/year) (excluding renewable energy) | F74: Space heating demand from Table 4 of the guidance(kWh/m2/year) (excluding renewable energy) | G74: Methodology used (e.g. ‘be seen’ methodology or an alternative predictive energy modelling methodology) | I74: Explanatory notes (if expected performance differs from the Table 4 values in the guidance)
B75: =IF('EUI & space heating demand'!B13="","",'EUI & space heating demand'!A13) | C75: =IF('EUI & space heating demand'!B13="","",'EUI & space heating demand'!N13) | D75: =IF('EUI & space heating demand'!B13="","",'EUI & space heating demand'!O13) | E75: =IF('EUI & space heating demand'!B13="","", 'EUI & space heating demand'!P13) | F75: =IF('EUI & space heating demand'!B13="","", 'EUI & space heating demand'!Q13) | G75: =IF('EUI & space heating demand'!B13="","",CONCATENATE('EUI & space heating demand'!R13," & ",'EUI & space heating demand'!S13)) | I75: =IF('EUI & space heating demand'!T13="","", 'EUI & space heating demand'!T13)
B76: =IF('EUI & space heating demand'!B14="","",'EUI & space heating demand'!A14) | C76: =IF('EUI & space heating demand'!B14="","",'EUI & space heating demand'!N14) | D76: =IF('EUI & space heating demand'!B14="","",'EUI & space heating demand'!O14) | E76: =IF('EUI & space heating demand'!B14="","", 'EUI & space heating demand'!P14) | F76: =IF('EUI & space heating demand'!B14="","", 'EUI & space heating demand'!Q14) | G76: =IF('EUI & space heating demand'!B14="","",CONCATENATE('EUI & space heating demand'!R14," & ",'EUI & space heating demand'!S14)) | I76: =IF('EUI & space heating demand'!T14="","", 'EUI & space heating demand'!T14)
B77: =IF('EUI & space heating demand'!B15="","",'EUI & space heating demand'!A15) | C77: =IF('EUI & space heating demand'!B15="","",'EUI & space heating demand'!N15) | D77: =IF('EUI & space heating demand'!B15="","",'EUI & space heating demand'!O15) | E77: =IF('EUI & space heating demand'!B15="","", 'EUI & space heating demand'!P15) | F77: =IF('EUI & space heating demand'!B15="","", 'EUI & space heating demand'!Q15) | G77: =IF('EUI & space heating demand'!B15="","",CONCATENATE('EUI & space heating demand'!R15," & ",'EUI & space heating demand'!S15)) | I77: =IF('EUI & space heating demand'!T15="","", 'EUI & space heating demand'!T15)
B78: =IF('EUI & space heating demand'!B16="","",'EUI & space heating demand'!A16) | C78: =IF('EUI & space heating demand'!B16="","",'EUI & space heating demand'!N16) | D78: =IF('EUI & space heating demand'!B16="","",'EUI & space heating demand'!O16) | E78: =IF('EUI & space heating demand'!B16="","", 'EUI & space heating demand'!P16) | F78: =IF('EUI & space heating demand'!B16="","", 'EUI & space heating demand'!Q16) | G78: =IF('EUI & space heating demand'!B16="","",CONCATENATE('EUI & space heating demand'!R16," & ",'EUI & space heating demand'!S16)) | I78: =IF('EUI & space heating demand'!T16="","", 'EUI & space heating demand'!T16)
...

Sheet Tables
A3: Average notional PV CO2 factor | B3: 0.128744
A5: Results format for tables
A6: Residential results
A7: Part L 2021 | D7: ='GLA Summary Tables'!C$8 -> 20.096154 | E7: =D7*0.65 -> 13.0625
A8: Be lean | B8: ='GLA Summary Tables'!C9 -> 7.1227 | C8: =IF(B8<0,IF('GLA Summary Tables'!C18<0,0,'GLA Summary Tables'!C18)+B8,IF('GLA Summary Tables'!C18<0,0,'GLA Summary Tables'!C18)) -> 12.973454 | D8: ='GLA Summary Tables'!C$8 -> 20.096154 | E8: =D8*0.65 -> 13.0625
A9: Be Clean | B9: ='GLA Summary Tables'!C10 -> 7.1227 | C9: =IF(B9<0,IF('GLA Summary Tables'!C19<0,0,'GLA Summary Tables'!C19)+B9,IF('GLA Summary Tables'!C19<0,0,'GLA Summary Tables'!C19)) -> 0 | D9: ='GLA Summary Tables'!C$8 -> 20.096154 | E9: =D9*0.65 -> 13.0625
A10: Be Green | B10: ='GLA Summary Tables'!C11 -> 3.6271724 | C10: =IF(B10<0,IF('GLA Summary Tables'!C20<0,0,'GLA Summary Tables'!C20)+B10,IF('GLA Summary Tables'!C20<0,0,'GLA Summary Tables'!C20)) -> 3.4955276 | D10: ='GLA Summary Tables'!C$8 -> 20.096154 | E10: =D10*0.65 -> 13.0625
A11: Further off-set payment | B11: 0 | C11: ='GLA Summary Tables'!C22 -> 3.6271724 | D11: ='GLA Summary Tables'!C$8 -> 20.096154 | E11: =D11*0.65 -> 13.0625
D12: ='GLA Summary Tables'!C$8 -> 20.096154 | E12: =D12*0.65 -> 13.0625
A13: Non-residential results
A14: Part L 2021 | D14: ='GLA Summary Tables'!I$8 -> 0 | E14: =D14*0.65 -> 0
A15: Be lean | B15: ='GLA Summary Tables'!I9 -> 0 | C15: ='GLA Summary Tables'!I18 -> 0 | D15: ='GLA Summary Tables'!I$8 -> 0 | E15: =D15*0.65 -> 0
A16: Be Clean | B16: ='GLA Summary Tables'!I10 -> 0 | C16: ='GLA Summary Tables'!I19 -> 0 | D16: ='GLA Summary Tables'!I$8 -> 0 | E16: =D16*0.65 -> 0
A17: Be Green | B17: ='GLA Summary Tables'!I11 -> 0 | C17: ='GLA Summary Tables'!I20 -> 0 | D17: ='GLA Summary Tables'!I$8 -> 0 | E17: =D17*0.65 -> 0
A18: Further off-set payment | B18: 0 | C18: ='GLA Summary Tables'!I22 -> 0 | D18: ='GLA Summary Tables'!I$8 -> 0 | E18: =D18*0.65 -> 0
D19: ='GLA Summary Tables'!I$8 -> 0 | E19: =D19*0.65 -> 0
A21: EUI
B22: (kWh/m2/year) | C22: (kWh/m2/year)
A23: Building type | B23: Energy Use Intensity | C23: Space Heating
A24: All other non-residential | B24: 55 | C24: 15
A25: Hotel | B25: 55 | C25: 15
A26: Office | B26: 55 | C26: 15
A27: School | B27: 65 | C27: 15
A29: Residential | B29: 35 | C29: 15
